BEGIN:VCALENDAR
VERSION:2.0
PRODID:-//【HIRAETH.Tokyo】(ヒラエス.トーキョー) - ECPv6.11.2//NONSGML v1.0//EN
CALSCALE:GREGORIAN
METHOD:PUBLISH
X-ORIGINAL-URL:https://hiraeth.tokyo
X-WR-CALDESC:【HIRAETH.Tokyo】(ヒラエス.トーキョー) のイベント
REFRESH-INTERVAL;VALUE=DURATION:PT1H
X-Robots-Tag:noindex
X-PUBLISHED-TTL:PT1H
BEGIN:VTIMEZONE
TZID:Asia/Tokyo
BEGIN:STANDARD
TZOFFSETFROM:+0900
TZOFFSETTO:+0900
TZNAME:JST
DTSTART:20230101T000000
END:STANDARD
END:VTIMEZONE
BEGIN:VEVENT
DTSTART;VALUE=DATE:20231101
DTEND;VALUE=DATE:20231102
DTSTAMP:20260422T060938
CREATED:20231024T090758Z
LAST-MODIFIED:20231103T042353Z
UID:8175-1698796800-1698883199@hiraeth.tokyo
SUMMARY:466☆☆ばくパリィ♪@池袋AKビル
DESCRIPTION:▽日時　 11/1(水)\n▽イベント　466☆☆ばくパリィ♪\n ▽予約　https://t.livepocket.jp/e/ak1101\n10/24(火)23:30発売開始〜11/1(水)19:00迄\n ▽指名入場特典 \n▽LIVE　19:20〜19:45\n ▽物販　20:40〜21:40\n ▽会場　池袋AKビル\n ▽料金　前売優先2000円/前売通常1000円/当日+500円(各D別) \n▽開場　19:05\n ▽イベント時間　19:20〜(予定)\n▽出演　BAKUMON/えあらびゅー/ドリームパスポート/\n▼料金；(D別)\n▼入場順：①前売優先整理番号順②前売通常整理番号順③当日
URL:https://hiraeth.tokyo/event/20231101-1/
CATEGORIES:Live
ATTACH;FMTTYPE=image/jpeg:https://hiraeth.tokyo/wp-content/uploads/IMG_6257.jpeg
END:VEVENT
END:VCALENDAR