BEGIN:VCALENDAR
VERSION:2.0
PRODID:-//【HIRAETH.Tokyo】(ヒラエス.トーキョー) - ECPv6.11.2//NONSGML v1.0//EN
CALSCALE:GREGORIAN
METHOD:PUBLISH
X-WR-CALNAME:【HIRAETH.Tokyo】(ヒラエス.トーキョー)
X-ORIGINAL-URL:https://hiraeth.tokyo
X-WR-CALDESC:【HIRAETH.Tokyo】(ヒラエス.トーキョー) のイベント
REFRESH-INTERVAL;VALUE=DURATION:PT1H
X-Robots-Tag:noindex
X-PUBLISHED-TTL:PT1H
BEGIN:VTIMEZONE
TZID:Asia/Tokyo
BEGIN:STANDARD
TZOFFSETFROM:+0900
TZOFFSETTO:+0900
TZNAME:JST
DTSTART:20230101T000000
END:STANDARD
END:VTIMEZONE
BEGIN:VEVENT
DTSTART;VALUE=DATE:20231104
DTEND;VALUE=DATE:20231105
DTSTAMP:20260422T060835
CREATED:20230912T071615Z
LAST-MODIFIED:20231103T042650Z
UID:7755-1699056000-1699142399@hiraeth.tokyo
SUMMARY:467☆Girls Synthesizer mini@五反田G6
DESCRIPTION:▽日時　11/4(土)\n▽イベント　467☆Girls Synthesizer mini\n▽予約　https://t.livepocket.jp/e/gsmini1104\n▽LIVE　11:45～12:10\n▽物販　13:05～14:05終演後物販\n▽会場　五反田G6\n▽料金　前方2000/一般500/当日+500(各D別)\n▽開場　9:45\n▽イベント時間　10:00〜\n▽出演　えあらびゅー/NEÖN_/溺愛めりーごーらんど/iWannaDay/GiMMiCK/青藍ピリオド/PHiZZ/ \n▼注意事項\n・チケット代は前方のみ当日にお支払い\n・D代はどちらも当日払い\n・マスク着用会場ルール遵守\n・イベント中止あるいは延期しない限りチケットの払い戻し対応は行いません。また、出演者キャンセルやお休みによる払い戻し対応もできかねますので予めご了承ください。\n・ライブ中規制なし。\n・お客様同士の争いごとや揉め事が発生した場合、主催者判断によりイベントの進行に悪影響を及ぼすと判断した場合はいかなる理由でもリストバンド及びチケットの没収、今後のご入場をお断りさせて頂きます。その場合、チケット返金は行いません。
URL:https://hiraeth.tokyo/event/20231104-1/
LOCATION:五反田G6\, 西五反田2-6-3 東洋ビルB1階\, 品川区\, 東京都\, 141-0031\, 日本
CATEGORIES:Live
ATTACH;FMTTYPE=image/jpeg:https://hiraeth.tokyo/wp-content/uploads/IMG_6254.jpeg
END:VEVENT
END:VCALENDAR