BEGIN:VCALENDAR
VERSION:2.0
PRODID:-//【HIRAETH.Tokyo】(ヒラエス.トーキョー) - ECPv6.11.2//NONSGML v1.0//EN
CALSCALE:GREGORIAN
METHOD:PUBLISH
X-ORIGINAL-URL:https://hiraeth.tokyo
X-WR-CALDESC:【HIRAETH.Tokyo】(ヒラエス.トーキョー) のイベント
REFRESH-INTERVAL;VALUE=DURATION:PT1H
X-Robots-Tag:noindex
X-PUBLISHED-TTL:PT1H
BEGIN:VTIMEZONE
TZID:Asia/Tokyo
BEGIN:STANDARD
TZOFFSETFROM:+0900
TZOFFSETTO:+0900
TZNAME:JST
DTSTART:20230101T000000
END:STANDARD
END:VTIMEZONE
BEGIN:VEVENT
DTSTART;VALUE=DATE:20231112
DTEND;VALUE=DATE:20231113
DTSTAMP:20260422T070045
CREATED:20231006T020019Z
LAST-MODIFIED:20231109T105707Z
UID:8037-1699747200-1699833599@hiraeth.tokyo
SUMMARY:470☆☆Muse Music mini@六本木BIG HOUSE
DESCRIPTION:▽日時　11/12(日)\n▽イベント　470☆☆Muse Music mini\n▽予約　https://t.livepocket.jp/e/musemusicmini1 \n▽指名入場特典 \n・星2ラリーカード適用\n・囲み写メ\n（特典会開始後すぐにスタートします）\n・写メ又は動画1分取り放題\n（特典の囲み写メの後、指名入場券をお持ちの上、お目当てのメンバーと最初のチェキ撮影時に撮影下さい）\n▽LIVE　13:45〜14:05\n▽物販　14:15〜15:15\n▽会場　六本木BIG HOUSE\n▽料金　前方3000/一般2000(各D別) \n▽開場　10:30\n▽イベント時間　10:50〜\n▽出演　えあらびゅー/Poppins/ラブアグレッション/kimikara(きみから)/LOVE 9 LOVE/スプスラッシュ/エウレカ/はちみつBLACK/NaNiYoRi/Pety/RASCAL CLAN/蒼穹アンブレラ/CHERRY GIRLS PROJECT/iWannaDay/ニコニコ♡LOVERS/溺愛めりーごーらんど/LOVE CCiNO/すたーちす/Shupines/狂愛ストラテジー/
URL:https://hiraeth.tokyo/event/20231112-1/
CATEGORIES:Live
ATTACH;FMTTYPE=image/jpeg:https://hiraeth.tokyo/wp-content/uploads/IMG_6258.jpeg
END:VEVENT
END:VCALENDAR