BEGIN:VCALENDAR
VERSION:2.0
PRODID:-//【HIRAETH.Tokyo】(ヒラエス.トーキョー) - ECPv6.11.2//NONSGML v1.0//EN
CALSCALE:GREGORIAN
METHOD:PUBLISH
X-ORIGINAL-URL:https://hiraeth.tokyo
X-WR-CALDESC:【HIRAETH.Tokyo】(ヒラエス.トーキョー) のイベント
REFRESH-INTERVAL;VALUE=DURATION:PT1H
X-Robots-Tag:noindex
X-PUBLISHED-TTL:PT1H
BEGIN:VTIMEZONE
TZID:Asia/Tokyo
BEGIN:STANDARD
TZOFFSETFROM:+0900
TZOFFSETTO:+0900
TZNAME:JST
DTSTART:20230101T000000
END:STANDARD
END:VTIMEZONE
BEGIN:VEVENT
DTSTART;VALUE=DATE:20231119
DTEND;VALUE=DATE:20231120
DTSTAMP:20260422T060938
CREATED:20230823T084022Z
LAST-MODIFIED:20231107T093354Z
UID:6716-1700352000-1700438399@hiraeth.tokyo
SUMMARY:472☆みんなの秋フェス2023 IN千葉@千葉ポートパーク
DESCRIPTION:▽日時　11/19(日)\n▽イベント　472☆みんなの秋フェス2023 IN千葉\n▽予約　チケットは当日券のみの販売になります。\n▽LIVE　11:30〜11:50\n▽物販　11:55〜12:10(15)\n▽会場　千葉ポートパーク https://chiba-portpark.com/\n▽料金　通常:2000円/前方優先エリア:3000円/中学生以下:無料/\n▽開場　11:30\n▽イベント時間　〜16:30\n▽出演　えあらびゅー/アイドルカレッジ/カイジューバイミー/ジュリアナの祟り/ニコニコ♡STAGE/ニコニコ♡LOVERS/みらくる★ふぉーぜ/lonlium/他
URL:https://hiraeth.tokyo/event/20231119-1/
LOCATION:千葉ポートパーク\, 中央区中央港1\, 千葉市\, 千葉県\, 260-0024\, 日本
CATEGORIES:Live
ATTACH;FMTTYPE=image/png:https://hiraeth.tokyo/wp-content/uploads/みんなの秋フェス.png
END:VEVENT
END:VCALENDAR