BEGIN:VCALENDAR
VERSION:2.0
PRODID:-//【HIRAETH.Tokyo】(ヒラエス.トーキョー) - ECPv6.11.2//NONSGML v1.0//EN
CALSCALE:GREGORIAN
METHOD:PUBLISH
X-ORIGINAL-URL:https://hiraeth.tokyo
X-WR-CALDESC:【HIRAETH.Tokyo】(ヒラエス.トーキョー) のイベント
REFRESH-INTERVAL;VALUE=DURATION:PT1H
X-Robots-Tag:noindex
X-PUBLISHED-TTL:PT1H
BEGIN:VTIMEZONE
TZID:Asia/Tokyo
BEGIN:STANDARD
TZOFFSETFROM:+0900
TZOFFSETTO:+0900
TZNAME:JST
DTSTART:20230101T000000
END:STANDARD
END:VTIMEZONE
BEGIN:VEVENT
DTSTART;VALUE=DATE:20231123
DTEND;VALUE=DATE:20231124
DTSTAMP:20260422T060938
CREATED:20230912T075719Z
LAST-MODIFIED:20231205T120015Z
UID:7779-1700697600-1700783999@hiraeth.tokyo
SUMMARY:475☆いちごフェス@渋谷SHIBUYA ONE5
DESCRIPTION:▽日時　11/23(木祝)\n▽イベント　475☆いちごフェス\n▽予約　https://t.livepocket.jp/e/yh9du\n▽LIVE　12:35～13:00\n▽物販　終演後\n▽会場　渋谷SHIBUYA ONE5\n▽料金　前売り500/当日1000(各D別)\n▽開場　11:00\n▽イベント時間　11:20\n▽出演　えあらびゅー/ぱんぷるぽっぷ/そあとあめーむ。/Piuuuu/Mio Lavy/Fragrant Drive/ \n▷
URL:https://hiraeth.tokyo/event/20231123-1/
LOCATION:渋谷SHIBUYA ONE5\, 渋谷3-6-4 プライヤ渋谷B1F\, 渋谷区\, 東京都\, 150-0002\, 日本
CATEGORIES:Live
ATTACH;FMTTYPE=image/jpeg:https://hiraeth.tokyo/wp-content/uploads/S__34414615.jpg
END:VEVENT
END:VCALENDAR