BEGIN:VCALENDAR
VERSION:2.0
PRODID:-//【HIRAETH.Tokyo】(ヒラエス.トーキョー) - ECPv6.11.2//NONSGML v1.0//EN
CALSCALE:GREGORIAN
METHOD:PUBLISH
X-ORIGINAL-URL:https://hiraeth.tokyo
X-WR-CALDESC:【HIRAETH.Tokyo】(ヒラエス.トーキョー) のイベント
REFRESH-INTERVAL;VALUE=DURATION:PT1H
X-Robots-Tag:noindex
X-PUBLISHED-TTL:PT1H
BEGIN:VTIMEZONE
TZID:Asia/Tokyo
BEGIN:STANDARD
TZOFFSETFROM:+0900
TZOFFSETTO:+0900
TZNAME:JST
DTSTART:20230101T000000
END:STANDARD
END:VTIMEZONE
BEGIN:VEVENT
DTSTART;VALUE=DATE:20231126
DTEND;VALUE=DATE:20231127
DTSTAMP:20260422T070045
CREATED:20230912T075619Z
LAST-MODIFIED:20231205T120214Z
UID:7777-1700956800-1701043199@hiraeth.tokyo
SUMMARY:477池袋解放区 -FREE GIG-1部@池袋リヴォイス
DESCRIPTION:▽日時　11/26(日)\n▽イベント　477池袋解放区 -FREE GIG-1部\n▽予約　https://t.livepocket.jp/e/20231126revoice_1\n▽LIVE　16:25〜16:45\n▽物販　16:55〜17:55\n▽会場　池袋リヴォイス\n▽料金　予約0/当日500(各2D別)\n▽開場　14:55\n▽イベント時間　15:00(予定)\n▽出演　えあらびゅー/他
URL:https://hiraeth.tokyo/event/20231126-2/
LOCATION:池袋リヴォイス\, 池袋2-12-9 広瀬ビルB1\, 豊島区\, 東京都\, 171-0014\, 日本
CATEGORIES:Live
ATTACH;FMTTYPE=image/jpeg:https://hiraeth.tokyo/wp-content/uploads/1126池袋リヴォイス告知画像.jpeg
END:VEVENT
END:VCALENDAR