BEGIN:VCALENDAR
VERSION:2.0
PRODID:-//【HIRAETH.Tokyo】(ヒラエス.トーキョー) - ECPv6.11.2//NONSGML v1.0//EN
CALSCALE:GREGORIAN
METHOD:PUBLISH
X-ORIGINAL-URL:https://hiraeth.tokyo
X-WR-CALDESC:【HIRAETH.Tokyo】(ヒラエス.トーキョー) のイベント
REFRESH-INTERVAL;VALUE=DURATION:PT1H
X-Robots-Tag:noindex
X-PUBLISHED-TTL:PT1H
BEGIN:VTIMEZONE
TZID:Asia/Tokyo
BEGIN:STANDARD
TZOFFSETFROM:+0900
TZOFFSETTO:+0900
TZNAME:JST
DTSTART:20230101T000000
END:STANDARD
END:VTIMEZONE
BEGIN:VEVENT
DTSTART;VALUE=DATE:20231203
DTEND;VALUE=DATE:20231204
DTSTAMP:20260422T043305
CREATED:20230912T090002Z
LAST-MODIFIED:20231205T120310Z
UID:7791-1701561600-1701647999@hiraeth.tokyo
SUMMARY:478☆#ういらぶ 私のハート拾ってくれませんか？〜お披露目ライブ〜@新宿DHNoA
DESCRIPTION:▽日時　12/3(日)\n▽イベント　478☆#ういらぶ 私のハート拾ってくれませんか？〜お披露目ライブ〜\n▽予約　　https://t.livepocket.jp/e/ouilove-debut20231203\n▽LIVE　11:10〜11:45\n▽物販　13:00〜14:00\n▽会場　新宿DHNoA(でぃーえいちえぬおーえー)\n▽料金　S5000/A2000/ビラ0/当日+500/各D別\n▽開場　10:50\n▽イベント時間　11:15\n▽出演　えあらびゅー/#ういらぶ \n【公演情報】\n \n【タイムテーブル】\n \n【特典】\n \n【ゾーン】
URL:https://hiraeth.tokyo/event/20231203-2/
CATEGORIES:Live
ATTACH;FMTTYPE=image/jpeg:https://hiraeth.tokyo/wp-content/uploads/IMG_6391.jpeg
END:VEVENT
END:VCALENDAR