BEGIN:VCALENDAR
VERSION:2.0
PRODID:-//【HIRAETH.Tokyo】(ヒラエス.トーキョー) - ECPv6.11.2//NONSGML v1.0//EN
CALSCALE:GREGORIAN
METHOD:PUBLISH
X-ORIGINAL-URL:https://hiraeth.tokyo
X-WR-CALDESC:【HIRAETH.Tokyo】(ヒラエス.トーキョー) のイベント
REFRESH-INTERVAL;VALUE=DURATION:PT1H
X-Robots-Tag:noindex
X-PUBLISHED-TTL:PT1H
BEGIN:VTIMEZONE
TZID:Asia/Tokyo
BEGIN:STANDARD
TZOFFSETFROM:+0900
TZOFFSETTO:+0900
TZNAME:JST
DTSTART:20230101T000000
END:STANDARD
END:VTIMEZONE
BEGIN:VEVENT
DTSTART;VALUE=DATE:20231209
DTEND;VALUE=DATE:20231210
DTSTAMP:20260422T043305
CREATED:20230912T090132Z
LAST-MODIFIED:20231206T085133Z
UID:7795-1702080000-1702166399@hiraeth.tokyo
SUMMARY:480☆☆えあらびゅーpresents Vol.23"ことねーランド〜夢の国へようこそ〜in生誕祭"
DESCRIPTION:概要\n▽日時　12/9(土)10:40開場\n▽イベント　480☆☆えあらびゅーpresents Vol.23″ことねーランド～夢の国へようこそ～in生誕祭”\n▽予約　　\n・紙チケット　10/29(日)出演ライブ特典会〜12/8(金)までの手売タイミング\n・ネット販売　10/7(土)19:00〜12/9(土)8:59　\n　https://t.livepocket.jp/e/airlview-kotone2023\n※紙チケットとネット販売の違いは、入場順となります。(下記入場順をご確認ください)\n▽会場　五反田G2\n▽料金　Sチケット8000円 | 一般チケット2500円 | 当日+500円 | (各D別) | 再入場毎に1D\n▽入場チケット内容\n・Sチケット：会場への優先入場(下記入場順をご確認ください)、前方エリアへの優先入場、生誕ブロマイド1枚、チェキ券1枚(60秒、当日使用、サインなし)、アクキー(ことね生誕ver.)、ことね弾き語りCD\n・一般チケット：生誕ブロマイド1枚\n▽出演　えあらびゅー \n\n入場順\n\n・S紙チケ番号順→Sネット番号順→一般紙チケ番号順→一般ネット番号順→当日券並び順\n▽入場整理予定時間\n・12/9(土)AM10:00～入場列解消まで\n・入場順整理開始～入場時間：10:40～ \n▽入場整列場所\n・五反田G2会場前 \n▽入場までの流れ\nAM10:00頃に会場前内にて入場順のお知らせと整理を行い、順次スタッフにより入場のご案内をいたします。入場に必要なチケットや画面を予めご用意してお待ちください。 \nことね生誕祭について\nはじめに\nいつもえあらびゅーを応援して頂きありがとうございます！\n生誕イベントはメンバーやスタッフが皆様に感謝を伝え、応援して頂いている全ての方と喜びを共感させて頂く事を趣旨としております。\n上記の趣旨と様々なことを考慮した上で、今回ことね生誕祭につきましては運営主体での公式企画にて開催する運びとなりました。\nまた、生誕祭当日のサプライズ演出にご参加できるような形での企画もご用意しております。\nメンバーをメインに皆様が楽しんでいただける様に企画致しますので、当日の生誕祭を楽しみにお待ちいただけますと幸いです。 \n有志企画のお知らせ\nお客様同士や会場とのトラブルを防止するため、ことね生誕祭の企画・サプライズにつきましては公式有志で集まった金額をもって開催させていただきます。 \n【有志期間】10/6 19:00～11/30 23:59\n【有志方法】ネットもしくは特典会にて \nネット有志は⇒こちらから▶https://t.livepocket.jp/e/airlview-kotone2023-yuusi\n特典会有志は⇒有志券をお渡しいたします。 \n【金額】1口 : ¥1\,000\n※譲渡不可、分配不可、第三者との合算不可、複製禁止\n【※一次締切までにご購入いただいた方を対象にスタンドフラワーにお名前を掲載させていただきます】 \n▪️一次締切\n特典会→11/12(日) ラストライブの特典会終了まで\nネット→11/15(水)23:59まで\n【※一次締切までにご有志いただいた方を対象にスタンドフラワーにお名前を掲載させていただきます】 \n▪️最終締切\n特典会→11/26(日)ラストライブの特典会終了まで\nネット→11/30(木)23:59まで \n▪️掲載サイズ\n　1口→名前(小)\n　3口→名前(中)\n　5口以上→名前(大) \n一次締切の時点で有志額上位5名の方は、特大サイズでお名前を掲載させていただきます。\nまた、最終締切の時点で有志額上位5名の方には、【生誕祭当日のサプライズ演出へのご協力】を公式よりお願いさせていただきます。 \n▪️サプライズ演出ご協力内容\n①ちょっと待った！と声をかけていただく方\n②ことねへ直接バースデーケーキを渡す方\n③ことねへ直接メッセージカードを渡す方\n④ことねへ直接花束を渡す方\n⑤アンコールの声かけをしていただく方 \nご協力内容の選択権に関しましては、有志額1位の方から順番にご案内いたします。 \n対象となられました方は、12/1(金)以降にえあらびゅー公式Twitterより運営からDMにてご案内させていただきます。 \nご案内から回答締切までご返信いただけなかった場合、イベントを滞りなく成功させるため順位繰り下げで次の方へご案内いたしますので、何卒ご了承のほどよろしくお願いいたします。 \nQ&A よくある質問\nQ1. 締切の時点で、有志額が同額の方が複数名いた場合の対象者はどうなりますか？ \nA. 先着順でのご案内となります。インターネットでの決済の場合、購入時刻に基づき計算いたします。また、特典会でのご購入の場合、有志券をお渡しいたしますので半券と共に運営で管理しているデータに基づき計算させていただきます。 \nQ2. 6口購入したいのですが、5口以上はリターンなさそうなので、5口で購入するか迷っています。 \nA. ご質問ありがとうございます。上記掲載サイズにてお知らせした通り、最終締切時点で有志額上位5名の方には「生誕祭当日のサプライズ演出へのご協力」をお願いさせていただきたいと考えおります。5口以上ご購入いただいた方は、生誕祭当日のサプライズ演出にご参加できるチャンスが高まりますので、6口でのご購入をお勧めいたします。 \nQ3.サプライズ演出やスタフラに名前掲載など恥ずかしくてしたくないのですが…必ず参加しなければいけませんか？ \nA.どちらもご辞退可能です。\nスタフラに名前掲載を希望しない場合は、インターネット決済画面「有志券(名前なし)」をご選択いただきご購入をお願いします。また、特典会でのご購入をご検討の場合はスタッフにお気軽にお声かけください。サプライズ演出に関しましては、12/1(木)以降に有志額上位の方から順番にご案内を差し上げます。ご辞退される場合は、順位繰り下げで次の方へご案内いたしますのでご安心くださいませ。 \nQ4.有志したいけど、何に使われるか分からないので迷っています。。 \nA.皆さまからご有志いただくものはことね生誕祭開催のためにご利用いたします。ご希望の方は、生誕祭開催後、内訳を記載した明細をお送りいたしますのでえあらびゅー公式TwitterのDMまでお気軽にお申し付けください。 \nQ5.インターネットで購入したいのですが、有志券は貰えないのでしょうか？？ \nA.誠に申し訳ございませんが、有志券は特典会にご来場いただきました方限定でのお渡しとなります。何卒ご了承のほどよろしくお願いいたします。 \nQ6.インターネットでチケットを購入した場合に、紙のチケットは貰えないのでしょうか？？ \nA.誠に申し訳ございませんが、入場チケットは対面販売でのお渡しとなります。何卒ご了承のほどよろしくお願いいたします。 \n▶その他ご質問のある方は、えあらびゅー公式TwitterのDMもしくは、特典会スタッフまでお気軽にお声がけくださいませ。\nhttps://twitter.com/airlview \nタイムテーブル\n\n▽入場順整理～開場　10:00～\n▽LIVE　11:00〜13:10\n　セトリ\n　・\n▽特典会　13:20〜14:20\n13:10\n　・特典会準備(販売準備、撮影列のご案内、フラスタ移動)\n　・列整備（購入列、Sチケ、各メンバー別撮影列）\n　・チェキ券販売開始アナウンス\n13:20\n　・特典会開始\n　・撮影順\n　Sチケット優先→並び順\n14:10\n　チェキ券販売終了アナウンス\n14:20\n　撮影締切アナウンス\n14:30\n　特典会終了アナウンス\n14:30～14:35\n　お客退場 \n特典会注意事項\n　※タイムテーブルは当日の状況により変動する場合がございます。予めご了承ください。\n　※混雑が予想されるため集合の販売は致しません。\n　※撮影締切アナウンス時に並び中で他のメンバー撮影希望のお客はアナウンス時にお知らせください。\n　※スムーズに特典会を進める為整列をお願い致します。列からはみ出す、列を乱すなどの行為がございますと、他のお客様のご迷惑となりますのでご注意ください。 \n入場特典について\n当日入場時、受付にて特典の引き換えをさせていただきます。チケットや画面を予めご用意してお待ちください。入場時に特典の引き換えが出来なかった場合、当日行っている受付にてお引き換えください。入場特典の引き換えは当日限りですのでご注意ください。特典付きチケットを購入のお客様で当日に来場が難しいお客様は公式ツイッターのDMまでご連絡頂き30日以内に他のイベントの特典会でお声がけください。トラブルの懸念がございますので代理のお客様へお渡しは出来かねます。 \n招待チケットについて\n招待チケットは、Sチケットを購入されたお客様が、えあらびゅーのライブに初めてお越しのお客様をお誘い頂く際に、お誘いしやすい様にお求めやすい金額のチケットとなります。\n前回まではえあらびゅーが主現場や、よく来て下さる方を除くえあらびゅー動員で来たことがない方などのお客様も招待チケットをお買い求め頂けるように設定させて頂きましたが、初めてとは言い難いお客様やよく来て頂いているファンの方が招待チケットを購入出来てしまうなど、招待の定義が複雑になってしまう事で皆様にご迷惑をおかけしてしまった事から、今回は招待チケットの取扱いを見送らせてさせて頂きました。\n何卒ご理解頂きます様お願い致します。 \nゾーンについて\n・最前ゾーンはSチケットをお持ちの入場順から整列してお並び頂けます。\n※一般ゾーンで鑑賞して頂くことも可能です。\n・最前と一般の間は床のテープでゾーンを分けております。\n・入場列解消後～ライブ開始前に、会場内混雑整理の為、最前ゾーンに空きがございましたら、一般ゾーンにいるお客様がテープを越えて前列へ詰めて頂けます。前列へ詰めて移動されたお客様は、最前のお客様にご配慮の上、譲りあってお楽しみください。\n・ご来場いただくすべてのお客様が安全に平等に楽しんで頂く為、ダイブやモッシュは禁止とさせて頂きます。\nまた、マサイに関しては他のお客様にご迷惑が掛からない様お願い致します。※ジャンプによって体が周りの方に強くぶつかり危険です。特に後ろへ足を跳ね上げる際に、後ろのお客様にぶつかる、または柵を越えて前方へ倒れてしまう、など、会場のスペースにより非常に危険な状況になる事が予想されますので、後ろへ足を跳ね上げる行為はお控え頂きます様ご理解ください。トラブルが続き皆様が不快となってしまう事を防ぎたいと考えておりますのでご理解いただけると幸いです。\n・撮影ゾーンはSチケットをお持ちの入場順から整列してお並び頂けます。※一般ゾーンで鑑賞して頂くことも可能です。\n・撮影ゾーンの最前と一般の間は床のテープでゾーンを分けております。\n・撮影ゾーン三脚やレンズ、撮影機材などは通路や他のお客さまに配慮の上でお楽しみください。\n・撮影ゾーン機材などで他の方のご迷惑にあると判断された場合に、スタッフが声掛けさせていただく場合がございますので、端に寄せていただく、片づけて頂くなどご協力をお願いいたします。 \n物販について\n当日入場列が落ち着き次第、受付にて常時物販を行います。\n物販では、チェキ券の購入・グッズの購入・特典の引き換えを行います。メンバーのチェキ・写真撮影は行いません。\n終演後物販では混雑が予想される為、チェキ券の購入等は特典会前までにご購入をおススメ致します。 \n寄書きのお願い\n12月9日に行われる【ことね生誕祭】に向けて皆様からのメッセージを募集しております！\nたくさんの方からのお祝いメッセージがありますと本人も喜びますのでぜひご協力のほどよろしくお願いいたします！ \n↓寄書きはこちら↓\nhttps://yosetti.com/mainyosegakis/invite?id=2542970&sc=oT906\n募集期限 : 2023年12月4日(月) 23:59まで
URL:https://hiraeth.tokyo/event/20231209-1/
LOCATION:GOTANDA G2\, 西五反田2-5-2 五反田東幸ビル1F\, 品川区\, 東京都\, 141-0031\, 日本
CATEGORIES:Live
ATTACH;FMTTYPE=image/png:https://hiraeth.tokyo/wp-content/uploads/ことね生誕祭2023バナー-1.png
END:VEVENT
END:VCALENDAR