BEGIN:VCALENDAR
VERSION:2.0
PRODID:-//【HIRAETH.Tokyo】(ヒラエス.トーキョー) - ECPv6.11.2//NONSGML v1.0//EN
CALSCALE:GREGORIAN
METHOD:PUBLISH
X-ORIGINAL-URL:https://hiraeth.tokyo
X-WR-CALDESC:【HIRAETH.Tokyo】(ヒラエス.トーキョー) のイベント
REFRESH-INTERVAL;VALUE=DURATION:PT1H
X-Robots-Tag:noindex
X-PUBLISHED-TTL:PT1H
BEGIN:VTIMEZONE
TZID:Asia/Tokyo
BEGIN:STANDARD
TZOFFSETFROM:+0900
TZOFFSETTO:+0900
TZNAME:JST
DTSTART:20230101T000000
END:STANDARD
END:VTIMEZONE
BEGIN:VEVENT
DTSTART;VALUE=DATE:20231210
DTEND;VALUE=DATE:20231211
DTSTAMP:20260422T051148
CREATED:20230714T155650Z
LAST-MODIFIED:20231207T235152Z
UID:6242-1702166400-1702252799@hiraeth.tokyo
SUMMARY:481☆☆クログラ武者修行ライブ@新宿ジールシアター東京
DESCRIPTION:日時　12/10(日)\nイベント　☆☆クログラ武者修行ライブ\n料金　予約3000/当日+500(各D別)\n予約　https://tiget.net/events/286814\nLIVE　11:05～11:35\n物販　12:30～13:30(終演後)\n会場　新宿ジールシアター東京\nOP　10:15\nST　10:28\n出演　えあらびゅー/Croire Grato-クログラ-/PATI PATI CANDY…☆/HIGH SPY DOLL/\nライブ後にきこチームが断食修行へ出発します！
URL:https://hiraeth.tokyo/event/20231210-1/
LOCATION:新宿ジールシアター\, 歌舞伎町2-44-1 健康プラザハイジア17F\, 新宿区\, 東京都\, 160-0021
CATEGORIES:Live
ATTACH;FMTTYPE=image/jpeg:https://hiraeth.tokyo/wp-content/uploads/IMG_6578.jpeg
END:VEVENT
END:VCALENDAR