BEGIN:VCALENDAR
VERSION:2.0
PRODID:-//【HIRAETH.Tokyo】(ヒラエス.トーキョー) - ECPv6.11.2//NONSGML v1.0//EN
CALSCALE:GREGORIAN
METHOD:PUBLISH
X-ORIGINAL-URL:https://hiraeth.tokyo
X-WR-CALDESC:【HIRAETH.Tokyo】(ヒラエス.トーキョー) のイベント
REFRESH-INTERVAL;VALUE=DURATION:PT1H
X-Robots-Tag:noindex
X-PUBLISHED-TTL:PT1H
BEGIN:VTIMEZONE
TZID:Asia/Tokyo
BEGIN:STANDARD
TZOFFSETFROM:+0900
TZOFFSETTO:+0900
TZNAME:JST
DTSTART:20230101T000000
END:STANDARD
END:VTIMEZONE
BEGIN:VEVENT
DTSTART;VALUE=DATE:20231216
DTEND;VALUE=DATE:20231217
DTSTAMP:20260422T043305
CREATED:20230823T202627Z
LAST-MODIFIED:20231218T000150Z
UID:6730-1702684800-1702771199@hiraeth.tokyo
SUMMARY:482☆☆☆☆MARQUEE祭mini Vol.182@渋谷Spotify O-nest
DESCRIPTION:news\n◆目標　70人と新曲で熱いライブにする🔥\n・70人参加まで毎日メンバーがビラ配りをする \n◆特典準備、BBQの予約、などの人数把握の為ご協力を頂けると助かります！！\nhttps://chouseisan.com/s?h=9350a1015a0b4a6cab53ceca0a33c65a \n◆忘年会BBQの参加について\n・当日お渡しする券に参加申し込みフォームのQRコードを記載しております。 \n◆集合年賀状\n・送付先住所の記載を特典会時にお願いいたします。 \n◆新曲Hajimariを発表\nhttps://youtu.be/tdERuH9GG7k\n今回のライブ以降は、当面ライブで使用予定はございません。 \n◆新曲Hajimariメンバーコール動画\nhttps://youtu.be/YRp04egM1z0 \n◆新曲HajimariのCDプレゼント\n・入場時にプレゼントいたします。 \n◆指名入場特典\n星2ラリーカード、BBQ参加権(12月30日)、チェキ2枚(60秒)、集合年賀状\n・入場時にえあらびゅー指名を伝えて頂き指名券をお受取り下さい。特典会時に特典一式をお渡しいたします。 \n◆撮影禁止（写真、動画ともに） \n概要\nヘッドライナーは長きに渡る歴史・ゆえの安定感に加えて今なお精度の高い(切れもまとまりも)パフォーマンスを維持し続けているハニスパ!強者グリマスや今年一気に躍り出たLOVE 9 LOVE、新体制以降パワーアップのLOVEME、最近歌唱力UPの夢アド、今年夏以降パフォ総合力があがったきゅ～くるも出演。毎回アイデアを凝らすえあらびゅー、洗練と余裕を感じさせる純ラテ、そして久しぶりのスーパーベイビーズも出演。 \n▽日時　12/16日(土)\n▽イベント　482☆☆☆☆MARQUEE祭mini Vol.182\n▽予約　http://eplus.jp/marquee-matsuri/\n先行予約　11/11(土)正午～11/19(日)23:59\n一般発売　11/25(土)10:00～12/15(金)18:00\n▽指名入場特典　星2ラリーカード、BBQ参加権、チェキ2枚(60秒)、集合年賀状\n▽LIVE　18:05〜18:25\n▽物販　18:35〜19:35 A\n▽会場　渋谷Spotify O-nest\n▽料金　前売3000/当日3500(各D別)\n▽OP　16:30\n▽ST　17:00\n▽out　\n▽出演　えあらびゅー/スーパーベイビーズ/純粋カフェラッテ/きゅ～くる/キミイロプロジェクト/夢みるアドレセンス/LOVEME/LOVE 9 LOVE/Glim Assembler/ハニースパイスRe./ \nーーイベントレギュレーションーー \n●チケットはお一人様1枚のみ（チケットにはその方のお名前が記入されます)\n●整理券番号順入場、オールスタンディング\n●入場時に身分証確認をさせていただく場合がございます。顔写真付き身分証明証を持参お願いします\n●体温が37.5以上の方、咳症状の酷い方は入場をお断りします\n●リフト、モッシュ、柵に登る等の危険行為、ヤジ、泥酔等禁止\n●営利目的の転売禁止\n●会場内への飲食物の持ち込み禁止、アルコール販売なし\n●再入場不可\n●未就学児童入場不可\n●出演者変更に伴いますご返金は致しかねます
URL:https://hiraeth.tokyo/event/20231216-1/
CATEGORIES:Live
ATTACH;FMTTYPE=image/jpeg:https://hiraeth.tokyo/wp-content/uploads/m-fes-mini182.jpg
END:VEVENT
END:VCALENDAR