BEGIN:VCALENDAR
VERSION:2.0
PRODID:-//【HIRAETH.Tokyo】(ヒラエス.トーキョー) - ECPv6.11.2//NONSGML v1.0//EN
CALSCALE:GREGORIAN
METHOD:PUBLISH
X-ORIGINAL-URL:https://hiraeth.tokyo
X-WR-CALDESC:【HIRAETH.Tokyo】(ヒラエス.トーキョー) のイベント
REFRESH-INTERVAL;VALUE=DURATION:PT1H
X-Robots-Tag:noindex
X-PUBLISHED-TTL:PT1H
BEGIN:VTIMEZONE
TZID:Asia/Tokyo
BEGIN:STANDARD
TZOFFSETFROM:+0900
TZOFFSETTO:+0900
TZNAME:JST
DTSTART:20230101T000000
END:STANDARD
END:VTIMEZONE
BEGIN:VEVENT
DTSTART;VALUE=DATE:20231217
DTEND;VALUE=DATE:20231218
DTSTAMP:20260422T043305
CREATED:20230912T090442Z
LAST-MODIFIED:20231218T000330Z
UID:7803-1702771200-1702857599@hiraeth.tokyo
SUMMARY:483☆IDOL SPIRITS 12月巻頭カラー2部@五反田G7
DESCRIPTION:▽日時　12/17(日)\n▽イベント　483☆IDOL SPIRITS 12月巻頭カラー2部\n▽予約　https://t.livepocket.jp/e/k_r27\n▽LIVE　14:00〜14:20 \n▽物販　14:25〜15:25C\n▽会場　五反田G7\n▽料金　前方優先前売3000/一般前売2000/当日+700/(各D別)\n▽開場　12:50\n▽イベント時間　13:00(予定)\n▽出演　えあらびゅー/Miao/Bety/.BPM/青山Rabness/ミニスカポリス/Reverse Tokyo/桜色Standard/Twinkle⭐︎Stars/LOViSH/wqwq/世ノ果デデ人形ハ唯哂フ。/ЯanaB/シャルロット/Misty Syrena/プリンセスは眠らないっ！/Lanan/Little Echo/異国のルミナリア/ハレノチ✖️ハレーション/メノニューイアー/ほしいも/Mio Lavy/Seeds/PSTIL/Comma\,/
URL:https://hiraeth.tokyo/event/20231217-2/
LOCATION:五反田G7\, 西五反田2-6-3 東洋ビルB1階\, 品川区\, 東京都\, 141-0031\, 日本
CATEGORIES:Live
ATTACH;FMTTYPE=image/jpeg:https://hiraeth.tokyo/wp-content/uploads/12.17_表紙２部IDOLSPIRITS.jpg
END:VEVENT
END:VCALENDAR