BEGIN:VCALENDAR
VERSION:2.0
PRODID:-//【HIRAETH.Tokyo】(ヒラエス.トーキョー) - ECPv6.11.2//NONSGML v1.0//EN
CALSCALE:GREGORIAN
METHOD:PUBLISH
X-WR-CALNAME:【HIRAETH.Tokyo】(ヒラエス.トーキョー)
X-ORIGINAL-URL:https://hiraeth.tokyo
X-WR-CALDESC:【HIRAETH.Tokyo】(ヒラエス.トーキョー) のイベント
REFRESH-INTERVAL;VALUE=DURATION:PT1H
X-Robots-Tag:noindex
X-PUBLISHED-TTL:PT1H
BEGIN:VTIMEZONE
TZID:Asia/Tokyo
BEGIN:STANDARD
TZOFFSETFROM:+0900
TZOFFSETTO:+0900
TZNAME:JST
DTSTART:20230101T000000
END:STANDARD
END:VTIMEZONE
BEGIN:VEVENT
DTSTART;VALUE=DATE:20231224
DTEND;VALUE=DATE:20231225
DTSTAMP:20260422T043222
CREATED:20230912T090748Z
LAST-MODIFIED:20231221T153929Z
UID:7811-1703376000-1703462399@hiraeth.tokyo
SUMMARY:486☆ファインモーション ～クリスマスイヴスペシャル～@浅草VAMPKIN
DESCRIPTION:※サンタコスプレで出演します🎄 \n▽日時　12/24(日)\n▽イベント　486☆ファインモーション ～クリスマスイヴスペシャル～\n▽予約　　https://tiget.net/events/286690\n▽LIVE　11:45〜12:10\n▽物販　11:20〜13:20B\n▽会場　浅草VAMPKIN\n▽料金　前方4000/通常2500/当日+500/(各D別)\n▽開場　11:00\n▽イベント時間　11:20〜\n▽出演　えあらびゅー/ドリームパスポート/雨音とアプローズ/きゃらめるもんすたーず/Cutie♡Cute/七瀬すずか/Majewel/わたあめびーすたーず/PATI PATI CANDY…☆/
URL:https://hiraeth.tokyo/event/20231224-2/
LOCATION:浅草VAMPKIN\, 浅草2-10 ドン・キホーテ浅草店7F\, 台東区\, 東京都\, 111-0032\, 日本
CATEGORIES:Live
ATTACH;FMTTYPE=image/jpeg:https://hiraeth.tokyo/wp-content/uploads/IMG_6601.jpeg
END:VEVENT
END:VCALENDAR