BEGIN:VCALENDAR
VERSION:2.0
PRODID:-//【HIRAETH.Tokyo】(ヒラエス.トーキョー) - ECPv6.11.2//NONSGML v1.0//EN
CALSCALE:GREGORIAN
METHOD:PUBLISH
X-WR-CALNAME:【HIRAETH.Tokyo】(ヒラエス.トーキョー)
X-ORIGINAL-URL:https://hiraeth.tokyo
X-WR-CALDESC:【HIRAETH.Tokyo】(ヒラエス.トーキョー) のイベント
REFRESH-INTERVAL;VALUE=DURATION:PT1H
X-Robots-Tag:noindex
X-PUBLISHED-TTL:PT1H
BEGIN:VTIMEZONE
TZID:Asia/Tokyo
BEGIN:STANDARD
TZOFFSETFROM:+0900
TZOFFSETTO:+0900
TZNAME:JST
DTSTART:20230101T000000
END:STANDARD
END:VTIMEZONE
BEGIN:VEVENT
DTSTART;VALUE=DATE:20231226
DTEND;VALUE=DATE:20231227
DTSTAMP:20260422T043305
CREATED:20231206T083623Z
LAST-MODIFIED:20231221T154839Z
UID:8452-1703548800-1703635199@hiraeth.tokyo
SUMMARY:487☆☆ByteSchwarz 7DAYS BATTLE Day2@神田F#
DESCRIPTION:▽日時　12/26(火)\n▽イベント　487☆☆ByteSchwarz 7DAYS BATTLE Day2\n▽予約　https://t.livepocket.jp/e/l-1p8\n▽LIVE　20:00~20:30\n▽物販　21:10~22:30終演後\n▽会場　神田F#\n▽料金　予約2500当日+500(各D別)\n▽開場　18:00\n▽イベント時間　18:25\n▽出演　えあらびゅー/ByteSchwarz/病ンドル/#ういらぶ/
URL:https://hiraeth.tokyo/event/20231226-1/
LOCATION:神田F#\, 鍛冶町1-4-3竹内ビルB1\, 千代田区\, 東京都\, 日本
CATEGORIES:Live
ATTACH;FMTTYPE=image/jpeg:https://hiraeth.tokyo/wp-content/uploads/IMG_6606.jpeg
END:VEVENT
END:VCALENDAR