BEGIN:VCALENDAR
VERSION:2.0
PRODID:-//【HIRAETH.Tokyo】(ヒラエス.トーキョー) - ECPv6.11.2//NONSGML v1.0//EN
CALSCALE:GREGORIAN
METHOD:PUBLISH
X-WR-CALNAME:【HIRAETH.Tokyo】(ヒラエス.トーキョー)
X-ORIGINAL-URL:https://hiraeth.tokyo
X-WR-CALDESC:【HIRAETH.Tokyo】(ヒラエス.トーキョー) のイベント
REFRESH-INTERVAL;VALUE=DURATION:PT1H
X-Robots-Tag:noindex
X-PUBLISHED-TTL:PT1H
BEGIN:VTIMEZONE
TZID:Asia/Tokyo
BEGIN:STANDARD
TZOFFSETFROM:+0900
TZOFFSETTO:+0900
TZNAME:JST
DTSTART:20230101T000000
END:STANDARD
END:VTIMEZONE
BEGIN:VEVENT
DTSTART;VALUE=DATE:20231229
DTEND;VALUE=DATE:20231230
DTSTAMP:20260422T050953
CREATED:20230912T091214Z
LAST-MODIFIED:20231226T145543Z
UID:7821-1703808000-1703894399@hiraeth.tokyo
SUMMARY:490☆CUTE CANVAS BEST5@五反田　G6
DESCRIPTION:▽日時　12/29(金)\n▽イベント　490☆CUTE CANVAS BEST5\n▽予約　https://t.livepocket.jp/e/a3sud\n▽LIVE　21:10～21:30\n▽物販　21:35～22:35A\n▽特典　サイン券2枚\n▽会場　五反田G6\n▽料金　前売前方優先エリア3000/一般エリア2000/当日券＋700(各D別)\n▽開場　15:15\n▽イベント時間　15:30～21:30(予定)\n▽出演　えあらびゅー/風邪をひいた時にみる夢/Blossom Garden/idrip/参宮橋駅前女子/Sugar Mine/MERRYMO/水玉パイン/A-le/はっぴーしゅがー/YUMEADO CiTRON/Little Echo/Res💘cho/comma\,/Piuuuu/RiKKYY/異国のルミナリア/Misty Syrena/
URL:https://hiraeth.tokyo/event/20231229-1/
CATEGORIES:Live
ATTACH;FMTTYPE=image/jpeg:https://hiraeth.tokyo/wp-content/uploads/IMG_6698.jpeg
END:VEVENT
BEGIN:VEVENT
DTSTART;VALUE=DATE:20231229
DTEND;VALUE=DATE:20231230
DTSTAMP:20260422T050953
CREATED:20231128T154908Z
LAST-MODIFIED:20240103T072945Z
UID:8384-1703808000-1703894399@hiraeth.tokyo
SUMMARY:489☆☆☆『U-NEXT presents 雷祭り』RIDOL GP2023＠さいたまスーパーアリーナ コミュニティアリーナ
DESCRIPTION:見どころ\nRIDOL絶対優勝企画\nみんなで一緒にご飯を食べようの会👩🏻‍🍳💕\n飲食ブースにてメンバーと一緒にご飯を食べましょう🍽*.+\n※タイテ決まり次第お時間と詳しい集合場所等お伝え致します。 \n▽指名入場特典\n前方:星2ラリーカード、集合デカチェキx1、チェキx1、サイン券x1、後日使えるサイン券x2、後日使える集合チェキx1\n一般:星2ラリーカード、集合デカチェキ、サイン券x1 \nライブ\nリングステージ\n▽LIVE　12:40〜12:55\n▽物販　13:05〜14:05E \n雷ステージ\n▽LIVE　17:40〜17:55\n▽物販　18:10〜19:10C \n概要\n▽日時　12/29(金)\n▽イベント　489☆☆☆RIDOL GP2023\n▽会場　さいたまスーパーアリーナ コミュニティアリーナ\n▽予約\n・tiget　https://tiget.net/events/286874\n・イープラス　https://eplus.jp/ridol/(スマホのみ）\n・チケットぴあ　https://w.pia.jp/t/ridolgp2023/（スマホのみ）\n・ローソンチケット　https://l-tike.com/concert/mevent/?mid=709219（お申込みはスマホのみ）\n▽料金　前方エリア9000(投票券9枚付/整理番号付)/一般エリア3500(投票券3枚付)\n※再入場可/3歳未満無料/投票券は当日受付にて配布\n※前方エリアで整理番号順入場希望の方は当日9：30にスーパーアリーナCゲートにお並びください\n▽開場　10:00\n▽イベント時間　10:30～20:00\n▽出演　えあらびゅー/AKB48/メノニューイヤー/アルカナビス/大宮I☆DOL/異世界アイドル☆パラレルパレード/カメレオンリパブリック/PaRet/miao/RiKKYY/Lapis/ai*ai/LEVEL7/milu milu!/CHERRY GIRL PROJECT/アラカシ。/Sparkrin’!/雨音とアプローズ /恋に落ちる確率は限りなく低いが0じゃない/ドリームパスポート/遥か、彼方。/Croire Grato-クログラ-/ALLY/ESTLINK☆/あくしあ-AXIA-/Seven Day’z/IVL/Linaria/eN/FLAPSTAR/no Filter/ブルーなままで/Zero Project RIZIN選抜/fairy☆elements/\n▽セトリ もっとずっとそばで、放課後オレンジサイン、サンシャインマジック、ゆびとま(順不同)\n \n#RIDOLGP 投票ルール\n入場チケットによる投票\n・前方：投票券9枚\n・一般：投票券3枚 \n飲食ブースによる投票\n・1000円毎：投票券1枚 \nニコ生配信による投票\n・生放送中に贈れる「ギフト」で投票※詳細は後日発表 \nRIDOL GPについて\n12月29日（金）に予選会を行い、見事上位3チームに入ったグループは12月31日（日）にテレビ埼玉にて放送される生放送枠でパフォーマンス披露権を獲得！\nさらに！1位を獲得したグループは12月31日（日）に開催されるRIZIN.45の会場、「さいたまスーパーアリーナ」にて生パフォーマンス！\n目指せ！RIDOLChampion！ \nhttps://x.com/RIDOL_GP
URL:https://hiraeth.tokyo/event/20231229-2/
LOCATION:さいたまスーパーアリーナ\, 中央区新都心8\, さいたま市\, 埼玉県\, 330-0081\, 日本
CATEGORIES:Live
ATTACH;FMTTYPE=image/jpeg:https://hiraeth.tokyo/wp-content/uploads/IMG_6670.jpeg
END:VEVENT
END:VCALENDAR