BEGIN:VCALENDAR
VERSION:2.0
PRODID:-//【HIRAETH.Tokyo】(ヒラエス.トーキョー) - ECPv6.11.2//NONSGML v1.0//EN
CALSCALE:GREGORIAN
METHOD:PUBLISH
X-ORIGINAL-URL:https://hiraeth.tokyo
X-WR-CALDESC:【HIRAETH.Tokyo】(ヒラエス.トーキョー) のイベント
REFRESH-INTERVAL;VALUE=DURATION:PT1H
X-Robots-Tag:noindex
X-PUBLISHED-TTL:PT1H
BEGIN:VTIMEZONE
TZID:Asia/Tokyo
BEGIN:STANDARD
TZOFFSETFROM:+0900
TZOFFSETTO:+0900
TZNAME:JST
DTSTART:20230101T000000
END:STANDARD
END:VTIMEZONE
BEGIN:VEVENT
DTSTART;VALUE=DATE:20231231
DTEND;VALUE=DATE:20240101
DTSTAMP:20260422T043305
CREATED:20230912T091407Z
LAST-MODIFIED:20240103T073045Z
UID:7825-1703980800-1704067199@hiraeth.tokyo
SUMMARY:492☆☆☆『U-NEXT presents 雷祭り』RIDOL GP2023＠さいたまスーパーアリーナ コミュニティアリーナ
DESCRIPTION:日本最高峰の格闘技イベント“RIZIN”による、「全力」のパフォーマンスで、「感動」を与え、「将来性」のあるIDOL of RIDOLを発掘するアイドルライブイベント！12/31(日)決勝🔥優勝グループは大晦日RIZINにてパフォーマンス \n概要\n▽日時　12/31(日)\n▽イベント　492☆☆☆『U-NEXT presents 雷祭り』RIDOL GP2023\n▽会場　さいたまスーパーアリーナ コミュニティアリーナ\n▽料金　入場無料\n▽開場　9:00\n▽LIVE　12:40〜12:55\n▽物販　13:05〜14:05E\n▽イベント時間　10:30～17:00\n▽出演　えあらびゅー/miao/ESTLINK☆/\nMC お宮の松、川村那月(元RIZINガール)
URL:https://hiraeth.tokyo/event/20231231-2/
LOCATION:さいたまスーパーアリーナ\, 中央区新都心8\, さいたま市\, 埼玉県\, 330-0081\, 日本
CATEGORIES:Live
ATTACH;FMTTYPE=image/jpeg:https://hiraeth.tokyo/wp-content/uploads/GCl1JdeawAARsyU.jpg
END:VEVENT
END:VCALENDAR