BEGIN:VCALENDAR
VERSION:2.0
PRODID:-//【HIRAETH.Tokyo】(ヒラエス.トーキョー) - ECPv6.11.2//NONSGML v1.0//EN
CALSCALE:GREGORIAN
METHOD:PUBLISH
X-ORIGINAL-URL:https://hiraeth.tokyo
X-WR-CALDESC:【HIRAETH.Tokyo】(ヒラエス.トーキョー) のイベント
REFRESH-INTERVAL;VALUE=DURATION:PT1H
X-Robots-Tag:noindex
X-PUBLISHED-TTL:PT1H
BEGIN:VTIMEZONE
TZID:Asia/Tokyo
BEGIN:STANDARD
TZOFFSETFROM:+0900
TZOFFSETTO:+0900
TZNAME:JST
DTSTART:20240101T000000
END:STANDARD
END:VTIMEZONE
BEGIN:VEVENT
DTSTART;VALUE=DATE:20240102
DTEND;VALUE=DATE:20240103
DTSTAMP:20260422T025144
CREATED:20231217T091143Z
LAST-MODIFIED:20240103T073142Z
UID:8530-1704153600-1704239999@hiraeth.tokyo
SUMMARY:494☆☆New year FES 2024@渋谷RING
DESCRIPTION:▽日時　1/2(火)\n▽イベント　494☆☆New year FES 2024\n▽予約　https://t.livepocket.jp/e/newyearfes20230102\n→12/24（日）12:00〜販売開始!!\n▽LIVE　14:35〜14:55\n▽物販　15:00〜16:00A\n▽会場　渋谷RING\n▽料金　前方3500/一般2000/女性1000(各D別)\n▽開場　10:40\n▽イベント時間　11:00(予定)\n▽出演　えあらびゅー/ai*ai/COLOR’z /ソラネルカンパニー/LoveCherish/LEVEL7/BANZAI JAPAN/プリズムハート/たまプリ/大宮I⭐DOLL/にとくり。/七星七愛/アンダービースティー研修生/milu milu!/Re:INCARNATION/RURUDiA/RESELA/ららぱれーど！/いつだって青い春。/ヒロインの心/佐野るか/
URL:https://hiraeth.tokyo/event/20240102-1/
LOCATION:渋谷RING\, 道玄坂2-21-7 第8矢澤ビル2F\, 渋谷区\, 東京都\, 150-0043\, 日本
CATEGORIES:Live
ATTACH;FMTTYPE=image/jpeg:https://hiraeth.tokyo/wp-content/uploads/IMG_6695.jpeg
END:VEVENT
END:VCALENDAR