BEGIN:VCALENDAR
VERSION:2.0
PRODID:-//【HIRAETH.Tokyo】(ヒラエス.トーキョー) - ECPv6.11.2//NONSGML v1.0//EN
CALSCALE:GREGORIAN
METHOD:PUBLISH
X-ORIGINAL-URL:https://hiraeth.tokyo
X-WR-CALDESC:【HIRAETH.Tokyo】(ヒラエス.トーキョー) のイベント
REFRESH-INTERVAL;VALUE=DURATION:PT1H
X-Robots-Tag:noindex
X-PUBLISHED-TTL:PT1H
BEGIN:VTIMEZONE
TZID:Asia/Tokyo
BEGIN:STANDARD
TZOFFSETFROM:+0900
TZOFFSETTO:+0900
TZNAME:JST
DTSTART:20240101T000000
END:STANDARD
END:VTIMEZONE
BEGIN:VEVENT
DTSTART;VALUE=DATE:20240106
DTEND;VALUE=DATE:20240107
DTSTAMP:20260422T023724
CREATED:20231212T040520Z
LAST-MODIFIED:20240103T073312Z
UID:8500-1704499200-1704585599@hiraeth.tokyo
SUMMARY:495☆UltraPark新春スペシャルTOKYO MX UltraPark収録公演@原宿WITH HARAJUKU HALL
DESCRIPTION:▽日時　1/6(土)\n▽イベント　495☆UltraPark新春スペシャルTOKYO MX UltraPark収録公演\n▽予約　https://tiget.net/events/289419\n▽LIVE　13:45～14:00\n▽物販　14:00～15:00\n▽会場　原宿WITH HARAJUKU HALL\n▽料金　（前売価格\,当日価格）/VIP5500\,6000/S席4000\,4500/A席3000\,4000/(各D別)、再入場+1D\n▽開場　12:00\n▽イベント時間　12:15\n▽出演　えあらびゅー/あいすなっつ/AiVER./あまりりす/異世界アイドル☆パラレルパレード/いちごみるく色に染まりたい。/いつだって青い春。/Lって何のLですか？/カタクリ娘(コ)伝説/奏音コレクト/COLOR’z/♡’s (kyuuuns)/すたーちす/ソラネルカンパニー/天使突抜ニ読ミ/はにーべいびー/BANZAI JAPAN/BANZAI JAPAN CENTRAL/∴ヒロイン転生/ヒロインの心/100-YOKAI/PiXMiX/mignon/miao/みらくる☆ふぉーぜ/ラストノート/LOVE IZ DOLL/LoveCherish/Licel A*/
URL:https://hiraeth.tokyo/event/20240106-1/
LOCATION:原宿withHARAJUKUホール\, 神宮前1-14-30\, 渋谷区\, 東京都\, 150-0001\, 日本
CATEGORIES:Live
ATTACH;FMTTYPE=image/jpeg:https://hiraeth.tokyo/wp-content/uploads/0106-scaled.jpg
END:VEVENT
END:VCALENDAR