BEGIN:VCALENDAR
VERSION:2.0
PRODID:-//【HIRAETH.Tokyo】(ヒラエス.トーキョー) - ECPv6.11.2//NONSGML v1.0//EN
CALSCALE:GREGORIAN
METHOD:PUBLISH
X-ORIGINAL-URL:https://hiraeth.tokyo
X-WR-CALDESC:【HIRAETH.Tokyo】(ヒラエス.トーキョー) のイベント
REFRESH-INTERVAL;VALUE=DURATION:PT1H
X-Robots-Tag:noindex
X-PUBLISHED-TTL:PT1H
BEGIN:VTIMEZONE
TZID:Asia/Tokyo
BEGIN:STANDARD
TZOFFSETFROM:+0900
TZOFFSETTO:+0900
TZNAME:JST
DTSTART:20240101T000000
END:STANDARD
END:VTIMEZONE
BEGIN:VEVENT
DTSTART;VALUE=DATE:20240107
DTEND;VALUE=DATE:20240108
DTSTAMP:20260422T032936
CREATED:20231113T115552Z
LAST-MODIFIED:20240103T080232Z
UID:8321-1704585600-1704671999@hiraeth.tokyo
SUMMARY:496☆☆Muse Music Mini Vol.2@六本木BIG HOUSE
DESCRIPTION:▽日時　1/7(日)\n▽イベント　496☆☆Muse Music Mini Vol.2\n▽予約　https://t.livepocket.jp/e/musemusicmini2\n券売スケジュール：12/22 19:00～1/7 10:29\n▽指名入場特典 \n・星2ラリーカード適用\n・新年わがまま10秒動画\n・コメサチェキ1枚\n▽LIVE　14:45～15:05\n▽物販　15:30～16:30\n▽会場　六本木BIG HOUSE\n▽料金　前方3500/一般2000/当日+500/(各D別) \n▽開場　10:30\n▽イベント時間　10:50\n▽出演　えあらびゅー/狂愛ストラテジー/Poppins/PlanetMerry/cule_latte/CHERRY GIRLS PROJECT/RESELA/青藍ピリオド/Amulet A Mute/As a Cutie Pomeranian/LOVE IZ DOLL/PHiZZ/Plumelt/♡’ｓ(kyuuuns)/Pety/夢幻のプリューム/Pialans/
URL:https://hiraeth.tokyo/event/20240107-1/
LOCATION:六本木BIG HOUSE\, 六本木5-18-2 大昌第2ビル B1\, 港区\, 東京都\, 106-0032\, 日本
CATEGORIES:Live
ATTACH;FMTTYPE=image/png:https://hiraeth.tokyo/wp-content/uploads/mmm0107.png
END:VEVENT
END:VCALENDAR