BEGIN:VCALENDAR
VERSION:2.0
PRODID:-//【HIRAETH.Tokyo】(ヒラエス.トーキョー) - ECPv6.11.2//NONSGML v1.0//EN
CALSCALE:GREGORIAN
METHOD:PUBLISH
X-ORIGINAL-URL:https://hiraeth.tokyo
X-WR-CALDESC:【HIRAETH.Tokyo】(ヒラエス.トーキョー) のイベント
REFRESH-INTERVAL;VALUE=DURATION:PT1H
X-Robots-Tag:noindex
X-PUBLISHED-TTL:PT1H
BEGIN:VTIMEZONE
TZID:Asia/Tokyo
BEGIN:STANDARD
TZOFFSETFROM:+0900
TZOFFSETTO:+0900
TZNAME:JST
DTSTART:20240101T000000
END:STANDARD
END:VTIMEZONE
BEGIN:VEVENT
DTSTART;VALUE=DATE:20240109
DTEND;VALUE=DATE:20240110
DTSTAMP:20260422T031501
CREATED:20231217T070622Z
LAST-MODIFIED:20240107T235756Z
UID:8526-1704758400-1704844799@hiraeth.tokyo
SUMMARY:498☆☆冠Fes-カンフェス-@新宿Zirco Tokyo
DESCRIPTION:▽日時　1/9(火)\n▽イベント　498☆☆冠Fes-カンフェス-\n▽予約　https://t.livepocket.jp/e/kanfes0109\n▽LIVE　20:10～20:30\n▽物販　21:35～22:35(終演後)\n▽会場　新宿Zirco Tokyo\n▽料金　前方3500一般2500当日+500(各D別)\n▽開場　16:30\n▽イベント時間　17:00〜22:30(予定)\n▽出演　えあらびゅー/【eN】/Cassie Te Light/狂愛ストラテジー/たまプリ/天使突抜ニ読ミ\nBlancanie/ヒトノユメ/PHiZZ/ブルーなままで/HALO PALLETE/夢みるアドレセンス/他
URL:https://hiraeth.tokyo/event/20230109-1/
LOCATION:新宿Zirco Tokyo\, 歌舞伎町1-2-5東陽ビルB2\, 新宿区\, 東京都\, 160-0021\, 日本
CATEGORIES:Live
ATTACH;FMTTYPE=image/jpeg:https://hiraeth.tokyo/wp-content/uploads/IMG_6704.jpeg
END:VEVENT
END:VCALENDAR