BEGIN:VCALENDAR
VERSION:2.0
PRODID:-//【HIRAETH.Tokyo】(ヒラエス.トーキョー) - ECPv6.11.2//NONSGML v1.0//EN
CALSCALE:GREGORIAN
METHOD:PUBLISH
X-ORIGINAL-URL:https://hiraeth.tokyo
X-WR-CALDESC:【HIRAETH.Tokyo】(ヒラエス.トーキョー) のイベント
REFRESH-INTERVAL;VALUE=DURATION:PT1H
X-Robots-Tag:noindex
X-PUBLISHED-TTL:PT1H
BEGIN:VTIMEZONE
TZID:Asia/Tokyo
BEGIN:STANDARD
TZOFFSETFROM:+0900
TZOFFSETTO:+0900
TZNAME:JST
DTSTART:20240101T000000
END:STANDARD
END:VTIMEZONE
BEGIN:VEVENT
DTSTART;VALUE=DATE:20240111
DTEND;VALUE=DATE:20240112
DTSTAMP:20260422T023724
CREATED:20240105T020450Z
LAST-MODIFIED:20240110T103826Z
UID:8892-1704931200-1705017599@hiraeth.tokyo
SUMMARY:499☆☆S・P・P@渋谷SHIBUYA PLEASURE PLEASURE
DESCRIPTION:※ことねがお休みとなります \n▽日時　1/11(木)\n▽イベント　499☆☆S・P・P\n▽予約　https://t.livepocket.jp/e/spp0111※1月8日(月)22:30 発売開始\n▽LIVE　19:50～20:10\n▽物販　21:30～22:40終演後\n▽会場　渋谷SHIBUYA PLEASURE PLEASURE\n▽料金　前売前方3500/前売通常2000//当日+500(各D別)\n▽開場　15:25\n▽イベント時間　15:45(仮)\n▽出演　えあらびゅー/1000日後の話。/ANA®KIE/KATACOTO＊BANK/4864./ぶっとび！パンデミック/#ピコリフ/クチナシ/Falench./#フラサービックル/momograci/CALL MY NAME/Amulet A Mute/EMuLATE/cule_latte/僕だけの天使/\n▽入場順　①前売前方整理番号順②前売通常整理番号順③当日
URL:https://hiraeth.tokyo/event/20240111-1/
LOCATION:渋谷SHIBUYA PLEASURE PLEASURE\, 道玄坂2丁目29番5号渋谷プライム6F\, 渋谷区\, 東京都\, 150-0043\, 日本
CATEGORIES:Live
END:VEVENT
END:VCALENDAR