BEGIN:VCALENDAR
VERSION:2.0
PRODID:-//【HIRAETH.Tokyo】(ヒラエス.トーキョー) - ECPv6.11.2//NONSGML v1.0//EN
CALSCALE:GREGORIAN
METHOD:PUBLISH
X-ORIGINAL-URL:https://hiraeth.tokyo
X-WR-CALDESC:【HIRAETH.Tokyo】(ヒラエス.トーキョー) のイベント
REFRESH-INTERVAL;VALUE=DURATION:PT1H
X-Robots-Tag:noindex
X-PUBLISHED-TTL:PT1H
BEGIN:VTIMEZONE
TZID:Asia/Tokyo
BEGIN:STANDARD
TZOFFSETFROM:+0900
TZOFFSETTO:+0900
TZNAME:JST
DTSTART:20240101T000000
END:STANDARD
END:VTIMEZONE
BEGIN:VEVENT
DTSTART;VALUE=DATE:20240112
DTEND;VALUE=DATE:20240113
DTSTAMP:20260422T023723
CREATED:20240101T232318Z
LAST-MODIFIED:20240101T232409Z
UID:8850-1705017600-1705103999@hiraeth.tokyo
SUMMARY:MARQUEE祭mini Vol.183一般チケット販売終了
DESCRIPTION:チケット購入はこちら\nhttps://eplus.jp/sf/detail/2029630001-P0030334P021001?P1=0175\n受付期間:2023/12/23(土)10:00～2024/1/12(金)18:00 \nMARQUEE祭mini Vol.183\n2024/1/13(土)\n開演：11:00～ (開場 10:30～)\nSpotify O-nest （東京都） \n出演\nえあらびゅー/テラス×テラス/LOVE 9 LOVE/しろもん/Zero Project Z2-A/ノルニル/蓋然性オルトイズム/FloreRisa -フロレリーサ-/kimikara(きみから)/キミイロプロジェクト/
URL:https://hiraeth.tokyo/event/20240112-1/
CATEGORIES:Live
END:VEVENT
END:VCALENDAR