BEGIN:VCALENDAR
VERSION:2.0
PRODID:-//【HIRAETH.Tokyo】(ヒラエス.トーキョー) - ECPv6.11.2//NONSGML v1.0//EN
CALSCALE:GREGORIAN
METHOD:PUBLISH
X-ORIGINAL-URL:https://hiraeth.tokyo
X-WR-CALDESC:【HIRAETH.Tokyo】(ヒラエス.トーキョー) のイベント
REFRESH-INTERVAL;VALUE=DURATION:PT1H
X-Robots-Tag:noindex
X-PUBLISHED-TTL:PT1H
BEGIN:VTIMEZONE
TZID:Asia/Tokyo
BEGIN:STANDARD
TZOFFSETFROM:+0900
TZOFFSETTO:+0900
TZNAME:JST
DTSTART:20240101T000000
END:STANDARD
END:VTIMEZONE
BEGIN:VEVENT
DTSTART;VALUE=DATE:20240113
DTEND;VALUE=DATE:20240114
DTSTAMP:20260422T023723
CREATED:20231123T161300Z
LAST-MODIFIED:20240114T043104Z
UID:8345-1705104000-1705190399@hiraeth.tokyo
SUMMARY:500☆☆☆MARQUEE祭mini Vol.183@渋谷Spotify O-nest
DESCRIPTION:結果報告\n目標：70人\n調整さん：87人\nhttps://chouseisan.com/s?h=2c2f781c8c854e2d8f0fdf9824559927\n来場：75人 \n予約関連\n▽先行予約　12/9（土）正午～12/17（日）23:59\n▽一般発売　12/23（土）10:00～1/12（金）18:00\n▽特典準備などの人数把握の為、以下のリンクより参加の登録のご協力を頂けると助かります！！（30秒程度）※調整さん\nhttps://chouseisan.com/s?h=2c2f781c8c854e2d8f0fdf9824559927 \n業界騒然企画\n#えあらばー増やそう大作戦 💓⚡️\n\nMARQUEE祭miniに70人の動員目標を達成させるべく、新しい特典と動員達成企画を決めました❕✨\n①お友達特典！！\n②えあらびゅースターターパック！！\n③業界初！2推し特典！！\n④お帰りらばー特典！！\n⑤暴露冊子あげます特典！！\nそして、、、\n⚠️動員達成で⚠️\n50人動員…路上ライブスピーカー\n60人…冬のパン祭り(撮影会、お散歩会)開催\n70人…らびゅバレンタイン会開催\n#MARQUEE祭 \n①MARQUEE祭miniお友達特典！\n１人 : 初恋忘れちゃイヤイヤ動画延長10s\n２人 : 推しから届くメッセージ付きオリジナル画像データ\n３人 : コメサ3枚\n🎁招待された方\n→物販受付にて動員特典と交換してから招待者さんへ指名入場券をお渡し下さい！(その際裏に招待者さんの名前を記入致しますのでお伝えください)\nhttps://chouseisan.com/s?h=2c2f781c8c854e2d8f0fdf9824559927※調整さん\n🎁招待者さん\n→当日物販受付にて指名入場券の枚数によって引き換え致します！\n※招待基準はえあらびゅーが主現場じゃない方になります \n② MARQUEE祭miniえあらびゅースターターパック！！\n1/13MARQUEE祭miniにえあらびゅー入場で来てくださった新規の方へ✨\n・えあらびゅーペンライトフィルム\n・トレカ4種コンプリートセット\n・CD(hajimari収録)\n・えあらびゅー暴露冊子\n・ランダムえあらびゅーTシャツ(当日サイズをお聞きしますので在庫が無い場合は後日お渡しか郵送させていただきます)\n🎁当日物販受付にて、えあらびゅースターターパックのご希望と指名入場券、調整さんの画面をお見せください！\nhttps://chouseisan.com/s?h=2c2f781c8c854e2d8f0fdf9824559927※調整さん \n③MARQUEE祭mini業界初！2推し特典！\nえあらびゅー1推しではないけど、、でも自分の推しと被ったら見てる！！🫡\nえあらびゅー2推し3推し以降の方限定‼️ \n皆さんの1推し教えてください！！そしてあなたの推し現場に勉強に行かせてください！！\n1/13(土)MARQUEE祭miniに来てくださったあなたの1推し現場にえあらびゅー(メンバー、運営スタッフ、社長、など1名〜全員)が後日伺わせていただきます！\n例えば、、\nこのライブの動員のプラスにしたい…！自分の推しとチェキを撮ってもらって仲良くしてもらいたい…！など可能な限り何でもやります✊🏻🔥\n🎁当日物販受付にて、2推し以降限定特典ご希望と指名入場券、調整さんの画面をお見せください！\nhttps://chouseisan.com/s?h=2c2f781c8c854e2d8f0fdf9824559927※調整さん \n④MARQUEE祭miniお帰りらばー特典\n(半年以上来てない方)\n📸📸📸メンバー全員1人1人とチェキor写メ(60s)📸📸📸\n🎁当日物販受付にてお帰りらばー特典の希望と調整さんの画面をお見せ下さい！ \n⑤MARQUEE祭mini暴露冊子あげます！特典！！\n🎁こちらはタイトルのまま！📝\n前回のマーキーに来れず、来場者特典の冊子とCDをゲット出来なかった方にプレゼント致します✨\n物販受付にてお声がけください！ \n概要\n▽日時　1/13(土)\n▽イベント　500☆☆☆MARQUEE祭mini Vol.183\n▽予約　http://eplus.jp/marquee-matsuri/\n▽特典　星2ラリーカード適用、チェキ2枚(60秒)、集合ミニカレンダー3枚(1〜3月)、初恋わすれちゃいやいや！推しと握手もできる10秒動画\n▽LIVE　13:10〜13:30\n▽物販　13:40〜14:40A\n▽会場　渋谷Spotify O-nest\n▽料金　前売3000/当日+500(各D別)\n▽開場　10:30\n▽イベント時間　11:00\n▽出演　えあらびゅー/テラス×テラス/LOVE 9 LOVE/しろもん/Zero Project Z2-A/ノルニル/蓋然性オルトイズム/FloreRisa -フロレリーサ-/kimikara（きみから）/キミイロプロジェクト/\n▽セトリ もっとずっとそばで、ゆびとま、初恋 (ういらぶ)、放課後オレンジサイン \nーイベントレギュレーションー\n●チケットはお一人様1枚のみ（チケットにはその方のお名前が記入されます)\n●整理券番号順入場、オールスタンディング\n●入場時に身分証確認をさせていただく場合がございます。顔写真付き身分証明証を持参お願いします\n●体温が37.5以上の方、咳症状の酷い方は入場をお断りします\n●リフト、モッシュ、柵に登る等の危険行為、ヤジ、泥酔等禁止\n●営利目的の転売禁止\n●会場内への飲食物の持ち込み禁止、アルコール販売なし\n●再入場不可\n●未就学児童入場不可\n●出演者変更に伴いますご返金は致しかねます
URL:https://hiraeth.tokyo/event/20240113-1/
CATEGORIES:Live
ATTACH;FMTTYPE=image/jpeg:https://hiraeth.tokyo/wp-content/uploads/祭mini1831.13.jpg
END:VEVENT
END:VCALENDAR