BEGIN:VCALENDAR
VERSION:2.0
PRODID:-//【HIRAETH.Tokyo】(ヒラエス.トーキョー) - ECPv6.11.2//NONSGML v1.0//EN
CALSCALE:GREGORIAN
METHOD:PUBLISH
X-WR-CALNAME:【HIRAETH.Tokyo】(ヒラエス.トーキョー)
X-ORIGINAL-URL:https://hiraeth.tokyo
X-WR-CALDESC:【HIRAETH.Tokyo】(ヒラエス.トーキョー) のイベント
REFRESH-INTERVAL;VALUE=DURATION:PT1H
X-Robots-Tag:noindex
X-PUBLISHED-TTL:PT1H
BEGIN:VTIMEZONE
TZID:Asia/Tokyo
BEGIN:STANDARD
TZOFFSETFROM:+0900
TZOFFSETTO:+0900
TZNAME:JST
DTSTART:20240101T000000
END:STANDARD
END:VTIMEZONE
BEGIN:VEVENT
DTSTART;VALUE=DATE:20240117
DTEND;VALUE=DATE:20240118
DTSTAMP:20260422T023714
CREATED:20231115T042559Z
LAST-MODIFIED:20240113T015041Z
UID:8328-1705449600-1705535999@hiraeth.tokyo
SUMMARY:503☆☆わがままフェスティバルvol.4@ 白金高輪SELENE
DESCRIPTION:▽日時　 1/17(水)\n▽イベント　 503☆☆わがままフェスティバルvol.4\n▽予約　https://l-tike.com/wagamamafes/\n※紙発行チケットのため1月11日23時で前売終了となります。 \n▽指名入場特典　 星2ラリーカード適用、新年わがまま10秒動画\n▽LIVE　19:40〜20:05\n▽物販　20:35〜21:35\n▽会場　 白金高輪SELENE\n▽料金　前売3500当日+500(各D別) \n▽開場　17:00(予定)\n▽イベント時間　17:30〜22:00(予定)\n▽出演　えあらびゅー/純情のアフィリア/エラバレシ/しろもん/miao/アポストロフィxRe:verie/bijou/\n▽出演　有沢美矢
URL:https://hiraeth.tokyo/event/20240117-1/
LOCATION:白金高輪SELENE\, 三田5-2−30 SELENE STUDIO\, 港区\, 東京都\, 1080-073\, 日本
CATEGORIES:Live
ATTACH;FMTTYPE=image/jpeg:https://hiraeth.tokyo/wp-content/uploads/IMG_6872.jpeg
END:VEVENT
END:VCALENDAR