BEGIN:VCALENDAR
VERSION:2.0
PRODID:-//【HIRAETH.Tokyo】(ヒラエス.トーキョー) - ECPv6.11.2//NONSGML v1.0//EN
CALSCALE:GREGORIAN
METHOD:PUBLISH
X-ORIGINAL-URL:https://hiraeth.tokyo
X-WR-CALDESC:【HIRAETH.Tokyo】(ヒラエス.トーキョー) のイベント
REFRESH-INTERVAL;VALUE=DURATION:PT1H
X-Robots-Tag:noindex
X-PUBLISHED-TTL:PT1H
BEGIN:VTIMEZONE
TZID:Asia/Tokyo
BEGIN:STANDARD
TZOFFSETFROM:+0900
TZOFFSETTO:+0900
TZNAME:JST
DTSTART:20240101T000000
END:STANDARD
END:VTIMEZONE
BEGIN:VEVENT
DTSTART;VALUE=DATE:20240119
DTEND;VALUE=DATE:20240120
DTSTAMP:20260422T023724
CREATED:20240117T201453Z
LAST-MODIFIED:20240119T121743Z
UID:9068-1705622400-1705708799@hiraeth.tokyo
SUMMARY:504えあらびゅーチャリティーストリートライブ
DESCRIPTION:▽日時　1/19(金) \n▽イベント　504えあらびゅーチャリティーストリートライブ 〜メンバーひなたの実家新潟を支援したい！〜\n  ▽LIVE　19:00〜 \n▽会場　新宿西口〜南口\n▽定点配信　https://mixch.tv/u/17339228 \nーー\n1/13(土)MARQUEE祭mini Vol.183に来て下さりありがとうございました。\n50人突破のスピーカーを使いチャリティーライブを行います。 \n現在も地震の被害により思うように生活ができない方々が多くいます。\nその中にひなたの地元の新潟県もあります。\n普段から明るく元気に振る舞っていますがひなたも傷心しているのでは。。\nメンバーの気持ちを見て見ぬ振りが出来ず、一緒にできる事があるのでは？と話し合い復興支援をしたいと声が上がりました。 \n多くの意見があると思います。\nえあらびゅーはみなさんを元気にしたい笑顔にしたいと想い、意見をぶつけ合い、チャリティーストリートライブを行う事に致しました。 \nストリートライブで集まった募金を全て新潟県に支援させて頂きます。 \nえあらびゅーの熱い思いも一緒に届けたいと思います。\n立ち止まって聞いてくれた方にも元気を届けたい一心で行いますので、是非お立ち寄りください。 \nライブ予定日：\n1月19、24、25、29、31\n2月5、7、9\n#えあらびゅー #チャリティーライブ
URL:https://hiraeth.tokyo/event/20240119-1/
CATEGORIES:Live
END:VEVENT
END:VCALENDAR