BEGIN:VCALENDAR
VERSION:2.0
PRODID:-//【HIRAETH.Tokyo】(ヒラエス.トーキョー) - ECPv6.11.2//NONSGML v1.0//EN
CALSCALE:GREGORIAN
METHOD:PUBLISH
X-WR-CALNAME:【HIRAETH.Tokyo】(ヒラエス.トーキョー)
X-ORIGINAL-URL:https://hiraeth.tokyo
X-WR-CALDESC:【HIRAETH.Tokyo】(ヒラエス.トーキョー) のイベント
REFRESH-INTERVAL;VALUE=DURATION:PT1H
X-Robots-Tag:noindex
X-PUBLISHED-TTL:PT1H
BEGIN:VTIMEZONE
TZID:Asia/Tokyo
BEGIN:STANDARD
TZOFFSETFROM:+0900
TZOFFSETTO:+0900
TZNAME:JST
DTSTART:20240101T000000
END:STANDARD
END:VTIMEZONE
BEGIN:VEVENT
DTSTART;VALUE=DATE:20240120
DTEND;VALUE=DATE:20240121
DTSTAMP:20260422T032742
CREATED:20240120T152026Z
LAST-MODIFIED:20240120T152026Z
UID:9133-1705708800-1705795199@hiraeth.tokyo
SUMMARY:507えあらびゅーチャリティーストリートライブ 〜メンバーひなたの実家新潟を支援したい！〜
DESCRIPTION:▽日時　1/20(土) \n▽イベント　507えあらびゅーチャリティーストリートライブ 〜メンバーひなたの実家新潟を支援したい！〜\n▽LIVE　16:30〜18:00\n▽会場　新宿\n▽定点配信　https://mixch.tv/u/17339228 \nーー\n1/13(土)MARQUEE祭mini Vol.183に来て下さりありがとうございました。\n50人突破のスピーカーを使いチャリティーライブを行います。 \n現在も地震の被害により思うように生活ができない方々が多くいます。\nその中にひなたの地元の新潟県もあります。\n普段から明るく元気に振る舞っていますがひなたも傷心しているのでは。。\nメンバーの気持ちを見て見ぬ振りが出来ず、一緒にできる事があるのでは？と話し合い復興支援をしたいと声が上がりました。 \n多くの意見があると思います。\nえあらびゅーはみなさんを元気にしたい笑顔にしたいと想い、意見をぶつけ合い、チャリティーストリートライブを行う事に致しました。 \nストリートライブで集まった募金を全て新潟県に支援させて頂きます。 \nえあらびゅーの熱い思いも一緒に届けたいと思います。\n立ち止まって聞いてくれた方にも元気を届けたい一心で行いますので、是非お立ち寄りください。 \nライブ予定日：\n1月19、24、25、29、31\n2月5、7、9\n#えあらびゅー #チャリティーライブ
URL:https://hiraeth.tokyo/event/20240120-3/
CATEGORIES:Live
END:VEVENT
BEGIN:VEVENT
DTSTART;VALUE=DATE:20240120
DTEND;VALUE=DATE:20240121
DTSTAMP:20260422T032742
CREATED:20231222T184111Z
LAST-MODIFIED:20240127T025339Z
UID:8743-1705708800-1705795199@hiraeth.tokyo
SUMMARY:506☆☆i-COLLE☆Fes PREMIUM-アイコレ-@新宿ALTA KeyStudio
DESCRIPTION:▽日時　1/20(土)\n▽イベント　506☆☆i-COLLE☆Fes PREMIUM-アイコレ-\n▽予約　https://tiget.net/events/293076\nチケ発1月13日22:00\n▽特典 星2ラリーカード、ランダムオフショット動画ダウンロード、アイコレで集めて楽しい謎らびゅー動画\n※アイコレで集めて楽しい謎らびゅー動画とは \n→えあらびゅー指名入場で1枚ゲット❕\n→㊙️動画のQRコードをランダムでくじ引き❕\n→毎回のアイコレで追加❕❕\n→集めたらなにか繋がるかも❕❔\n→メンバーオフショット❕❕ \n▽LIVE　13:20〜13:40\n▽物販　14:05〜15:05舞台裏A\n▽会場　新宿ALTA KeyStudio\n▽料金　前売S4000/前売A3000/当日+500/(各D別)\n※早割キャッシュバックあり/500円キャッシュバック(10時20分まで入場適用)※再入場無料\n▽開場　9:40\n▽イベント時間　10:00\n▽出演　えあらびゅー/純情のアフィリア/SAY-LA/放課後プリンセス/ラブアグレッション/COLOR’z/RiNCENT/PrincessGarden-姫庭-/アルテミスの翼/ai*ai/ソラネルカンパニー/エウレカ/airrow &DreaMy プリズムハート/miao/Re:INCARNATION/Drug&Drop/ピュアリーモンスター/LoveCherish/100-YOKAI/KOMAGOME/LOVE9LOVE/逆転ねこぱんちっ！/学歴の暴力/わたあめびーすたーず/アポロンの翼/CRNT READY TO KISS/TheWORLD/Seven Day’z/めるみるく/Venus Parfaitx/BANZAI JAPAN/
URL:https://hiraeth.tokyo/event/20240120-1/
LOCATION:新宿アルタKeyStudio\, 新宿3-24－3\, 新宿区\, 東京都\, 160-0022\, 日本
CATEGORIES:Live
ATTACH;FMTTYPE=image/jpeg:https://hiraeth.tokyo/wp-content/uploads/IMG_6982.jpeg
END:VEVENT
BEGIN:VEVENT
DTSTART;VALUE=DATE:20240120
DTEND;VALUE=DATE:20240121
DTSTAMP:20260422T032742
CREATED:20231223T063255Z
LAST-MODIFIED:20240119T160427Z
UID:8764-1705708800-1705795199@hiraeth.tokyo
SUMMARY:505無銭大好きマン@池袋SOUNDPEACE
DESCRIPTION:▽日時　1/20(土)\n▽イベント　505無銭大好きマン\n▽予約 https://tiget.net/events/294354\n▽LIVE　10:15〜10:30\n▽物販　10:40〜11:30A\n▽会場　池袋SOUNDPEACE\n▽料金　前売0/当日500/(2D代別)\n▽開場　8:50\n▽イベント時間　9:00\n▽出演　えあらびゅー/傾奇隊/Goodbye for First kiss/ミリオン! 〜Million Heaven Tokyo〜/\n甘病神℃ロヲム/MAHΩRAMA/YURAMEKI Neon Walker/ゼロサンクチュアリ/CUTENESS OVERLOAD/Lって何のLですか？/ハレノチ×ハレーション/PATI PATI CANDY…☆/大宮I☆DOLL/はにーべいびー/バブルバビデガム!!/ヲドルマヨナカ/
URL:https://hiraeth.tokyo/event/20240120-2/
CATEGORIES:Live
ATTACH;FMTTYPE=image/jpeg:https://hiraeth.tokyo/wp-content/uploads/IMG_6977.jpeg
END:VEVENT
END:VCALENDAR