BEGIN:VCALENDAR
VERSION:2.0
PRODID:-//【HIRAETH.Tokyo】(ヒラエス.トーキョー) - ECPv6.11.2//NONSGML v1.0//EN
CALSCALE:GREGORIAN
METHOD:PUBLISH
X-WR-CALNAME:【HIRAETH.Tokyo】(ヒラエス.トーキョー)
X-ORIGINAL-URL:https://hiraeth.tokyo
X-WR-CALDESC:【HIRAETH.Tokyo】(ヒラエス.トーキョー) のイベント
REFRESH-INTERVAL;VALUE=DURATION:PT1H
X-Robots-Tag:noindex
X-PUBLISHED-TTL:PT1H
BEGIN:VTIMEZONE
TZID:Asia/Tokyo
BEGIN:STANDARD
TZOFFSETFROM:+0900
TZOFFSETTO:+0900
TZNAME:JST
DTSTART:20240101T000000
END:STANDARD
END:VTIMEZONE
BEGIN:VEVENT
DTSTART;VALUE=DATE:20240121
DTEND;VALUE=DATE:20240122
DTSTAMP:20260422T025144
CREATED:20231206T214923Z
LAST-MODIFIED:20240120T152226Z
UID:8461-1705795200-1705881599@hiraeth.tokyo
SUMMARY:509☆IDOL SPIRITS  1月号＠五反田G7
DESCRIPTION:▽日時　1/21(日)\n▽イベント　509☆IDOL SPIRITS 新年1月号\n▽予約　https://t.livepocket.jp/e/t0vj9\n▽LIVE　19:20～19:40\n▽物販　19:45～20:45D\n▽会場　五反田G7\n▽料金　前方優先エリア前売3000/一般エリア前売2000/当日+700(各D別)\n▽開場　12:00\n▽イベント時間　12:10(予定)\n▽出演　えあらびゅー/Mio lavy/異国のルミナリア/日曜日の起死回生/参宮橋駅前女子/いちごみるく色に染まりたい。/.BPM/疾風RUN舞/RiKKYY/青山Rabness/ミニスカポリス/Reverse Tokyo/Twinkle⭐Stars/世ノ果デデ人形ハ唯哂フ。/ЯanaB/Misty Syrena/Lanan/メノニューイヤー/if/Seeds/PSTIL/アクアルクス/パステルホログラム/ブルーなままで/風邪をひいた時にみる夢/Marionette in the Mirror/
URL:https://hiraeth.tokyo/event/20240121-1/
LOCATION:五反田G7\, 西五反田2-6-3 東洋ビルB1階\, 品川区\, 東京都\, 141-0031\, 日本
CATEGORIES:Live
ATTACH;FMTTYPE=image/jpeg:https://hiraeth.tokyo/wp-content/uploads/IMG_7001.jpeg
END:VEVENT
END:VCALENDAR