BEGIN:VCALENDAR
VERSION:2.0
PRODID:-//【HIRAETH.Tokyo】(ヒラエス.トーキョー) - ECPv6.11.2//NONSGML v1.0//EN
CALSCALE:GREGORIAN
METHOD:PUBLISH
X-ORIGINAL-URL:https://hiraeth.tokyo
X-WR-CALDESC:【HIRAETH.Tokyo】(ヒラエス.トーキョー) のイベント
REFRESH-INTERVAL;VALUE=DURATION:PT1H
X-Robots-Tag:noindex
X-PUBLISHED-TTL:PT1H
BEGIN:VTIMEZONE
TZID:Asia/Tokyo
BEGIN:STANDARD
TZOFFSETFROM:+0900
TZOFFSETTO:+0900
TZNAME:JST
DTSTART:20240101T000000
END:STANDARD
END:VTIMEZONE
BEGIN:VEVENT
DTSTART;VALUE=DATE:20240127
DTEND;VALUE=DATE:20240128
DTSTAMP:20260422T023723
CREATED:20240105T020237Z
LAST-MODIFIED:20240123T084004Z
UID:8890-1706313600-1706399999@hiraeth.tokyo
SUMMARY:513☆あるふぇす vol.1@池袋Studio Mixa
DESCRIPTION:▽日時　1/27(土)\n▽イベント　513☆あるふぇす vol.1\n▽予約　https://t.livepocket.jp/e/r-fes_0127■チケット販売日時\n1月20日(土)22:00～\n▽LIVE　14:40～15:00\n▽物販　15:00～16:00並行C\n▽会場　池袋Studio Mixa\n▽料金　前方3000/通常2000/当日＋500(各D別)\n▽開場　11:40\n▽イベント時間　12:00予定\n▽出演　えあらびゅー/ぶっとび！パンデミック/仮面女子/planet merry/あわこい/&DreaMy/LEVEL 7/アポストロフィ/ハレノチ×ハレーション/僕だけの天使/ヒトノユメ/Mio Lavy/Quest Ship/\n▽入場順　入場順：①優先整理番号順②通常整理番号順③当日(整列順)
URL:https://hiraeth.tokyo/event/20240127-1/
LOCATION:池袋Studio Mixa\, 東池袋1-14-3 4F\, 豊島区\, 東京都\, 日本
CATEGORIES:Live
ATTACH;FMTTYPE=image/jpeg:https://hiraeth.tokyo/wp-content/uploads/IMG_6998.jpeg
END:VEVENT
END:VCALENDAR