BEGIN:VCALENDAR
VERSION:2.0
PRODID:-//【HIRAETH.Tokyo】(ヒラエス.トーキョー) - ECPv6.11.2//NONSGML v1.0//EN
CALSCALE:GREGORIAN
METHOD:PUBLISH
X-WR-CALNAME:【HIRAETH.Tokyo】(ヒラエス.トーキョー)
X-ORIGINAL-URL:https://hiraeth.tokyo
X-WR-CALDESC:【HIRAETH.Tokyo】(ヒラエス.トーキョー) のイベント
REFRESH-INTERVAL;VALUE=DURATION:PT1H
X-Robots-Tag:noindex
X-PUBLISHED-TTL:PT1H
BEGIN:VTIMEZONE
TZID:Asia/Tokyo
BEGIN:STANDARD
TZOFFSETFROM:+0900
TZOFFSETTO:+0900
TZNAME:JST
DTSTART:20240101T000000
END:STANDARD
END:VTIMEZONE
BEGIN:VEVENT
DTSTART;VALUE=DATE:20240128
DTEND;VALUE=DATE:20240129
DTSTAMP:20260422T023714
CREATED:20240105T065105Z
LAST-MODIFIED:20240123T084029Z
UID:8895-1706400000-1706486399@hiraeth.tokyo
SUMMARY:515☆Coloré Gemme-派@クロジェム-WEEK vol.27@新宿Biske
DESCRIPTION:▽日時　1/28(日)\n▽イベント　515☆Coloré Gemme-派@クロジェム-WEEK vol.27\n▽予約　https://t.livepocket.jp/e/biske-0128\n▽LIVE　15:25〜\n▽物販　15:50〜16:50B\n▽会場　新宿Biske\n▽料金　前売前方2000/前売通常1000/当日+500(各2D別)\n▽開場　10:40\n▽イベント時間　11:00〜\n▽出演　えあらびゅー/IVY/エウレカ/KATACOTO＊BANK/Capella/柑橘クーベルチュール/狂愛ストラテジー/クチナシ/Goodbye for First kiss/すたーちす/1000日後の話。/トキメロ/NaNiYoRi/NEÖN_/バブルバビデガム!!/Pialans/#ピコリフ/ヒビコレ/ビビッときたかも！/星合いのライラック/ミリオン！〜Million Heaven Tokyo〜/Mesia/RËSELA/ \n▽入場順：①前売前方整理番号順②前売通常整理番号順③当日
URL:https://hiraeth.tokyo/event/20240128-1/
LOCATION:新宿Biske\, 歌舞伎町1-17-13 新宿 ピックペック8F\, 新宿区\, 東京都\, 日本
CATEGORIES:Live
ATTACH;FMTTYPE=image/jpeg:https://hiraeth.tokyo/wp-content/uploads/IMG_6992.jpeg
END:VEVENT
BEGIN:VEVENT
DTSTART;VALUE=DATE:20240128
DTEND;VALUE=DATE:20240129
DTSTAMP:20260422T023714
CREATED:20240123T082652Z
LAST-MODIFIED:20240123T082751Z
UID:9175-1706400000-1706486399@hiraeth.tokyo
SUMMARY:514えあらびゅーチャリティーストリートライブ〜メンバーひなたの実家新潟を支援したい!〜
DESCRIPTION:▽日時　1/28(日) \n▽イベント　514えあらびゅーチャリティーストリートライブ〜メンバーひなたの実家新潟を支援したい!〜\n▽予定時間　13:00～14:00\n▽予定地　新宿東急歌舞伎町タワー(和牛特区前)\n▽定点配信　https://mixch.tv/u/17339228\n※事前に予定地に行き予定時間に開始できる用に準備を致します。\nしかし天候や場所など様々な状況により予定通りいかない場合がございます。\n予定を調整して寒い中で待って頂いている皆様のご期待に添える様に頑張ります。\n時間や場所の変更の際にはなるべく早く公式またはメンバーのXアカウントからお知らせしますので、ご理解を頂けると幸いです。\nーー\n1/13(土)MARQUEE祭mini Vol.183に来て下さりありがとうございました。\n50人突破のスピーカーを使いチャリティーライブを行います。 \n現在も地震の被害により思うように生活ができない方々が多くいます。\nその中にひなたの地元の新潟県もあります。\n普段から明るく元気に振る舞っていますがひなたも傷心しているのでは。。\nメンバーの気持ちを見て見ぬ振りが出来ず、一緒にできる事があるのでは？と話し合い復興支援をしたいと声が上がりました。 \n多くの意見があると思います。\nえあらびゅーはみなさんを元気にしたい笑顔にしたいと想い、意見をぶつけ合いチャリティーストリートライブを行う事に致しました。 \nストリートライブで集まった募金を全て新潟県の支援に利用させて頂きます。\nえあらびゅーの熱い思いも一緒に届けたいと思います。 \n立ち止まって聞いてくれた方にも元気を届けたい一心で行いますので、是非お立ち寄りください。 \n#えあらびゅー #チャリティーライブ
URL:https://hiraeth.tokyo/event/20240128-2/
LOCATION:新宿東急歌舞伎町タワー(和牛特区前)\, 歌舞伎町1-29-1\, 新宿区\, 東京都\, 160-0021
CATEGORIES:Live
END:VEVENT
END:VCALENDAR