BEGIN:VCALENDAR
VERSION:2.0
PRODID:-//【HIRAETH.Tokyo】(ヒラエス.トーキョー) - ECPv6.11.2//NONSGML v1.0//EN
CALSCALE:GREGORIAN
METHOD:PUBLISH
X-ORIGINAL-URL:https://hiraeth.tokyo
X-WR-CALDESC:【HIRAETH.Tokyo】(ヒラエス.トーキョー) のイベント
REFRESH-INTERVAL;VALUE=DURATION:PT1H
X-Robots-Tag:noindex
X-PUBLISHED-TTL:PT1H
BEGIN:VTIMEZONE
TZID:Asia/Tokyo
BEGIN:STANDARD
TZOFFSETFROM:+0900
TZOFFSETTO:+0900
TZNAME:JST
DTSTART:20240101T000000
END:STANDARD
END:VTIMEZONE
BEGIN:VEVENT
DTSTART;VALUE=DATE:20240204
DTEND;VALUE=DATE:20240205
DTSTAMP:20260422T011605
CREATED:20240131T110902Z
LAST-MODIFIED:20240204T083856Z
UID:9273-1707004800-1707091199@hiraeth.tokyo
SUMMARY:(中止)えあらびゅーチャリティー路上ライブ〜メンバーひなたの実家新潟を支援したい!〜
DESCRIPTION:▽日時　2/4(日)\n▽イベント　(中止)えあらびゅーチャリティー路上ライブ〜メンバーひなたの実家新潟を支援したい!〜\n▽予定時間　\n▽予定地　\n▽定点配信　https://mixch.tv/u/17339228\n※事前に予定地に行き予定時間に開始できる用に準備を致します。\nしかし天候や場所など様々な状況により予定通りいかない場合がございます。\n予定を調整して寒い中で待って頂いている皆様のご期待に添える様に頑張ります。\n時間や場所の変更の際にはなるべく早く公式またはメンバーのXアカウントからお知らせしますので、ご理解を頂けると幸いです。\nーー\n1/13(土)MARQUEE祭mini Vol.183に来て下さりありがとうございました。\n50人突破のスピーカーを使いチャリティーライブを行います。 \n現在も地震の被害により思うように生活ができない方々が多くいます。\nその中にひなたの地元の新潟県もあります。\n普段から明るく元気に振る舞っていますがひなたも傷心しているのでは。。\nメンバーの気持ちを見て見ぬ振りが出来ず、一緒にできる事があるのでは？と話し合い復興支援をしたいと声が上がりました。 \n多くの意見があると思います。\nえあらびゅーはみなさんを元気にしたい笑顔にしたいと想い、意見をぶつけ合いチャリティーストリートライブを行う事に致しました。 \nストリートライブで集まった募金を全て新潟県の支援に利用させて頂きます。\nえあらびゅーの熱い思いも一緒に届けたいと思います。 \n立ち止まって聞いてくれた方にも元気を届けたい一心で行いますので、是非お立ち寄りください。 \n#えあらびゅー #チャリティーライブ
URL:https://hiraeth.tokyo/event/20240204-3/
CATEGORIES:Live
END:VEVENT
BEGIN:VEVENT
DTSTART;VALUE=DATE:20240204
DTEND;VALUE=DATE:20240205
DTSTAMP:20260422T011605
CREATED:20240110T061736Z
LAST-MODIFIED:20240131T110216Z
UID:8983-1707004800-1707091199@hiraeth.tokyo
SUMMARY:526☆イタダキ サテライト stage vol.38@渋谷SHIBUYA VIDENT
DESCRIPTION:▽日にち 2/4(日)\n▽イベント　526☆イタダキ サテライト stage vol.38\n▽予約　https://t.livepocket.jp/e/sv20240204\n▽LIVE　11:50〜12:10\n▽物販　12:15〜13:15\n▽会場　渋谷SHIBUYA VIDENTサテライト stage\n▽料金　前方4000/一般2500/当日+500/(各D別)\n▽開場　11:40\n▽イベント時間　12:00(予定)\n▽出演　えあらびゅー/『アイコノクラズム』/あいまいどーる/アンダービースティー研修生/いつだって青い春。/if/えぬえむとぅけ/神様革命/CANDY GO!GO!/TheWORLD/じぇむどり。/ZERO PROJECT Z2/炭酸くろにくるっ/チャーヂ！/neOen/8月のエウテルペ/ヒロインの心/FloreRisa-フロレリーサ-/世ノ果テデ人形ハ唯晒フ。/ラビットビット/Licht/Loulouchouchou/ONE NEXT GIRLS/あわこい/PPP/Plumelt/BELL FLORA/♮リアスクライブ/
URL:https://hiraeth.tokyo/event/20240204-1/
LOCATION:渋谷VIDENT\, 宇田川町29-4 B2階\, 渋谷区\, 東京都\, 150-0042\, 日本
CATEGORIES:Live
ATTACH;FMTTYPE=image/jpeg:https://hiraeth.tokyo/wp-content/uploads/IMG_6981.jpeg
END:VEVENT
BEGIN:VEVENT
DTSTART;VALUE=DATE:20240204
DTEND;VALUE=DATE:20240205
DTSTAMP:20260422T011605
CREATED:20240131T110710Z
LAST-MODIFIED:20240204T055251Z
UID:9271-1707004800-1707091199@hiraeth.tokyo
SUMMARY:527えあらびゅーチャリティー路上ライブ〜メンバーひなたの実家新潟を支援したい!〜
DESCRIPTION:▽日時　2/4(日)\n▽イベント　527えあらびゅーチャリティー路上ライブ〜メンバーひなたの実家新潟を支援したい!〜\n▽予定時間　15:00\n▽予定地　渋谷東急PLAZA前の歩道橋\n▽定点配信　https://mixch.tv/u/17339228\n※事前に予定地に行き予定時間に開始できる用に準備を致します。\nしかし天候や場所など様々な状況により予定通りいかない場合がございます。\n予定を調整して寒い中で待って頂いている皆様のご期待に添える様に頑張ります。\n時間や場所の変更の際にはなるべく早く公式またはメンバーのXアカウントからお知らせしますので、ご理解を頂けると幸いです。\nーー\n1/13(土)MARQUEE祭mini Vol.183に来て下さりありがとうございました。\n50人突破のスピーカーを使いチャリティーライブを行います。 \n現在も地震の被害により思うように生活ができない方々が多くいます。\nその中にひなたの地元の新潟県もあります。\n普段から明るく元気に振る舞っていますがひなたも傷心しているのでは。。\nメンバーの気持ちを見て見ぬ振りが出来ず、一緒にできる事があるのでは？と話し合い復興支援をしたいと声が上がりました。 \n多くの意見があると思います。\nえあらびゅーはみなさんを元気にしたい笑顔にしたいと想い、意見をぶつけ合いチャリティーストリートライブを行う事に致しました。 \nストリートライブで集まった募金を全て新潟県の支援に利用させて頂きます。\nえあらびゅーの熱い思いも一緒に届けたいと思います。 \n立ち止まって聞いてくれた方にも元気を届けたい一心で行いますので、是非お立ち寄りください。 \n#えあらびゅー #チャリティーライブ
URL:https://hiraeth.tokyo/event/20240204-2/
CATEGORIES:Live
END:VEVENT
END:VCALENDAR