BEGIN:VCALENDAR
VERSION:2.0
PRODID:-//【HIRAETH.Tokyo】(ヒラエス.トーキョー) - ECPv6.11.2//NONSGML v1.0//EN
CALSCALE:GREGORIAN
METHOD:PUBLISH
X-WR-CALNAME:【HIRAETH.Tokyo】(ヒラエス.トーキョー)
X-ORIGINAL-URL:https://hiraeth.tokyo
X-WR-CALDESC:【HIRAETH.Tokyo】(ヒラエス.トーキョー) のイベント
REFRESH-INTERVAL;VALUE=DURATION:PT1H
X-Robots-Tag:noindex
X-PUBLISHED-TTL:PT1H
BEGIN:VTIMEZONE
TZID:Asia/Tokyo
BEGIN:STANDARD
TZOFFSETFROM:+0900
TZOFFSETTO:+0900
TZNAME:JST
DTSTART:20240101T000000
END:STANDARD
END:VTIMEZONE
BEGIN:VEVENT
DTSTART;VALUE=DATE:20240211
DTEND;VALUE=DATE:20240212
DTSTAMP:20260422T011606
CREATED:20240201T113958Z
LAST-MODIFIED:20240208T151928Z
UID:9294-1707609600-1707695999@hiraeth.tokyo
SUMMARY:535えあらびゅーチャリティーストリートライブ〜メンバーひなたの実家新潟を支援したい!〜
DESCRIPTION:▽日時　2/11(日) \n▽イベント　535えあらびゅーチャリティーストリートライブ〜メンバーひなたの実家新潟を支援したい!〜\n▽予定時間　18:30～\n▽予定地　新宿駅南口\n▽定点配信　https://mixch.tv/u/17339228\n※事前に予定地に行き予定時間に開始できる用に準備を致します。\nしかし天候や場所など様々な状況により予定通りいかない場合がございます。\n予定を調整して寒い中で待って頂いている皆様のご期待に添える様に頑張ります。\n時間や場所の変更の際にはなるべく早く公式またはメンバーのXアカウントからお知らせしますので、ご理解を頂けると幸いです。\nーー\n1/13(土)MARQUEE祭mini Vol.183に来て下さりありがとうございました。\n50人突破のスピーカーを使いチャリティーライブを行います。 \n現在も地震の被害により思うように生活ができない方々が多くいます。\nその中にひなたの地元の新潟県もあります。\n普段から明るく元気に振る舞っていますがひなたも傷心しているのでは。。\nメンバーの気持ちを見て見ぬ振りが出来ず、一緒にできる事があるのでは？と話し合い復興支援をしたいと声が上がりました。 \n多くの意見があると思います。\nえあらびゅーはみなさんを元気にしたい笑顔にしたいと想い、意見をぶつけ合いチャリティーストリートライブを行う事に致しました。 \nストリートライブで集まった募金を全て新潟県の支援に利用させて頂きます。\nえあらびゅーの熱い思いも一緒に届けたいと思います。 \n立ち止まって聞いてくれた方にも元気を届けたい一心で行いますので、是非お立ち寄りください。 \n#えあらびゅー #チャリティーライブ
URL:https://hiraeth.tokyo/event/20240211-3/
CATEGORIES:Live
END:VEVENT
BEGIN:VEVENT
DTSTART;VALUE=DATE:20240211
DTEND;VALUE=DATE:20240212
DTSTAMP:20260422T011606
CREATED:20231222T184412Z
LAST-MODIFIED:20240208T151844Z
UID:8745-1707609600-1707695999@hiraeth.tokyo
SUMMARY:534☆☆i-COLLE☆Fes PREMIUM-アイコレ-＠新宿LUMINE 0 ホール
DESCRIPTION:▽日時　2/11(日)\n▽イベント　534☆☆i-COLLE☆Fes PREMIUM-アイコレ-\n▽予約　https://tiget.net/events/296061\nチケ発 : 1月30日22:00\n▽特典 星2ラリーカード、アイコレで集めて楽しい謎らびゅー動画\n※アイコレで集めて楽しい謎らびゅー動画とは\nランダムオフショットダウンロード動画です\n→えあらびゅー指名入場で1枚ゲット❕\n→㊙️動画のQRコードをランダムでくじ引き❕\n→毎回のアイコレで追加❕❕\n→集めたらなにか繋がるかも❕❔\n→メンバーオフショット❕❕ \n▽LIVE　16:15〜16:35\n▽物販　17:00〜18:00ホワイエC\n▽会場　新宿LUMINE 0 ホール\n▽料金　前売S4000/前売A3000/当日+500(各D別)※早割1000円キャッシュバック(10時20分まで入場適用)\n▽開場　10:00\n▽イベント時間　10:20〜(予定)\n▽出演　えあらびゅー/KissBee/Bety/放課後プリンセス/つぼみ大革命/GlimAssembler/8月のエウテルペ/COLOR’z/♡’s (kyuuuns)/エウレカ/プリズムハート/Drug&Drop/RiNCENT♯/PrincessGarden-姫庭-/Twinkle☆Stars/純粋カフェラッテ/&DreaMy/LOVE9LOVE/LoveCherish/めるみるく/CANDY GO!GO!/Ω僕たちまたなにかやっちゃいました？Ω/100万ドルのフェアレディ/CONTRAIL ZERO/Lapis/\nでからき/TheWORLD/アポロンの翼/READY TO KISS/LEVEL7/I-GET新グループ/他\n※全日制イベント\n※席ありスタンディング可
URL:https://hiraeth.tokyo/event/20240211-2/
LOCATION:新宿LUMINE 0 ホール\, 千駄ケ谷5-24-55NEWoMan新宿5F\, 渋谷区\, 東京都\, 151-0051\, 日本
CATEGORIES:Live
ATTACH;FMTTYPE=image/jpeg:https://hiraeth.tokyo/wp-content/uploads/IMG_7116.jpeg
END:VEVENT
BEGIN:VEVENT
DTSTART;VALUE=DATE:20240211
DTEND;VALUE=DATE:20240212
DTSTAMP:20260422T011606
CREATED:20231208T074827Z
LAST-MODIFIED:20240208T151816Z
UID:8480-1707609600-1707695999@hiraeth.tokyo
SUMMARY:533☆☆マスカレイド・アイドル mini vol.4＠秋葉原AkibaStellaCube
DESCRIPTION:▽日時　 2/11(日)\n▽イベント　533☆☆マスカレイド・アイドル mini vol.4\n▽予約　https://tiget.net/events/292568\n※チケット発売　2024年2月11日(日)10:30まで\n▽特典　星2ラリーカード\n▽LIVE　12:00～12:20\n▽物販　12:45～13:45\n▽会場　秋葉原AkibaStellaCube\n▽料金　前売2300/当日3000/(各D別) \n▽開場　11:00\n▽イベント時間　11:20(予定)\n▽出演　えあらびゅー/青い桜/アポロンの翼/えあらびゅー/えすれある/エラバレシ/COLOR’z/KissBee next/きゅ〜くる/純情のアフィリア/ソラネルカンパニー/ニーキューオメガ/Newbie Ivy/Next☆Rico/はちみつハニー/ハレノチ×ハレーシン/PiXMiX/Baby’z Breath/MY First Bae’s/Milky✳️Sphene/LoveCherish/ \n#楽しんじゃいますかれいど\n@masquerade_idol
URL:https://hiraeth.tokyo/event/20240211-1/
LOCATION:秋葉原AkibaStellaCube\, 外神田6-14-2 サカイ末広ビル2階\, 千代田区\, 東京都\, 101-0021\, 日本
CATEGORIES:Live
ATTACH;FMTTYPE=image/jpeg:https://hiraeth.tokyo/wp-content/uploads/IMG_7109.jpeg
END:VEVENT
END:VCALENDAR