BEGIN:VCALENDAR
VERSION:2.0
PRODID:-//【HIRAETH.Tokyo】(ヒラエス.トーキョー) - ECPv6.11.2//NONSGML v1.0//EN
CALSCALE:GREGORIAN
METHOD:PUBLISH
X-ORIGINAL-URL:https://hiraeth.tokyo
X-WR-CALDESC:【HIRAETH.Tokyo】(ヒラエス.トーキョー) のイベント
REFRESH-INTERVAL;VALUE=DURATION:PT1H
X-Robots-Tag:noindex
X-PUBLISHED-TTL:PT1H
BEGIN:VTIMEZONE
TZID:Asia/Tokyo
BEGIN:STANDARD
TZOFFSETFROM:+0900
TZOFFSETTO:+0900
TZNAME:JST
DTSTART:20240101T000000
END:STANDARD
END:VTIMEZONE
BEGIN:VEVENT
DTSTART;VALUE=DATE:20240212
DTEND;VALUE=DATE:20240213
DTSTAMP:20260422T015130
CREATED:20240202T025931Z
LAST-MODIFIED:20240212T052054Z
UID:9307-1707696000-1707782399@hiraeth.tokyo
SUMMARY:538えあらびゅーチャリティーストリートライブ〜メンバーひなたの実家新潟を支援したい!〜
DESCRIPTION:▽日時　2/12(月祝)\n▽イベント　538えあらびゅーチャリティーストリートライブ〜メンバーひなたの実家新潟を支援したい!〜\n▽予定時間　15:30～\n▽予定地　新宿駅南口\n▽定点配信　https://mixch.tv/u/17339228\n※事前に予定地に行き予定時間に開始できる用に準備を致します。\nしかし天候や場所など様々な状況により予定通りいかない場合がございます。\n予定を調整して寒い中で待って頂いている皆様のご期待に添える様に頑張ります。\n時間や場所の変更の際にはなるべく早く公式またはメンバーのXアカウントからお知らせしますので、ご理解を頂けると幸いです。\nーー\n1/13(土)MARQUEE祭mini Vol.183に来て下さりありがとうございました。\n50人突破のスピーカーを使いチャリティーライブを行います。 \n現在も地震の被害により思うように生活ができない方々が多くいます。\nその中にひなたの地元の新潟県もあります。\n普段から明るく元気に振る舞っていますがひなたも傷心しているのでは。。\nメンバーの気持ちを見て見ぬ振りが出来ず、一緒にできる事があるのでは？と話し合い復興支援をしたいと声が上がりました。 \n多くの意見があると思います。\nえあらびゅーはみなさんを元気にしたい笑顔にしたいと想い、意見をぶつけ合いチャリティーストリートライブを行う事に致しました。 \nストリートライブで集まった募金を全て新潟県の支援に利用させて頂きます。\nえあらびゅーの熱い思いも一緒に届けたいと思います。 \n立ち止まって聞いてくれた方にも元気を届けたい一心で行いますので、是非お立ち寄りください。 \n#えあらびゅー #チャリティーライブ
URL:https://hiraeth.tokyo/event/20240212-4/
CATEGORIES:Live
END:VEVENT
BEGIN:VEVENT
DTSTART;VALUE=DATE:20240212
DTEND;VALUE=DATE:20240213
DTSTAMP:20260422T015130
CREATED:20240202T025355Z
LAST-MODIFIED:20240209T064002Z
UID:9301-1707696000-1707782399@hiraeth.tokyo
SUMMARY:537☆バレンタインサーキット！ちょこフェス！9周年スペシャル！
DESCRIPTION:▽日にち 2/12(月祝)\n▽イベント　537☆バレンタインサーキット！ちょこフェス！9周年スペシャル！\n▽予約　https://t.livepocket.jp/e/chocofes2024\n▽LIVE　13:30～13:50\n▽物販　13:50～14:50\n▽会場　新宿Biske\n▽料金　前売4900/当日5400(各D別)\n▽開場　11:00\n▽イベント時間　11:30(予定)\n▽出演　えあらびゅー/#ういらぶ/LUNCH KIDS/トランジール/もふるxクロス/pipia/RED-i/
URL:https://hiraeth.tokyo/event/20240212-2/
LOCATION:新宿Biske\, 歌舞伎町1-17-13 新宿 ピックペック8F\, 新宿区\, 東京都\, 日本
CATEGORIES:Live
ATTACH;FMTTYPE=image/jpeg:https://hiraeth.tokyo/wp-content/uploads/S__1041003.jpg
END:VEVENT
BEGIN:VEVENT
DTSTART;VALUE=DATE:20240212
DTEND;VALUE=DATE:20240213
DTSTAMP:20260422T015130
CREATED:20240202T025533Z
LAST-MODIFIED:20240209T063825Z
UID:9303-1707696000-1707782399@hiraeth.tokyo
SUMMARY:536えあらびゅーチャリティーストリートライブ〜メンバーひなたの実家新潟を支援したい!〜
DESCRIPTION:▽日時　2/12(月祝) \n▽イベント　536えあらびゅーチャリティーストリートライブ〜メンバーひなたの実家新潟を支援したい!〜\n▽予定時間　11:30～12:30\n▽予定地　新宿東口\n▽定点配信　https://mixch.tv/u/17339228\n※事前に予定地に行き予定時間に開始できる用に準備を致します。\nしかし天候や場所など様々な状況により予定通りいかない場合がございます。\n予定を調整して寒い中で待って頂いている皆様のご期待に添える様に頑張ります。\n時間や場所の変更の際にはなるべく早く公式またはメンバーのXアカウントからお知らせしますので、ご理解を頂けると幸いです。\nーー\n1/13(土)MARQUEE祭mini Vol.183に来て下さりありがとうございました。\n50人突破のスピーカーを使いチャリティーライブを行います。 \n現在も地震の被害により思うように生活ができない方々が多くいます。\nその中にひなたの地元の新潟県もあります。\n普段から明るく元気に振る舞っていますがひなたも傷心しているのでは。。\nメンバーの気持ちを見て見ぬ振りが出来ず、一緒にできる事があるのでは？と話し合い復興支援をしたいと声が上がりました。 \n多くの意見があると思います。\nえあらびゅーはみなさんを元気にしたい笑顔にしたいと想い、意見をぶつけ合いチャリティーストリートライブを行う事に致しました。 \nストリートライブで集まった募金を全て新潟県の支援に利用させて頂きます。\nえあらびゅーの熱い思いも一緒に届けたいと思います。 \n立ち止まって聞いてくれた方にも元気を届けたい一心で行いますので、是非お立ち寄りください。 \n#えあらびゅー #チャリティーライブ
URL:https://hiraeth.tokyo/event/20240212-3/
CATEGORIES:Live
END:VEVENT
BEGIN:VEVENT
DTSTART;VALUE=DATE:20240212
DTEND;VALUE=DATE:20240213
DTSTAMP:20260422T015130
CREATED:20240111T230055Z
LAST-MODIFIED:20240119T165938Z
UID:9084-1707696000-1707782399@hiraeth.tokyo
SUMMARY:令和六年えあらびゅーおみくじ動画公開
DESCRIPTION:◆きこ\n◆ことね\n◆にあ\n◆ひなた\n◆みーな\n◆ももな
URL:https://hiraeth.tokyo/event/20240212-1/
CATEGORIES:Event,Live
ATTACH;FMTTYPE=image/png:https://hiraeth.tokyo/wp-content/uploads/えあらびゅーおみくじ2024.png
END:VEVENT
END:VCALENDAR