BEGIN:VCALENDAR
VERSION:2.0
PRODID:-//【HIRAETH.Tokyo】(ヒラエス.トーキョー) - ECPv6.11.2//NONSGML v1.0//EN
CALSCALE:GREGORIAN
METHOD:PUBLISH
X-WR-CALNAME:【HIRAETH.Tokyo】(ヒラエス.トーキョー)
X-ORIGINAL-URL:https://hiraeth.tokyo
X-WR-CALDESC:【HIRAETH.Tokyo】(ヒラエス.トーキョー) のイベント
REFRESH-INTERVAL;VALUE=DURATION:PT1H
X-Robots-Tag:noindex
X-PUBLISHED-TTL:PT1H
BEGIN:VTIMEZONE
TZID:Asia/Tokyo
BEGIN:STANDARD
TZOFFSETFROM:+0900
TZOFFSETTO:+0900
TZNAME:JST
DTSTART:20240101T000000
END:STANDARD
END:VTIMEZONE
BEGIN:VEVENT
DTSTART;VALUE=DATE:20240218
DTEND;VALUE=DATE:20240219
DTSTAMP:20260422T011606
CREATED:20240208T154656Z
LAST-MODIFIED:20240211T060516Z
UID:9436-1708214400-1708300799@hiraeth.tokyo
SUMMARY:544IDOL SPIRITS 無銭祭‼@五反田G6
DESCRIPTION:▽日にち 2/18(日)\n▽イベント　544IDOL SPIRITS 無銭祭！！BEST3 SP\n▽予約　https://t.livepocket.jp/e/ypn2e\n▽LIVE　20:30〜20:50(予定)\n▽物販　21:10〜22:15(全組終演後予定)\n▽会場　五反田G6\n▽料金　前方2000/一般0/当日+700/(各D別)\n▽開場　20:00\n▽イベント時間　20:10(予定)\n▽出演　えあらびゅー/疾風RUN舞/Licht/\n▽タイムテーブル\n①20:10〜20:30 疾風RUN舞\n②20:30〜20:50えあらびゅー\n③20:50〜21:10Licht\n終了後全員で物販　21:10〜22:15
URL:https://hiraeth.tokyo/event/20240218-3/
LOCATION:五反田G6\, 西五反田2-6-3 東洋ビルB1階\, 品川区\, 東京都\, 141-0031\, 日本
CATEGORIES:Live
ATTACH;FMTTYPE=image/jpeg:https://hiraeth.tokyo/wp-content/uploads/IMG_7258.jpeg
END:VEVENT
BEGIN:VEVENT
DTSTART;VALUE=DATE:20240218
DTEND;VALUE=DATE:20240219
DTSTAMP:20260422T011606
CREATED:20231226T150325Z
LAST-MODIFIED:20240209T071202Z
UID:8790-1708214400-1708300799@hiraeth.tokyo
SUMMARY:543☆IDOL SPIRITS 2月号@五反田G7
DESCRIPTION:▽日時　2/18(日)\n▽イベント　543☆IDOL SPIRITS 2月号\n▽予約　https://t.livepocket.jp/e/itppc\n▽LIVE　17:05～17:20\n▽物販　17:30～18:30A\n▽会場　五反田G7\n▽料金　前売前方優先エリア3000/一般エリア2000/当日券＋700(各D別)\n▽開場　11:05\n▽イベント時間　11:15～(予定)\n▽出演　えあらびゅー/Twinkle⭐︎Stars/桜色Standard/シャルロット/異国のルミナリア/星屑ラビリンス/wqwq/SharLie/Reverse Tokyo/風邪をひいた時にみる夢/.BPM/ブルーなままで/CURTiA/TJP/世ノ果デデ人形ハ唯哂フ。/青山Rabness/コノサキモ隣ニ/Lanan/白のエレガンシー/とわる/Misty Syrena/Licht/if/SeedS/PSTIL/新世界ギルドール/Res♡chu/プリンセスは眠らない!/Comma\,/ハレノチ✖️ハレーション/妄想学院生徒会/
URL:https://hiraeth.tokyo/event/20230218-3/
LOCATION:五反田G7\, 西五反田2-6-3 東洋ビルB1階\, 品川区\, 東京都\, 141-0031\, 日本
CATEGORIES:Live
ATTACH;FMTTYPE=image/jpeg:https://hiraeth.tokyo/wp-content/uploads/IMG_7052.jpeg
END:VEVENT
BEGIN:VEVENT
DTSTART;VALUE=DATE:20240218
DTEND;VALUE=DATE:20240219
DTSTAMP:20260422T011606
CREATED:20231222T184604Z
LAST-MODIFIED:20240209T071133Z
UID:8747-1708214400-1708300799@hiraeth.tokyo
SUMMARY:542☆☆i-COLLE☆Fes PREMIUM-アイコレ-
DESCRIPTION:▽日時　2/18(日)\n▽イベント　542☆☆i-COLLE☆Fes PREMIUM-アイコレ-\n▽予約　https://tiget.net/events/297404\n▽特典　星2ラリーカード、アイコレで集めて楽しい謎らびゅー動画\n※ アイコレで集めて楽しい謎らびゅー動画とは\n→えあらびゅー指名入場で1枚ゲット❕\n→㊙️動画をランダムで❕\n→毎回のアイコレで追加❕❕\n→集めたらなにか繋がるかも❕❔\n→メンバーオフショット❕❕\n❕❕❕時間変更になりました❕❕❕\n▽LIVE　10:20～10:40\n▽物販　11:00～12:00ロビーC\n❕❕❕時間変更になりました❕❕❕\n▽会場　新宿ALTA KeyStudio\n▽料金　前売S4000/前売A3000/当日+500/(各D別)\n※早割500円キャッシュバック(10時40分まで入場適用)\n▽開場　10:20\n▽イベント時間　10:40～\n▽出演　えあらびゅー/純情のアフィリア/愛乙女☆DOLL(チームL)/エラバレシ/JAPANARIZM/COLOR’z/ai*ai/8月のエウテルペ/Drug&Drop/蛍/♡’s (kyuuuns)/プリズムハート/&DreaMy/アルテミスの翼/miao/ピュアリーモンスター/PALE TULLE(ペールチュール)/milu milu!/LoveCherish/グリッターシステム/BANZAI JAPAN/バブルバビデガム/もふる×クロス/もぐちっぷ/学歴の暴力/Re:INCARNATION/Baby’z Breath/アポロンの翼/かるちべいと/Next☆Rico/いつだって青い春。/
URL:https://hiraeth.tokyo/event/20240218-1/
LOCATION:新宿アルタKeyStudio\, 新宿3-24－3\, 新宿区\, 東京都\, 160-0022\, 日本
CATEGORIES:Live
ATTACH;FMTTYPE=image/jpeg:https://hiraeth.tokyo/wp-content/uploads/218KeyStudio32_1-scaled.jpg
END:VEVENT
END:VCALENDAR