BEGIN:VCALENDAR
VERSION:2.0
PRODID:-//【HIRAETH.Tokyo】(ヒラエス.トーキョー) - ECPv6.11.2//NONSGML v1.0//EN
CALSCALE:GREGORIAN
METHOD:PUBLISH
X-ORIGINAL-URL:https://hiraeth.tokyo
X-WR-CALDESC:【HIRAETH.Tokyo】(ヒラエス.トーキョー) のイベント
REFRESH-INTERVAL;VALUE=DURATION:PT1H
X-Robots-Tag:noindex
X-PUBLISHED-TTL:PT1H
BEGIN:VTIMEZONE
TZID:Asia/Tokyo
BEGIN:STANDARD
TZOFFSETFROM:+0900
TZOFFSETTO:+0900
TZNAME:JST
DTSTART:20240101T000000
END:STANDARD
END:VTIMEZONE
BEGIN:VEVENT
DTSTART;VALUE=DATE:20240221
DTEND;VALUE=DATE:20240222
DTSTAMP:20260422T011626
CREATED:20240220T110024Z
LAST-MODIFIED:20240220T123329Z
UID:9576-1708473600-1708559999@hiraeth.tokyo
SUMMARY:水曜日のえあらびゅー
DESCRIPTION:マーキー14挑戦企画の”聖地14増やす”やります \n◆担当\nももな、きこ、ひなた\nhttps://mixch.tv/u/17339228 \n◆場所\n大山ハッピーロード \n◆日時\n2月21日14時〜 \nー小声でお知らせー\n▷にあ生誕祭2月25日\nhttps://hiraeth.tokyo/event/20240225-1/ \n▷滝行にいってきた\nhttps://www.youtube.com/watch?v=ALlJYL_OUz4 \n#日本一のビラ配りアイドル  #MARQUEE祭 #日本一の路上ライブアイドル #拡散希望
URL:https://hiraeth.tokyo/event/20240221-2/
CATEGORIES:Live
ATTACH;FMTTYPE=image/png:https://hiraeth.tokyo/wp-content/uploads/MARQUEE祭ビラ1.png
END:VEVENT
BEGIN:VEVENT
DTSTART;VALUE=DATE:20240221
DTEND;VALUE=DATE:20240222
DTSTAMP:20260422T011626
CREATED:20240202T091542Z
LAST-MODIFIED:20240223T023330Z
UID:9324-1708473600-1708559999@hiraeth.tokyo
SUMMARY:中止:えあらびゅーチャリティーストリートライブ〜メンバーひなたの実家新潟を支援したい!〜
DESCRIPTION:▽日時　2/21(水) \n▽イベント　中止:えあらびゅーチャリティーストリートライブ〜メンバーひなたの実家新潟を支援したい!〜\n▽予定時間　21:00〜\n▽予定地　新宿駅南口付近\n▽定点配信　https://mixch.tv/u/17339228\n※事前に予定地に行き予定時間に開始できる用に準備を致します。\nしかし天候や場所など様々な状況により予定通りいかない場合がございます。\n予定を調整して寒い中で待って頂いている皆様のご期待に添える様に頑張ります。\n時間や場所の変更の際にはなるべく早く公式またはメンバーのXアカウントからお知らせしますので、ご理解を頂けると幸いです。\nーー\n1/13(土)MARQUEE祭mini Vol.183に来て下さりありがとうございました。\n50人突破のスピーカーを使いチャリティーライブを行います。 \n現在も地震の被害により思うように生活ができない方々が多くいます。\nその中にひなたの地元の新潟県もあります。\n普段から明るく元気に振る舞っていますがひなたも傷心しているのでは。。\nメンバーの気持ちを見て見ぬ振りが出来ず、一緒にできる事があるのでは？と話し合い復興支援をしたいと声が上がりました。 \n多くの意見があると思います。\nえあらびゅーはみなさんを元気にしたい笑顔にしたいと想い、意見をぶつけ合いチャリティーストリートライブを行う事に致しました。 \nストリートライブで集まった募金を全て新潟県の支援に利用させて頂きます。\nえあらびゅーの熱い思いも一緒に届けたいと思います。 \n立ち止まって聞いてくれた方にも元気を届けたい一心で行いますので、是非お立ち寄りください。 \n#えあらびゅー #チャリティーライブ
URL:https://hiraeth.tokyo/event/20240221-1/
CATEGORIES:Live
END:VEVENT
END:VCALENDAR