BEGIN:VCALENDAR
VERSION:2.0
PRODID:-//【HIRAETH.Tokyo】(ヒラエス.トーキョー) - ECPv6.11.2//NONSGML v1.0//EN
CALSCALE:GREGORIAN
METHOD:PUBLISH
X-ORIGINAL-URL:https://hiraeth.tokyo
X-WR-CALDESC:【HIRAETH.Tokyo】(ヒラエス.トーキョー) のイベント
REFRESH-INTERVAL;VALUE=DURATION:PT1H
X-Robots-Tag:noindex
X-PUBLISHED-TTL:PT1H
BEGIN:VTIMEZONE
TZID:Asia/Tokyo
BEGIN:STANDARD
TZOFFSETFROM:+0900
TZOFFSETTO:+0900
TZNAME:JST
DTSTART:20240101T000000
END:STANDARD
END:VTIMEZONE
BEGIN:VEVENT
DTSTART;VALUE=DATE:20240223
DTEND;VALUE=DATE:20240224
DTSTAMP:20260422T011624
CREATED:20240106T091003Z
LAST-MODIFIED:20240223T023750Z
UID:8919-1708646400-1708732799@hiraeth.tokyo
SUMMARY:547☆☆i-COLLE☆Fes PREMIUM-アイコレ-@新宿LUMINE 0ホール
DESCRIPTION:▽日にち　2/23(金祝)\n▽イベント　547☆☆i-COLLE☆Fes PREMIUM-アイコレ-\n▽予約　https://tiget.net/events/299275\n▽特典　546☆IDOLだんじょん!＠代官山SPACE ODDご来場のお客様にはツーショット写メ(60秒トーク付き)または10秒写メまたは動画取り放題\n▽LIVE　16:25～16:45\n▽物販　17:10～18:10\n▽会場　新宿LUMINE 0ホール\n▽料金　前売S4000/A3000/当日+500\n※早割1000円キャッシュバック(10時20分まで入場適用)\n▽開場　10:00\n▽イベント時間　10:20\n▽出演　えあらびゅー/SAY-LA/アンダービースティー/COLOR’z/放課後プリンセス/アルテミスの翼/Bety/プリズムハート/グリッターシステム/エウレカ/PrincessGarden-姫庭-/PALE TULLE（ペールチュール）/純粋カフェラッテ/みらくる☆ふぉーぜ/バブルバビデガム!!/8月のエウテルペ/ソラネルカンパニー/milu milu!/BANZAI JAPAN/シャルロット/miao/Rune collect./大宮I☆DOLL/しおもん/LoveCherish/READY TO KISS/CONTRAIL ZERO/コノサキモ隣ニ/ヒロインの心/アポロンの翼/\n \n［magazine］MARQUEE Vol.153\nお持ち頂いた2月22日発売のMARQUEE Vol.153にサインいたします！！\n※表紙にえあらびゅーが掲載されています！！\nhttp://www.marquee-mag.com/ \nabout\n・MARQUEE Vol.153\n・2024年2月22日発売\n・ISBN978-4-434-33402-3\n・価格￥1\,375円（税込）\n・132ページ オールカラー
URL:https://hiraeth.tokyo/event/20240223-1/
LOCATION:新宿LUMINE 0 ホール\, 千駄ケ谷5-24-55NEWoMan新宿5F\, 渋谷区\, 東京都\, 151-0051\, 日本
CATEGORIES:Live
ATTACH;FMTTYPE=image/jpeg:https://hiraeth.tokyo/wp-content/uploads/223LUMINE-0-ホール30_1-scaled.jpg
END:VEVENT
BEGIN:VEVENT
DTSTART;VALUE=DATE:20240223
DTEND;VALUE=DATE:20240224
DTSTAMP:20260422T011624
CREATED:20240208T110213Z
LAST-MODIFIED:20240223T041539Z
UID:9423-1708646400-1708732799@hiraeth.tokyo
SUMMARY:546☆IDOLだんじょん!@代官山SPACE ODD
DESCRIPTION:▽日にち　2/23(金祝)\n▽イベント　546☆IDOLだんじょん!\n▽予約　https://t.livepocket.jp/e/idoldanjyon0223\n▽特典　545☆東雲ふう生誕祭〜ふうちゃんはじめてのおたんじょうかい〜＠中野坂上S.U.B TOKYOご来場のお客様にはツーショット写メ(60秒トーク付き)または10秒写メまたは動画取り放題\n▽LIVE　13:30〜13:50\n▽物販　14:00〜15:00B\n▽会場　代官山SPACE ODD\n▽料金　前売3000/女性1000/当日＋500(各D別)\n▽開場　12:00\n▽イベント時間　12:30(予定)\n▽出演　えあらびゅー/Alice Stella/あいすなっつ/あっぷろーでぃあ/アラカシ/キプリスモルフォ/スターチスのラブレター/セカモノ/ドリームパスポート/PATI PATI CANDY…☆/ビビッときたかも！/不可侵的でぃすとぴあ/ポジティブモンスター/ボーイミーツハル/松山あおい/miao/みらくるふぉーぜ/メインタイトル/夢現シンクレティズム/chuuum/&DreaMy/奏音コレクト/\n▽レギュレーション 声出しOK 再入場可能 撮影各運営対応
URL:https://hiraeth.tokyo/event/20240223-4/
LOCATION:代官山SPACE ODD\, 猿楽町2-11 B1.B2 氷川ビル\, 渋谷区\, 東京都\, 150-0033\, 日本
CATEGORIES:Live
ATTACH;FMTTYPE=image/jpeg:https://hiraeth.tokyo/wp-content/uploads/IDOLだんじょん！20240223-1-scaled.jpg
END:VEVENT
BEGIN:VEVENT
DTSTART;VALUE=DATE:20240223
DTEND;VALUE=DATE:20240224
DTSTAMP:20260422T011624
CREATED:20240201T091613Z
LAST-MODIFIED:20240223T023431Z
UID:9284-1708646400-1708732799@hiraeth.tokyo
SUMMARY:545☆東雲ふう生誕祭〜ふうちゃんはじめてのおたんじょうかい〜@中野坂上S.U.B TOKYO
DESCRIPTION:▽日にち 2/23(金祝)\n▽イベント　545☆東雲ふう生誕祭〜ふうちゃんはじめてのおたんじょうかい〜\n▽予約　https://t.livepocket.jp/e/fuu2024\n▽LIVE　11:00〜11:20\n▽物販　11:25〜12:15\n▽会場　中野坂上S.U.B TOKYO\n▽料金　VIP15000前方2500一般1500/(各D別)\n▽開場　10:30\n▽イベント時間　11:00(予定)\n▽出演　えあらびゅー/Re:verie/アポストロフィ/GiMMiCK/コングラッチェッ！/てんてん/
URL:https://hiraeth.tokyo/event/20240223-3/
LOCATION:中野坂上S.U.B TOKYO\, 本町2-28-11 不二ハイツB1\, 中野区\, 東京都\, 164-0012\, 日本
CATEGORIES:Live
ATTACH;FMTTYPE=image/jpeg:https://hiraeth.tokyo/wp-content/uploads/IMG_7376.jpeg
END:VEVENT
END:VCALENDAR