BEGIN:VCALENDAR
VERSION:2.0
PRODID:-//【HIRAETH.Tokyo】(ヒラエス.トーキョー) - ECPv6.11.2//NONSGML v1.0//EN
CALSCALE:GREGORIAN
METHOD:PUBLISH
X-ORIGINAL-URL:https://hiraeth.tokyo
X-WR-CALDESC:【HIRAETH.Tokyo】(ヒラエス.トーキョー) のイベント
REFRESH-INTERVAL;VALUE=DURATION:PT1H
X-Robots-Tag:noindex
X-PUBLISHED-TTL:PT1H
BEGIN:VTIMEZONE
TZID:Asia/Tokyo
BEGIN:STANDARD
TZOFFSETFROM:+0900
TZOFFSETTO:+0900
TZNAME:JST
DTSTART:20240101T000000
END:STANDARD
END:VTIMEZONE
BEGIN:VEVENT
DTSTART;VALUE=DATE:20240225
DTEND;VALUE=DATE:20240226
DTSTAMP:20260422T000041
CREATED:20231213T081312Z
LAST-MODIFIED:20240225T043415Z
UID:8515-1708819200-1708905599@hiraeth.tokyo
SUMMARY:549☆☆☆えあらびゅーpresents Vol.24″にあににあにあ🐸🩷”@五反田G3
DESCRIPTION:概要\n◆日時　2/25(日)14:40開場\n◆イベント　549☆☆☆えあらびゅーpresents Vol.24″にあににあにあ🐸🩷”\n◆予約　　\n・紙チケット　1/27あるふぇす vol.1@池袋Studio Mixa特典会から販売開始\n・ネット販売　https://t.livepocket.jp/e/airlview-nia2024\n※紙チケットとネット販売の違いは、入場順となります。(下記入場順をご確認ください) \n◆会場　五反田G3\n◆料金　Sチケット8000円 | 一般チケット2500円 | 招待チケット1000円 | 当日+500円 | (各D別) | 再入場毎に1D\n◆出演　えあらびゅー/#ういらぶ(ゲスト) \n入場順\n・S紙チケ番号順→Sネット番号順→一般紙チケ番号順→一般ネット番号順→招待チケット・当日券並び順\n◆入場整理予定時間\n・2/25(日)14:30～入場列解消まで\n・入場順整理開始～入場時間：14:30～ \n◆入場整列場所\n・五反田G3会場入口から階段に沿ってお並びください \n◆入場までの流れ\n14:30頃に整列場所にて入場順のお知らせと整理を行い、順次スタッフにより入場のご案内をいたします。入場に必要なチケットや画面を予めご用意してお待ちください。 \n特典について\n【Sチケット】\n・会場への優先入場(下記入場順をご確認ください)\n・前方エリアへの優先入場\n・生誕ブロマイド1枚\n・チェキ券1枚(60秒、当日使用、サインなし)\n・にあDVD(にあの小芝居、お歌、癒しのにあちゃまとめ+α、など)\n・にあヨシヨシ券 \n【一般チケット】\n・生誕ブロマイド1枚 \n【招待チケット】\n・メンバー指定なしチェキ券1枚 \n【当日チケット】\n・Sチケット、一般チケット、招待チケットに準じる \n【入場特典について】\n当日入場時、受付にて特典の引き換えをさせていただきます。チケットや画面を予めご用意してお待ちください。入場時に特典の引き換えが出来なかった場合、常時行っている受付にてお引き換えください。入場特典の引き換えは当日限りですのでご注意ください。 \nタイムテーブル\n◆にあににあにあ開場　14:30～\n◆LIVE　15:00～16:10\n1.にあソロ🐸\n2.ういらぶwithにあちゃ🚼\n3.にあソロ💓\n4.にあこと👭\n5.えあらびゅーライブ👭👭👭\n6.ご挨拶 💌\n◆特典会　16:20～17:30\n◆退出　18:00 \n◆特典会　\n16:10\n　・特典会準備(販売準備、撮影列のご案内、フラスタ移動)\n　・列整備（購入列、特典交換列、各メンバー別撮影列になります。複数の列に並ぶ予定の場合には並びなおしをお願いいたします。なお\n、開場後落ち着き次第随時チェキ券と特典交換を受けておりますので、混雑緩和の為事前にご利用ください。）\n　・チェキ券販売開始アナウンス\n16:20\n　・特典会開始\n17:10\n　チェキ券販売終了アナウンス\n17:15\n　撮影締切アナウンス\n17:30\n　特典会終了\n18:00\n　お客退場 \n特典会注意事項\n　※タイムテーブルは当日の状況により変動する場合がございます。予めご了承ください。\n　※混雑が予想されるため集合の販売は致しません。\n　※撮影締切アナウンス時に並び中で他のメンバー撮影希望のお客はアナウンス時にお知らせください。\n　※スムーズに特典会を進める為整列をお願い致します。列からはみ出す、列を乱すなどの行為がございますと、他のお客様のご迷惑となりますのでご注意ください。 \n入場特典について\n当日入場時、受付にて特典の引き換えをさせていただきます。チケットや画面を予めご用意してお待ちください。入場時に特典の引き換えが出来なかった場合、当日行っている受付にてお引き換えください。入場特典の引き換えは当日限りですのでご注意ください。特典付きチケットを購入のお客様で当日に来場が難しいお客様は公式ツイッターのDMまでご連絡頂き30日以内に他のイベントの特典会でお声がけください。トラブルの懸念がございますので代理のお客様へお渡しは出来かねます。 \n招待チケットについて\n招待チケットは、Sチケットを購入されたお客様が、えあらびゅーのライブにご友人のお客様をお誘い頂く際に、お誘いしやすい様にお求めやすい金額のチケットとなります。\nえあらびゅーのライブに指名入場3回未満のお客様が招待チケットをお買い求め頂けるように設定させて頂きました。\n何卒ご理解頂きます様お願い致します。 \nゾーンについて\n・最前ゾーンはSチケットをお持ちの入場順から整列してお並び頂けます。\n※一般ゾーンで鑑賞して頂くことも可能です。\n・最前と一般の間は床のテープでゾーンを分けております。\n・入場列解消後～ライブ開始前に、会場内混雑整理の為、最前ゾーンに空きがございましたら、一般ゾーンにいるお客様がテープを越えて前列へ詰めて頂けます。前列へ詰めて移動されたお客様は、最前のお客様にご配慮の上、譲りあってお楽しみください。\n・ご来場いただくすべてのお客様が安全に平等に楽しんで頂く為、ダイブやモッシュは禁止とさせて頂きます。\nまた、マサイに関しては他のお客様にご迷惑が掛からない様お願い致します。※ジャンプによって体が周りの方に強くぶつかり危険です。特に後ろへ足を跳ね上げる際に、後ろのお客様にぶつかる、または柵を越えて前方へ倒れてしまう、など、会場のスペースにより非常に危険な状況になる事が予想されますのでご注意ください。\nトラブルが続き皆様が不快となってしまう事を防ぎたいと考えておりますのでご理解いただけると幸いです。\n・撮影ゾーンはSチケットをお持ちの入場順から整列してお並び頂けます。※一般ゾーンで鑑賞して頂くことも可能です。\n・撮影ゾーンの最前と一般の間は床のテープでゾーンを分けております。\n・撮影ゾーン三脚やレンズ、撮影機材などは通路や他のお客さまに配慮の上でお楽しみください。\n・撮影機材などで他の方のご迷惑にあると判断された場合に、スタッフが声掛けさせていただく場合がございますので、端に寄せていただく、片づけて頂くなどご協力をお願いいたします。\n \n物販について\n当日入場列が落ち着き次第、受付にて常時物販を行います。\n物販では、チェキ券の購入・グッズの購入・特典の引き換えを行います。メンバーのチェキ・写真撮影は行いません。\n終演後物販では混雑が予想される為、チェキ券の購入等は特典会前までにご購入をおススメ致します。 \n寄書きのお願い\n2/25(日)に行われる【にあ生誕祭】に向けて皆様からのメッセージを募集しております！\nたくさんの方からのお祝いメッセージがありますと本人も喜びますのでぜひご協力のほどよろしくお願いいたします！ \n↓寄書きはこちら↓\nhttps://yosetti.com/mainyosegakis/invite?id=2575690&sc=DSSkZ&openExternalBrowser=1\n募集期限 : 2024年2月18日(月) 23:59まで \n生誕ボランティアスタッフ募集\n企画を手伝って頂ける”生誕ボランティアスタッフ”を募集いたします！\n『生誕ボランティアスタッフをやりたい！』という方は公式までDMをお送りください！ \nよろしくお願いいたします！！\nまた、生誕企画についての詳細はサプライズの為、生誕用アカウント（にあアカウントをブロックいたします）にてお知らせいたします \nにあ生誕祭について\nはじめに\nいつもえあらびゅーを応援して頂きありがとうございます！\n生誕イベントはメンバーやスタッフが皆様に感謝を伝え、応援して頂いている全ての方と喜びを共感させて頂く事を趣旨としております。\n上記の趣旨にあわせて様々なことを考慮した上で、今回にあ生誕祭につきまして生誕ボランティアスタッフを募集させて頂き運営と力を合わせてにあをお祝いしたいと思っています！ \n有志企画のお知らせ\n生誕イベント中のメンバー企画以外のサプライズ企画について、お金が絡んでくるものなどにつきましては公式有志で集まった金額をもって開催させていただきます。お客様同士や会場とのトラブルを防止するためご協力をお願いいたします \n【有志期間】\n・フラスタお名前掲載あり　2月10日(土)23:59まで\n・フラスタお名前掲載なし　2月24日(土)23:59まで\n【有志方法】ネットもしくは特典会にて\nネット有志は⇒こちらから▶https://t.livepocket.jp/e/airlview-nia2024-yuusi\n特典会有志は⇒有志券をお渡しいたします \n【金額】1口 : ¥1\,000\n※譲渡不可、分配不可、第三者との合算不可、複製禁止\n【※一次締切までにご購入いただいた方を対象にスタンドフラワーにお名前を掲載させていただきます】 \n▪️一次締切\n特典会→2月4日(日)ライブの特典会終了まで\nネット→2月4日(日)23:59まで\n【※一次締切までにご有志いただいた方を対象にスタンドフラワーにお名前を掲載させていただきます】 \n▪️最終締切\n特典会→2月24日(土)ラストライブの特典会終了まで\nネット→2月24日(土)23:59まで \n▪️掲載サイズ\n　1口→名前(小)\n　3口→名前(中)\n　5口以上→名前(大) \n一次締切の時点で有志額上位5名の方は、特大サイズでお名前を掲載させていただきます。 \nQ&A よくある質問\nQ. 締切の時点で、有志額が同額の方が複数名いた場合の対象者はどうなりますか？ \nA. 先着順でのご案内となります。インターネットでの決済の場合、購入時刻に基づき計算いたします。また、特典会でのご購入の場合、有志券をお渡しいたしますので半券と共に運営で管理しているデータに基づき計算させていただきます。 \nQ.サプライズ演出やスタフラに名前掲載など恥ずかしくてしたくないのですが…必ず参加しなければいけませんか？ \nA.どちらもご辞退可能です。\nスタフラに名前掲載を希望しない場合は、インターネット決済画面「有志券(名前なし)」をご選択いただきご購入をお願いします。また、特典会でのご購入をご検討の場合はスタッフにお気軽にお声かけください。 \nQ.有志したいけど、何に使われるか分からないので迷っています。。 \nA.皆さまからご有志いただくものはにあ生誕祭開催のためにご利用いたします。ご希望の方は、生誕祭開催後、内訳を記載した明細をお送りいたしますのでえあらびゅー公式XのDMまでお気軽にお申し付けください。 \nQ.インターネットで購入したいのですが、有志券は貰えないのでしょうか？？ \nA.誠に申し訳ございませんが、有志券は特典会にご来場いただきました方限定でのお渡しとなります。何卒ご了承のほどよろしくお願いいたします。 \nQ.インターネットでチケットを購入した場合に、紙のチケットは貰えないのでしょうか？？ \nA.誠に申し訳ございませんが、入場チケットは対面販売でのお渡しとなります。何卒ご了承のほどよろしくお願いいたします。 \n▶その他ご質問のある方は、えあらびゅー公式XのDMもしくは、特典会スタッフまでお気軽にお声がけくださいませ。\nhttps://twitter.com/airlview
URL:https://hiraeth.tokyo/event/20240225-1/
CATEGORIES:Live
ATTACH;FMTTYPE=image/png:https://hiraeth.tokyo/wp-content/uploads/にあ生誕祭2024Sチケット表塗足.png
END:VEVENT
END:VCALENDAR