BEGIN:VCALENDAR
VERSION:2.0
PRODID:-//【HIRAETH.Tokyo】(ヒラエス.トーキョー) - ECPv6.11.2//NONSGML v1.0//EN
CALSCALE:GREGORIAN
METHOD:PUBLISH
X-ORIGINAL-URL:https://hiraeth.tokyo
X-WR-CALDESC:【HIRAETH.Tokyo】(ヒラエス.トーキョー) のイベント
REFRESH-INTERVAL;VALUE=DURATION:PT1H
X-Robots-Tag:noindex
X-PUBLISHED-TTL:PT1H
BEGIN:VTIMEZONE
TZID:Asia/Tokyo
BEGIN:STANDARD
TZOFFSETFROM:+0900
TZOFFSETTO:+0900
TZNAME:JST
DTSTART:20240101T000000
END:STANDARD
END:VTIMEZONE
BEGIN:VEVENT
DTSTART;VALUE=DATE:20240303
DTEND;VALUE=DATE:20240304
DTSTAMP:20260421T222957
CREATED:20240224T073151Z
LAST-MODIFIED:20240302T010101Z
UID:9624-1709424000-1709510399@hiraeth.tokyo
SUMMARY:556池袋解放区 -FREE GIG-(第一部)@池袋リヴォイス
DESCRIPTION:▽日にち 3/3(日)\n▽イベント　556池袋解放区 -FREE GIG-(第一部)\n▽予約　https://t.livepocket.jp/e/20240303revoice_1\n▽LIVE　17:35〜17:55\n▽物販　18:00〜19:00終演後2階C\n▽会場　池袋リヴォイス\n▽料金　前売0/当日+500(各2D別)\n▽開場　14:30\n▽イベント時間　14:45(予定)\n▽出演　えあらびゅー/キミイロプロジェクト/染谷音羽(BraveMental Orchestra)/no Filter/はにーべいびー/ROSARIO+CROSS/
URL:https://hiraeth.tokyo/event/20240303-2/
LOCATION:池袋リヴォイス\, 池袋2-12-9 広瀬ビルB1\, 豊島区\, 東京都\, 171-0014\, 日本
CATEGORIES:Live
ATTACH;FMTTYPE=image/jpeg:https://hiraeth.tokyo/wp-content/uploads/0303池袋リヴォイス告知画像.jpeg
END:VEVENT
END:VCALENDAR