BEGIN:VCALENDAR
VERSION:2.0
PRODID:-//【HIRAETH.Tokyo】(ヒラエス.トーキョー) - ECPv6.11.2//NONSGML v1.0//EN
CALSCALE:GREGORIAN
METHOD:PUBLISH
X-ORIGINAL-URL:https://hiraeth.tokyo
X-WR-CALDESC:【HIRAETH.Tokyo】(ヒラエス.トーキョー) のイベント
REFRESH-INTERVAL;VALUE=DURATION:PT1H
X-Robots-Tag:noindex
X-PUBLISHED-TTL:PT1H
BEGIN:VTIMEZONE
TZID:Asia/Tokyo
BEGIN:STANDARD
TZOFFSETFROM:+0900
TZOFFSETTO:+0900
TZNAME:JST
DTSTART:20240101T000000
END:STANDARD
END:VTIMEZONE
BEGIN:VEVENT
DTSTART;VALUE=DATE:20240307
DTEND;VALUE=DATE:20240308
DTSTAMP:20260421T222958
CREATED:20240131T062827Z
LAST-MODIFIED:20240302T010249Z
UID:9246-1709769600-1709855999@hiraeth.tokyo
SUMMARY:557☆☆PNT FES vol.3@渋谷RING
DESCRIPTION:▽日にち 3/7(木)\n▽イベント　557☆☆PNT FES vol.3\n▽予約　https://t.livepocket.jp/e/634c-\n▽LIVE　19:15〜19:35\n▽物販　19:40〜20:40\n▽会場　渋谷RING\n▽料金　前方3500/一般2500/女性1000(各D別)\n▽開場　17:00\n▽イベント時間　17:30(予定)\n▽出演　えあらびゅー/ai*ai/しおもん(SAY-LA)/LOVE 9 LOVE/♡’s（kyuuuns）/プリズムハート/LEVEL7/milu milu!/
URL:https://hiraeth.tokyo/event/20240307-1/
CATEGORIES:Live
ATTACH;FMTTYPE=image/jpeg:https://hiraeth.tokyo/wp-content/uploads/IMG_7541.jpeg
END:VEVENT
END:VCALENDAR