BEGIN:VCALENDAR
VERSION:2.0
PRODID:-//【HIRAETH.Tokyo】(ヒラエス.トーキョー) - ECPv6.11.2//NONSGML v1.0//EN
CALSCALE:GREGORIAN
METHOD:PUBLISH
X-ORIGINAL-URL:https://hiraeth.tokyo
X-WR-CALDESC:【HIRAETH.Tokyo】(ヒラエス.トーキョー) のイベント
REFRESH-INTERVAL;VALUE=DURATION:PT1H
X-Robots-Tag:noindex
X-PUBLISHED-TTL:PT1H
BEGIN:VTIMEZONE
TZID:Asia/Tokyo
BEGIN:STANDARD
TZOFFSETFROM:+0900
TZOFFSETTO:+0900
TZNAME:JST
DTSTART:20240101T000000
END:STANDARD
END:VTIMEZONE
BEGIN:VEVENT
DTSTART;VALUE=DATE:20240309
DTEND;VALUE=DATE:20240310
DTSTAMP:20260421T222957
CREATED:20240106T092058Z
LAST-MODIFIED:20240309T025640Z
UID:8923-1709942400-1710028799@hiraeth.tokyo
SUMMARY:558☆☆i-COLLE☆Fes PREMIUM-アイコレ-@有楽町ヒューリックホール
DESCRIPTION:▽日にち　3/9(土)\n▽イベント　558☆☆i-COLLE☆Fes PREMIUM-アイコレ-\n▽予約　https://tiget.net/events/303249\n▽LIVE　11:10〜11:25\n▽物販　11:30〜12:30ロビーB\n▽会場　有楽町ヒューリックホール\n▽料金　前売S4000/前売A3000/当日+500/各D別※早割1000円キャッシュバック(10時50分まで入場適用)\n▽開場　10:30\n▽イベント時間　10:50\n▽出演　えあらびゅー/エラバレシ/SAI²Rium/愛乙女☆DOLL/放課後プリンセス/アンダービースティー COLOR’z/８月のエウテルペ/Bety/ai*ai/純粋カフェラッテ/miao/プリズムハート/アルテミスの翼/Drug&Drop/みらくる★ふぉーぜ/Baby’z Breath/KOMAGOME/milu milu!/ソラネルカンパニー/ヤンチャン学園音楽部/LoveCherish/もぐちっぷ/100万ドルのフェアレディ/学歴の暴力/アポロンの翼/flawless POP./でからき/幻想リフレクション/
URL:https://hiraeth.tokyo/event/20240309-1/
CATEGORIES:Live
ATTACH;FMTTYPE=image/jpeg:https://hiraeth.tokyo/wp-content/uploads/IMG_7587.jpeg
END:VEVENT
END:VCALENDAR