BEGIN:VCALENDAR
VERSION:2.0
PRODID:-//【HIRAETH.Tokyo】(ヒラエス.トーキョー) - ECPv6.11.2//NONSGML v1.0//EN
CALSCALE:GREGORIAN
METHOD:PUBLISH
X-ORIGINAL-URL:https://hiraeth.tokyo
X-WR-CALDESC:【HIRAETH.Tokyo】(ヒラエス.トーキョー) のイベント
REFRESH-INTERVAL;VALUE=DURATION:PT1H
X-Robots-Tag:noindex
X-PUBLISHED-TTL:PT1H
BEGIN:VTIMEZONE
TZID:Asia/Tokyo
BEGIN:STANDARD
TZOFFSETFROM:+0900
TZOFFSETTO:+0900
TZNAME:JST
DTSTART:20240101T000000
END:STANDARD
END:VTIMEZONE
BEGIN:VEVENT
DTSTART;VALUE=DATE:20240310
DTEND;VALUE=DATE:20240311
DTSTAMP:20260421T231029
CREATED:20231222T184738Z
LAST-MODIFIED:20240304T064748Z
UID:8749-1710028800-1710115199@hiraeth.tokyo
SUMMARY:559☆☆i-COLLE☆Fes PREMIUM-アイコレ-@新宿LUMINE 0 ホール
DESCRIPTION:▽日時　3/10(日)\n▽イベント　559☆☆i-COLLE☆Fes PREMIUM-アイコレ-\n▽予約　https://tiget.net/events/304177\n▽LIVE　12:55〜13:15\n▽物販　13:40〜14:50\n▽会場　新宿LUMINE 0 ホール\n▽料金　前売S4000/前売A3000/当日+500/各D別※早割1000円キャッシュバック(10時20分まで入場適用)\n▽開場　10:00\n▽イベント時間　10:20\n▽出演　えあらびゅー/SAY-LA/放課後プリンセス/アンダービースティー/つぼみ大革命/COLOR’z/ESTLINK⭐︎/蛍/Bety/8月のエウテルペ/PrincessGarden-姫庭-/プリズムハート/純粋カフェラッテ/♡’s(kyuuuns)/ソラネルカンパニー/BANZAI JAPAN/大宮I☆DOLL/LoveCherish/Twinkle☆Stars/HIGH HIGH BEAM/CONTRAIL ZERO/チャーヂ！/Re:INCARNATION/LOViSH/READY TO KISS/奏音コレクト/flawless POP./8JEWEL/溺愛めりーごーらんど/
URL:https://hiraeth.tokyo/event/20240310-1/
LOCATION:新宿LUMINE 0 ホール\, 千駄ケ谷5-24-55NEWoMan新宿5F\, 渋谷区\, 東京都\, 151-0051\, 日本
CATEGORIES:Live
ATTACH;FMTTYPE=image/jpeg:https://hiraeth.tokyo/wp-content/uploads/IMG_7554.jpeg
END:VEVENT
END:VCALENDAR