BEGIN:VCALENDAR
VERSION:2.0
PRODID:-//【HIRAETH.Tokyo】(ヒラエス.トーキョー) - ECPv6.11.2//NONSGML v1.0//EN
CALSCALE:GREGORIAN
METHOD:PUBLISH
X-ORIGINAL-URL:https://hiraeth.tokyo
X-WR-CALDESC:【HIRAETH.Tokyo】(ヒラエス.トーキョー) のイベント
REFRESH-INTERVAL;VALUE=DURATION:PT1H
X-Robots-Tag:noindex
X-PUBLISHED-TTL:PT1H
BEGIN:VTIMEZONE
TZID:Asia/Tokyo
BEGIN:STANDARD
TZOFFSETFROM:+0900
TZOFFSETTO:+0900
TZNAME:JST
DTSTART:20240101T000000
END:STANDARD
END:VTIMEZONE
BEGIN:VEVENT
DTSTART;VALUE=DATE:20240323
DTEND;VALUE=DATE:20240324
DTSTAMP:20260421T231028
CREATED:20240106T093708Z
LAST-MODIFIED:20240321T105910Z
UID:8928-1711152000-1711238399@hiraeth.tokyo
SUMMARY:566☆☆i-COLLE☆Fes PREMIUM-アイコレ-春の制服SP@新宿ALTA KeyStudio
DESCRIPTION:▽日にち 3/23(土)\n▽イベント　566☆☆i-COLLE☆Fes PREMIUM-アイコレ-春の制服SP\n▽予約　https://tiget.net/events/307289\n▽特典など\n・第3衣装+ツインテール\n・制服デート風10秒動画\n・サイン券\n・コメサ１枚(サイン付きチェキ)\n・オリジナル曲Hajimariビジュアルイラストブロマイド(ラフ画)\n▽セトリ　\n・もっとずっとそばで\n・全力summer!-キャプチャー・ザ・フラッグ!-\n・ゆびとま\n・放課後オレンジサイン\n▽LIVE　16:00〜16:20\n▽物販　16:25〜17:25舞台裏A\n▽会場　新宿ALTA KeyStudio\n▽料金　前売前方4000/前売一般3000/当日+500/各D別\n▽開場　10:40\n▽イベント時間　11:00\n▽出演　えあらびゅー/放課後プリンセス/Glim Assembler/つぼみ大革命/ESTLINK☆.COLOR’z/PrincessGarden-姫庭-/プリズムハート/Drug&Drop/miao/AiVER./シャルロット/LoveCherish/BANZAI JAPAN/Re:INCARNATION/Twinkle☆Stars/ヤンチャン学園音楽部/もぐちっぷ/CONTRAIL ZERO/flawless POP./松山あおい/100万ドルのフェアレディ/LEVEL7/Lって何のLですか？/天使突抜ニ読ミ/じぇむどり/アポロンの翼/Renew/溺愛メリーゴーランド/
URL:https://hiraeth.tokyo/event/20240323-1/
CATEGORIES:Live
ATTACH;FMTTYPE=image/jpeg:https://hiraeth.tokyo/wp-content/uploads/IMG_7623.jpeg
END:VEVENT
END:VCALENDAR