BEGIN:VCALENDAR
VERSION:2.0
PRODID:-//【HIRAETH.Tokyo】(ヒラエス.トーキョー) - ECPv6.11.2//NONSGML v1.0//EN
CALSCALE:GREGORIAN
METHOD:PUBLISH
X-WR-CALNAME:【HIRAETH.Tokyo】(ヒラエス.トーキョー)
X-ORIGINAL-URL:https://hiraeth.tokyo
X-WR-CALDESC:【HIRAETH.Tokyo】(ヒラエス.トーキョー) のイベント
REFRESH-INTERVAL;VALUE=DURATION:PT1H
X-Robots-Tag:noindex
X-PUBLISHED-TTL:PT1H
BEGIN:VTIMEZONE
TZID:Asia/Tokyo
BEGIN:STANDARD
TZOFFSETFROM:+0900
TZOFFSETTO:+0900
TZNAME:JST
DTSTART:20240101T000000
END:STANDARD
END:VTIMEZONE
BEGIN:VEVENT
DTSTART;VALUE=DATE:20240326
DTEND;VALUE=DATE:20240327
DTSTAMP:20260421T223001
CREATED:20240125T065134Z
LAST-MODIFIED:20240325T144736Z
UID:9192-1711411200-1711497599@hiraeth.tokyo
SUMMARY:569☆☆冠Fes-カンフェス-@新宿Zirco Tokyo
DESCRIPTION:▽日時　3/26(火)\n▽イベント　569☆☆冠Fes-カンフェス-\n▽予約　https://t.livepocket.jp/e/kanfes_0326\n▽LIVE　19:25～19:45\n▽物販　19:55～20:55\n▽セトリ\n・もっとずっとそばで\n・限界わがままクライシス\n・ゆびとま\n・放課後オレンジサイン\n▽会場　新宿Zirco Tokyo\n▽料金　前方3500/通常2500/当日＋500(各D別)\n▽開場　17:00\n▽イベント時間　\n▽出演　えあらびゅー/【eN】/君とのシナリオ/Cassie Te Light/NiLUNLOCK/neOen/Honey Devil/PHiZZ/Blancanie/ブルーなままで/未完成のキャラメル/夢幻スタートレール/MELTЯAGE/
URL:https://hiraeth.tokyo/event/20240326-1/
LOCATION:新宿Zirco Tokyo\, 歌舞伎町1-2-5東陽ビルB2\, 新宿区\, 東京都\, 160-0021\, 日本
CATEGORIES:Live
ATTACH;FMTTYPE=image/png:https://hiraeth.tokyo/wp-content/uploads/冠Fes_0326.png
END:VEVENT
END:VCALENDAR