BEGIN:VCALENDAR
VERSION:2.0
PRODID:-//【HIRAETH.Tokyo】(ヒラエス.トーキョー) - ECPv6.11.2//NONSGML v1.0//EN
CALSCALE:GREGORIAN
METHOD:PUBLISH
X-WR-CALNAME:【HIRAETH.Tokyo】(ヒラエス.トーキョー)
X-ORIGINAL-URL:https://hiraeth.tokyo
X-WR-CALDESC:【HIRAETH.Tokyo】(ヒラエス.トーキョー) のイベント
REFRESH-INTERVAL;VALUE=DURATION:PT1H
X-Robots-Tag:noindex
X-PUBLISHED-TTL:PT1H
BEGIN:VTIMEZONE
TZID:Asia/Tokyo
BEGIN:STANDARD
TZOFFSETFROM:+0900
TZOFFSETTO:+0900
TZNAME:JST
DTSTART:20240101T000000
END:STANDARD
END:VTIMEZONE
BEGIN:VEVENT
DTSTART;VALUE=DATE:20240327
DTEND;VALUE=DATE:20240328
DTSTAMP:20260421T223001
CREATED:20240316T073447Z
LAST-MODIFIED:20240321T132416Z
UID:9808-1711497600-1711583999@hiraeth.tokyo
SUMMARY:569☆U・R・A公式HPプレゼンツ『WOW』～前夜祭～@F#
DESCRIPTION:▽日にち 3/27(水)\n▽イベント　569☆U・R・A公式HPプレゼンツ『WOW』～前夜祭～\n▽予約　https://tiget.net/events/306750\n▽LIVE　20:50～21:15\n▽物販　21:35～22:35\n▽会場　神田F#\n▽料金　前売2500/当日+500/各D別\n▽開場　17:30\n▽イベント時間　18:00\n▽出演　えあらびゅー/夜とメルク/飯塚朋美/NEO EARTH!!/＃ういらぶ/東京遊泳ギャラクシー/HUSH HUSH/TIGHT/テトラロンド/URA3/SPコラボ
URL:https://hiraeth.tokyo/event/20240327-2/
LOCATION:神田F#\, 鍛冶町1-4-3竹内ビルB1\, 千代田区\, 東京都\, 日本
CATEGORIES:Live
END:VEVENT
END:VCALENDAR