BEGIN:VCALENDAR
VERSION:2.0
PRODID:-//【HIRAETH.Tokyo】(ヒラエス.トーキョー) - ECPv6.11.2//NONSGML v1.0//EN
CALSCALE:GREGORIAN
METHOD:PUBLISH
X-WR-CALNAME:【HIRAETH.Tokyo】(ヒラエス.トーキョー)
X-ORIGINAL-URL:https://hiraeth.tokyo
X-WR-CALDESC:【HIRAETH.Tokyo】(ヒラエス.トーキョー) のイベント
REFRESH-INTERVAL;VALUE=DURATION:PT1H
X-Robots-Tag:noindex
X-PUBLISHED-TTL:PT1H
BEGIN:VTIMEZONE
TZID:Asia/Tokyo
BEGIN:STANDARD
TZOFFSETFROM:+0900
TZOFFSETTO:+0900
TZNAME:JST
DTSTART:20240101T000000
END:STANDARD
END:VTIMEZONE
BEGIN:VEVENT
DTSTART;VALUE=DATE:20240330
DTEND;VALUE=DATE:20240331
DTSTAMP:20260421T223001
CREATED:20240401T143643Z
LAST-MODIFIED:20240401T143732Z
UID:9928-1711756800-1711843199@hiraeth.tokyo
SUMMARY:571えあらびゅー路上ライブ
DESCRIPTION:▽日時　3/30(土)\n▽イベント　571えあらびゅー路上ライブ\n▽予定時間　メンバーがXにてお知らせします\n▽予定地　池袋\n▽定点配信　https://mixch.tv/u/17339228 \n※※※\nなるべく事前に予定地に行き予定時間に開始できる用に準備を致します。\nしかし天候や場所など様々な状況により予定通りいかない場合がございますが、予定を調整して待って頂いている皆様のご期待に添える様に頑張ります。\n時間や場所の変更の際にはなるべく早く公式またはメンバーのXアカウントからお知らせしますのでご理解を頂けると幸いです。 \n#えあらびゅー #路上ライブ #ストリートライブ
URL:https://hiraeth.tokyo/event/20240330-2/
CATEGORIES:Live
END:VEVENT
BEGIN:VEVENT
DTSTART;VALUE=DATE:20240330
DTEND;VALUE=DATE:20240331
DTSTAMP:20260421T223001
CREATED:20240320T041737Z
LAST-MODIFIED:20240328T181609Z
UID:9845-1711756800-1711843199@hiraeth.tokyo
SUMMARY:570☆代々木女子音楽院主催ライブ@五反田GOTANDA G3
DESCRIPTION:▽日にち 3/30(土)\n▽イベント　570☆代々木女子音楽院主催ライブ\n※翌日3/31(日)に3期生･4期生 卒業ワンマンライブを控えた代々木女子音楽院さんの直前主催ライブです\n▽予約　https://tiget.net/events/309940\n▽セトリ　\n・\n・\n・\n・\n▽LIVE　13:20〜13:50\n▽物販　14:10〜15:10 A\n▽会場　五反田GOTANDA G3\n▽料金　前売前方4000/前売一般3000/当日+500円/各D別\n▽開場　12:20\n▽イベント時間　12:40\n▽出演　えあらびゅー/代々木女子音楽院/リュミエールONE/Blossom Garden/
URL:https://hiraeth.tokyo/event/20240330-1/
LOCATION:GOTANDA G3\, 西五反田1-11-8 大成ビル5F\, 品川区\, 東京都\, 日本
CATEGORIES:Live
ATTACH;FMTTYPE=image/png:https://hiraeth.tokyo/wp-content/uploads/0330-1部告知画像.png
END:VEVENT
END:VCALENDAR