BEGIN:VCALENDAR
VERSION:2.0
PRODID:-//【HIRAETH.Tokyo】(ヒラエス.トーキョー) - ECPv6.11.2//NONSGML v1.0//EN
CALSCALE:GREGORIAN
METHOD:PUBLISH
X-WR-CALNAME:【HIRAETH.Tokyo】(ヒラエス.トーキョー)
X-ORIGINAL-URL:https://hiraeth.tokyo
X-WR-CALDESC:【HIRAETH.Tokyo】(ヒラエス.トーキョー) のイベント
REFRESH-INTERVAL;VALUE=DURATION:PT1H
X-Robots-Tag:noindex
X-PUBLISHED-TTL:PT1H
BEGIN:VTIMEZONE
TZID:Asia/Tokyo
BEGIN:STANDARD
TZOFFSETFROM:+0900
TZOFFSETTO:+0900
TZNAME:JST
DTSTART:20240101T000000
END:STANDARD
END:VTIMEZONE
BEGIN:VEVENT
DTSTART;VALUE=DATE:20240331
DTEND;VALUE=DATE:20240401
DTSTAMP:20260421T230947
CREATED:20240310T004538Z
LAST-MODIFIED:20240401T143811Z
UID:9756-1711843200-1711929599@hiraeth.tokyo
SUMMARY:572☆☆シーザリオ ～thank you for everything～@秋葉原Galaxy
DESCRIPTION:▽日時　3/31(日)\n▽イベント　572☆☆シーザリオ ～thank you for everything～\n▽予約　https://tiget.net/events/306890\n▽LIVE　12:50～13:20\n▽物販　13:30～14:20A\n▽会場　秋葉原Galaxy\n▽料金　前売前方4000/前売通常2500/当日+500/各D別\n▽開場　10:50\n▽イベント時間　11:20(予定)\n▽出演　えあらびゅー/iTRiP/雨音とアプローズ/すぅさきはな/ドリームパスポート/PATI PATI CANDY…☆/Majewel/moreぷり/Little Echo/わたあめびーすと（芹沢ゆかり）/
URL:https://hiraeth.tokyo/event/20240331-2/
LOCATION:秋葉原GALAXY\, 外神田6-15-11 日東ビルB1\, 千代田区\, 東京都\, 101-0021\, 日本
CATEGORIES:Live
ATTACH;FMTTYPE=image/png:https://hiraeth.tokyo/wp-content/uploads/240331_シーザリオ_フライヤー_v2.png
END:VEVENT
END:VCALENDAR