BEGIN:VCALENDAR
VERSION:2.0
PRODID:-//【HIRAETH.Tokyo】(ヒラエス.トーキョー) - ECPv6.11.2//NONSGML v1.0//EN
CALSCALE:GREGORIAN
METHOD:PUBLISH
X-ORIGINAL-URL:https://hiraeth.tokyo
X-WR-CALDESC:【HIRAETH.Tokyo】(ヒラエス.トーキョー) のイベント
REFRESH-INTERVAL;VALUE=DURATION:PT1H
X-Robots-Tag:noindex
X-PUBLISHED-TTL:PT1H
BEGIN:VTIMEZONE
TZID:Asia/Tokyo
BEGIN:STANDARD
TZOFFSETFROM:+0900
TZOFFSETTO:+0900
TZNAME:JST
DTSTART:20240101T000000
END:STANDARD
END:VTIMEZONE
BEGIN:VEVENT
DTSTART;VALUE=DATE:20240406
DTEND;VALUE=DATE:20240407
DTSTAMP:20260421T205322
CREATED:20240310T114438Z
LAST-MODIFIED:20240407T172216Z
UID:9760-1712361600-1712447999@hiraeth.tokyo
SUMMARY:574☆iDOL CLiMAX -SPRING NIGHT-@渋谷SHIBUYA DIVE
DESCRIPTION:▽日にち　4/6(土)\n▽イベント　574☆iDOL CLiMAX -SPRING NIGHT-\n▽予約　https://t-dv.com/idolclimax_night_0406※4/6(土)14:59まで\n▽LIVE　17:25～17:45\n▽物販　17:50～18:50 B\n▽会場　渋谷SHIBUYA DIVE\n▽料金　前売前方4000/前売一般2000/当日+1000/各D別\n▽開場　15:45\n▽イベント時間　16:00\n▽出演　えあらびゅー/81moment/Sekaisen/Pink Panda/Pialans/ひめもすオーケストラ/PHiZZ/Planet Merry/水に似タ感情/momograci/
URL:https://hiraeth.tokyo/event/20240406-1/
CATEGORIES:Live
ATTACH;FMTTYPE=image/jpeg:https://hiraeth.tokyo/wp-content/uploads/0406_NIGHT_フライヤー-scaled.jpg
END:VEVENT
BEGIN:VEVENT
DTSTART;VALUE=DATE:20240406
DTEND;VALUE=DATE:20240407
DTSTAMP:20260421T205322
CREATED:20240402T105831Z
LAST-MODIFIED:20240407T171713Z
UID:9939-1712361600-1712447999@hiraeth.tokyo
SUMMARY:573☆よっしゃいくぞ〜!!!vol.1@渋谷スターラウンジ
DESCRIPTION:▽日にち　4/6(土)\n▽イベント　573☆よっしゃいくぞ〜‼︎! vol.1\n▽予約　https://t.livepocket.jp/e/shibuya0406\n▽LIVE　13:40〜\n▽物販　14:20〜15:20 A\n▶︎並行物販会場：\nアットビジネスセンターサテライト渋谷宇田川403号室\n住所：東京都渋谷区宇田川町36-6 ワールド宇田川ビル4階\n▽会場　渋谷スターラウンジ\n▽料金　前売2000/当日+500/各D別\n▽開場　10:20\n▽イベント時間　10:35\n▽出演　えあらびゅー/ecruecru/柑橘クーベルチュール/きゅーてぃくるっ！/KING∞RAGE/cule_latte/すたーちす/青藍ピリオド/Seven Day’z/CHERRY GIRLS PROJECT/Tool to トゥール・トゥ/ノボリバナ/ばぶるぱれっと/ヒダリ←イミテイト/HERO CHARM/プリンセスは眠らないっ！/ポラリスシンフォニー/Malcolm Mask McLaren/LUNCH KIDS/Re:verie/\n▽入場順　①前売整理番号順②当日(整列順)
URL:https://hiraeth.tokyo/event/20240406-3/
LOCATION:渋谷スターラウンジ\, 宇田川町4-7 トウセン宇田川町ビル1階\, 渋谷区\, 東京都\, 150-0042\, 日本
CATEGORIES:Live
ATTACH;FMTTYPE=image/jpeg:https://hiraeth.tokyo/wp-content/uploads/IMG_7814.jpeg
END:VEVENT
END:VCALENDAR