BEGIN:VCALENDAR
VERSION:2.0
PRODID:-//【HIRAETH.Tokyo】(ヒラエス.トーキョー) - ECPv6.11.2//NONSGML v1.0//EN
CALSCALE:GREGORIAN
METHOD:PUBLISH
X-ORIGINAL-URL:https://hiraeth.tokyo
X-WR-CALDESC:【HIRAETH.Tokyo】(ヒラエス.トーキョー) のイベント
REFRESH-INTERVAL;VALUE=DURATION:PT1H
X-Robots-Tag:noindex
X-PUBLISHED-TTL:PT1H
BEGIN:VTIMEZONE
TZID:Asia/Tokyo
BEGIN:STANDARD
TZOFFSETFROM:+0900
TZOFFSETTO:+0900
TZNAME:JST
DTSTART:20240101T000000
END:STANDARD
END:VTIMEZONE
BEGIN:VEVENT
DTSTART;VALUE=DATE:20240407
DTEND;VALUE=DATE:20240408
DTSTAMP:20260421T205322
CREATED:20240205T123451Z
LAST-MODIFIED:20240407T184753Z
UID:9360-1712448000-1712534399@hiraeth.tokyo
SUMMARY:575☆☆☆えあらびゅーpresents Vol.26 ももな生誕祭『ももなのいうことはゼッターイ！』@渋谷DESEOmini
DESCRIPTION:概要\n◆日時　4/7(日)\n◆イベント　575☆☆☆えあらびゅーpresents Vol.26 ももな生誕祭『ももなのいうことはゼッターイ！』@DESEOmini\n◆予約　　\n・紙チケット　3/10(日)\n※※558☆☆i-COLLE☆Fes PREMIUM-アイコレ-@新宿LUMINE 0 ホール特典会より発売※※\n・ネット販売　https://t.livepocket.jp/e/airlview-momona2024(※販売期間 4/6まで)\n◆会場　渋谷DESEOmini\n◆料金　Sチケット9000/Aチケット2500/招待チケット1000/当日＋500(各D別)\n◆出演　えあらびゅー/\n◆タイムテーブル\n9:45 前物販(ももなのみ生誕Tシャツでの特典会あり)\n10:30~ 開場\n11:00~11:50 えあらびゅーライブ\n12:00~13:30 特典会(ホール内)\n13:40~14:20 Sチケ打ち上げ特典\n◆特典\n【Sチケット】\n・前方エリア+優先入場\n・コメント付き限定Tシャツ\n・打ち上げ参加権(特典会終わり全メンバー参加)\n・生誕ブロマイド\n\n【一般チケット】\n・生誕ブロマイド\n【招待チケット】\n・メンバー指定なしチェキ券\n【招待人数特典】\n・2人:写メ券\n※招待は、招待チケットに限らずチケット種類をまたいでの招待も可能です。\n〈例〉一般チケットで1人、招待チケットで2人招待した場合は、3人の招待特典が対象になります。\n◆入場順\nS紙チケ番号順→Sネット番号順→A紙チケ番号順→Aネット番号順→当日券・招待券当日券並び順\n◆セットリスト 当日までお楽しみにお待ちください。だいたい予想通りです、あ、6人で生誕だけのカバー曲やります。\n◆グッズ\n・ももな育て隊加入Tシャツ(さすがに全員)\nhttps://airlview.official.ec/items/83837879\n・アクキー(可愛すぎて無理)\nhttps://airlview.official.ec/items/83837848\n・マドラー(ガチおすすめ)\nhttps://airlview.official.ec/items/83837836\n\n◆こちらの商品は受注生産となります\n◆受付の締切は3月21日23:59となります\n◆会場受取のみの商品となります\n▷お渡しイベント\n・日時　4/7(日)\n・イベント　えあらびゅーpresents Vol.26 ももな生誕祭『ももなのいうことはゼッターイ！』\n・会場　渋谷DESEOmini\n※当日在庫があり次第販売致します。 \n生誕ボランティアスタッフ募集\n企画を手伝って頂ける”生誕ボランティアスタッフ”を募集いたします！\n『生誕ボランティアスタッフをやりたい！』という方は公式までDMをお送りください！\nよろしくお願いいたします！！\nまた、生誕企画についての詳細はサプライズの為、生誕用アカウント（ももなアカウントをブロックいたします）にてお知らせいたします \nももな生誕祭について\nいつもえあらびゅーを応援して頂きありがとうございます！\n生誕イベントはメンバーやスタッフが皆様に感謝を伝え、応援して頂いている全ての方と喜びを共感させて頂く事を趣旨としております。\n上記の趣旨にあわせて様々なことを考慮した上で、今回ももな生誕祭につきまして生誕ボランティアスタッフを募集させて頂き運営と力を合わせてももなをお祝いしたいと思っています！ \n有志企画のお知らせ\n生誕イベント中のメンバー企画以外のサプライズ企画について、お金が絡んでくるものなどにつきましては公式有志で集まった金額をもって開催させていただきます。お客様同士や会場とのトラブルを防止するためご協力をお願いいたします \n【有志期間】\n・フラスタお名前掲載あり　3/24(日)23:59まで\n・フラスタお名前掲載なし　4/6(土)23:59まで \n【有志方法】\nネットもしくは特典会にて\nネット有志は⇒こちらから▶https://t.livepocket.jp/e/airlview-momona2024-yuusi\n特典会有志は⇒有志券をお渡しいたします \n【金額】\n1口 : ¥1\,000\n※譲渡不可、分配不可、第三者との合算不可、複製禁止\n【※一次締切までにご購入いただいた方を対象にスタンドフラワーにお名前を掲載させていただきます】 \n締切など\n▪️一次締切\n特典会→3/24(日)ライブの特典会終了まで\nネット3/24(日)23:59まで\n【※一次締切までにご有志いただいた方を対象にスタンドフラワーにお名前を掲載させていただきます】\n▪️最終締切\n特典会→4/6(土)ラストライブの特典会終了まで\nネット→4/6(土)23:59まで\n▪️掲載サイズ\n　1口→名前(小)\n　3口→名前(中)\n　5口以上→名前(大) \nQ&A よくある質問\nQ. 締切の時点で、有志額が同額の方が複数名いた場合の対象者はどうなりますか？\nA. 先着順でのご案内となります。インターネットでの決済の場合、購入時刻に基づき計算いたします。また、特典会でのご購入の場合、有志券をお渡しいたしますので半券と共に運営で管理しているデータに基づき計算させていただきます。\nQ.サプライズ演出やスタフラに名前掲載など恥ずかしくてしたくないのですが…必ず参加しなければいけませんか？\nA.どちらもご辞退可能です。\nスタフラに名前掲載を希望しない場合は、インターネット決済画面「有志券(名前なし)」をご選択いただきご購入をお願いします。また、特典会でのご購入をご検討の場合はスタッフにお気軽にお声かけください。\nQ.有志したいけど、何に使われるか分からないので迷っています。。\nA.皆さまからご有志いただくものはももな生誕祭開催のためにご利用いたします。ご希望の方は、生誕祭開催後、内訳を記載した明細をお送りいたしますのでえあらびゅー公式XのDMまでお気軽にお申し付けください。\nQ.インターネットで購入したいのですが、有志券は貰えないのでしょうか？？\nA.誠に申し訳ございませんが、有志券は特典会にご来場いただきました方限定でのお渡しとなります。何卒ご了承のほどよろしくお願いいたします。\nQ.インターネットでチケットを購入した場合に、紙のチケットは貰えないのでしょうか？？\nA.誠に申し訳ございませんが、入場チケットは対面販売でのお渡しとなります。何卒ご了承のほどよろしくお願いいたします。\n▶その他ご質問のある方は、えあらびゅー公式XのDMもしくは、特典会スタッフまでお気軽にお声がけくださいませ。\nhttps://twitter.com/airlview
URL:https://hiraeth.tokyo/event/20240407-1/
CATEGORIES:Live
ATTACH;FMTTYPE=image/jpeg:https://hiraeth.tokyo/wp-content/uploads/momona2024-2.jpg
END:VEVENT
END:VCALENDAR