BEGIN:VCALENDAR
VERSION:2.0
PRODID:-//【HIRAETH.Tokyo】(ヒラエス.トーキョー) - ECPv6.11.2//NONSGML v1.0//EN
CALSCALE:GREGORIAN
METHOD:PUBLISH
X-ORIGINAL-URL:https://hiraeth.tokyo
X-WR-CALDESC:【HIRAETH.Tokyo】(ヒラエス.トーキョー) のイベント
REFRESH-INTERVAL;VALUE=DURATION:PT1H
X-Robots-Tag:noindex
X-PUBLISHED-TTL:PT1H
BEGIN:VTIMEZONE
TZID:Asia/Tokyo
BEGIN:STANDARD
TZOFFSETFROM:+0900
TZOFFSETTO:+0900
TZNAME:JST
DTSTART:20240101T000000
END:STANDARD
END:VTIMEZONE
BEGIN:VEVENT
DTSTART;VALUE=DATE:20240413
DTEND;VALUE=DATE:20240414
DTSTAMP:20260421T205327
CREATED:20240327T100554Z
LAST-MODIFIED:20240408T121404Z
UID:9898-1712966400-1713052799@hiraeth.tokyo
SUMMARY:578☆Polaristella vol.7@新宿Zirco Tokyo
DESCRIPTION:▽日にち　4/13(土)\n▽イベント　578☆Polaristella vol.7\n▽予約　https://tiget.net/events/310360\n▽LIVE　18:55～19:15\n▽物販　19:35～20:35 C\n▽会場　新宿Zirco Tokyo\n▽料金　前方3000/一般1500/当日+500/各D別\n▽開場　10:40\n▽イベント時間　10:55\n▽出演　えあらびゅー/As a Cutie Pomeranian/UPローチ/アポストロフィ/EMuLATE/おさんぽ娘/きっとずっと青春。/Quest Ship/SUBJeCT/セカモノ/蒼穹アンブレラ/CHERRY GIRLS PROJECT/Honey Devil/ハレノチ×ハレーション/HALO PALETTE/ヒトノユメ/Pialans/Piuuuu/PHiZZ/flawless POP./FloreRisa-フロレリーサ-/Blancanie/Plumelt/BELL FLORA/ポラリスシンフォニー/My Sugar Light/夢幻のプリューム/
URL:https://hiraeth.tokyo/event/20240413-2/
LOCATION:新宿Zirco Tokyo\, 歌舞伎町1-2-5東陽ビルB2\, 新宿区\, 東京都\, 160-0021\, 日本
CATEGORIES:Live
ATTACH;FMTTYPE=image/jpeg:https://hiraeth.tokyo/wp-content/uploads/44-Polaristella-vol.7-出演者フライヤー.jpg
END:VEVENT
BEGIN:VEVENT
DTSTART;VALUE=DATE:20240413
DTEND;VALUE=DATE:20240414
DTSTAMP:20260421T205327
CREATED:20240316T074811Z
LAST-MODIFIED:20240412T044925Z
UID:9810-1712966400-1713052799@hiraeth.tokyo
SUMMARY:577☆☆IDOLだんじょん!@代官山SPACE ODD
DESCRIPTION:▽日づけ　4/13(土)\n▽イベント　577☆☆IDOLだんじょん!\n▽予約　https://t.livepocket.jp/e/idoldanjyon0413\n▽特典 ペンライトフィルム、噂の暴露冊子、星2ラリーカード適用\n▽初回&3回目まで特典プレゼント中🎁\nしかも、今なら初回がじゃんけんでサイン付きにランクアップチャンス中✨\n初回:チェキ1枚プレゼント！\n2回目のライブ:サイン付きチェキ1枚\n3回目のライブ:チェキ2枚\n※公式&メンバーXフォローをお願いします！\n▽LIVE　13:20～13:45\n▽物販　13:55～14:55 A\n▽会場　代官山SPACE ODD\n▽料金　前売3000/前売女性1000/当日+500/各D別\n▽開場　11:30\n▽イベント時間　12:00～（仮）\n▽出演　えあらびゅー/Alice Stella/utatane/Genesis Girl/すたーちす/ZeroProject/ドリームパスポート/遥か、彼方/ビビッときたかも/みらくるふぉーぜ/メインタイトル/chuuum/アイドル革命/コノサキモ隣二/整形アイドルプロジェクト/
URL:https://hiraeth.tokyo/event/20240413-1/
LOCATION:代官山SPACE ODD\, 猿楽町2-11 B1.B2 氷川ビル\, 渋谷区\, 東京都\, 150-0033\, 日本
CATEGORIES:Live
ATTACH;FMTTYPE=image/jpeg:https://hiraeth.tokyo/wp-content/uploads/IDOLだんじょん！20240413-scaled.jpg
END:VEVENT
END:VCALENDAR