BEGIN:VCALENDAR
VERSION:2.0
PRODID:-//【HIRAETH.Tokyo】(ヒラエス.トーキョー) - ECPv6.11.2//NONSGML v1.0//EN
CALSCALE:GREGORIAN
METHOD:PUBLISH
X-ORIGINAL-URL:https://hiraeth.tokyo
X-WR-CALDESC:【HIRAETH.Tokyo】(ヒラエス.トーキョー) のイベント
REFRESH-INTERVAL;VALUE=DURATION:PT1H
X-Robots-Tag:noindex
X-PUBLISHED-TTL:PT1H
BEGIN:VTIMEZONE
TZID:Asia/Tokyo
BEGIN:STANDARD
TZOFFSETFROM:+0900
TZOFFSETTO:+0900
TZNAME:JST
DTSTART:20240101T000000
END:STANDARD
END:VTIMEZONE
BEGIN:VEVENT
DTSTART;VALUE=DATE:20240414
DTEND;VALUE=DATE:20240415
DTSTAMP:20260421T205328
CREATED:20240404T195448Z
LAST-MODIFIED:20240414T113026Z
UID:9991-1713052800-1713139199@hiraeth.tokyo
SUMMARY:585☆CUTE CANVAS BEST9@五反田G6
DESCRIPTION:▽日にち　4/14(日)\n▽イベント　585☆CUTE CANVAS BEST9\n▽予約　https://t.livepocket.jp/e/wnluu\n▽LIVE　21:35〜21:55\n▽物販　21:55〜22:55\n▽会場　	五反田G6\n▽料金　前売前方3000/前売一般2000/当日+700/各D別\n▽開場　16:00\n▽イベント時間　16:15\n▽出演　えあらびゅー/プリズムハート/Bety/青山Rabness/.BPM/ららぱれーど！/ぴぴぴくせる/アフレリア/Little Echo/はいうぃろう。/Blossom Garden/Misty Syrena/SKY✖️RAINBOW/deeper²/パステルホログラム/ニチカイ研修生/
URL:https://hiraeth.tokyo/event/20240414-3/
LOCATION:五反田G6\, 西五反田2-6-3 東洋ビルB1階\, 品川区\, 東京都\, 141-0031\, 日本
CATEGORIES:Live
ATTACH;FMTTYPE=image/jpeg:https://hiraeth.tokyo/wp-content/uploads/S__11567272_0.jpg
END:VEVENT
BEGIN:VEVENT
DTSTART;VALUE=DATE:20240414
DTEND;VALUE=DATE:20240415
DTSTAMP:20260421T205328
CREATED:20240413T170518Z
LAST-MODIFIED:20240414T110341Z
UID:10060-1713052800-1713139199@hiraeth.tokyo
SUMMARY:583えあらびゅー路上ライブ@目黒
DESCRIPTION:▽日時　4/14(日)\n▽イベント　583えあらびゅー路上ライブ\n▽路上LIVE 18:30~19:00\n▽特典会 19:00~19:15\n▽メンバー きこ、ひなた、にあ\n▽予定地　目黒駅西口付近\n▽定点配信　https://mixch.tv/u/17339228 \n※路上ライブの時間と場所及び内容が若干変更になる場合がございます。変更時にはメンバーのXよりポストさせて頂きます。また、雨天時は天候の変化により開催ができそうな場合にはギリギリのお知らせになってしまう場合がございます。なるべく早くお知らせする様に努めてまいります。ライブ自体が難しい場合にはビラ配りに変更する場合がございます。\n※駅間の移動は徒歩ではございません。 \n#えあらびゅー #路上ライブ #ストリートライブ\n—-\n〈〈 渋谷〜五反田PRツアー 〉〉 \n2月3日に6回し路上ライブ弾丸ツアー(横浜、川崎、溝口、二子玉川河川敷、原宿、新宿x2)からはや二ヶ月が経ちましたが、またやりますッ🔥 \n今回は”7回し”です‼️\n◆ツアー日:4/14(日) \n◆渋谷1\n▽場所　渋谷DESEOmini\n▽LIVE　10:45～11:05\n▽物販　11:10～12:10\n🧍‍♀️ ももな、きこ、ひなた、にあ、みーな\n▽予約　https://t.livepocket.jp/e/i__7g \n◆渋谷2\n▽場所　渋谷東急プラザ前歩道橋付近\n▽路上LIVE 14:45~15:15\n▽特典会 15:15~15:30\n🧍‍♀️ももな、きこ、ひなた、にあ、みーな \n◆渋谷3\n▽場所　渋谷モヤイ像前付近\n▽路上LIVE 15:45~16:15\n▽特典会 16:15~16:30\n🧍‍♀️きこ、ひなた、にあ、みーな途中まで \n◆恵比寿\n▽場所　恵比寿西口広場付近\n▽路上LIVE 17:00~17:30\n▽特典会 17:30~17:45\n🧍‍♀️きこ、ひなた、にあ \n◆目黒\n▽場所　目黒西口付近\n▽路上LIVE 18:30~19:00\n▽特典会 19:00~19:15\n🧍‍♀️きこ、ひなた、にあ、(途中参加みーな) \n◆五反田1\n▽場所　五反田駅前付近\n▽路上LIVE 19:45~20:15\n▽特典会 20:15~20:30\n🧍‍♀️きこ、ひなた、にあ、みーな \n◆五反田2\n▽場所　五反田G6\n▽LIVE　21:35〜21:55\n▽物販　21:55〜22:55\n🧍‍♀️ももな、きこ、ひなた、にあ、みーな\n▽予約　https://t.livepocket.jp/e/wnluu \n※路上ライブの時間と場所及び内容が若干変更になる場合がございます。変更時にはメンバーのXよりポストさせて頂きます。また、雨天時は天候の変化により開催ができそうな場合にはギリギリのお知らせになってしまう場合がございます。なるべく早くお知らせする様に努めてまいります。ライブ自体が難しい場合にはビラ配りに変更する場合がございます。\n※駅間の移動は徒歩ではございません。
URL:https://hiraeth.tokyo/event/20240414-7/
CATEGORIES:Live
ATTACH;FMTTYPE=image/png:https://hiraeth.tokyo/wp-content/uploads/7回し！！！！！！！.png
END:VEVENT
BEGIN:VEVENT
DTSTART;VALUE=DATE:20240414
DTEND;VALUE=DATE:20240415
DTSTAMP:20260421T205328
CREATED:20240413T165836Z
LAST-MODIFIED:20240414T112323Z
UID:10055-1713052800-1713139199@hiraeth.tokyo
SUMMARY:582えあらびゅー路上ライブ@恵比寿
DESCRIPTION:▽日時　4/14(日)\n▽イベント　582えあらびゅー路上ライブ\n▽路上LIVE 17:00~17:30\n▽特典会 17:30~17:45\n▽メンバー きこ、ひなた、にあ\n▽予定地　恵比寿付近\n▽定点配信　https://mixch.tv/u/17339228 \n※路上ライブの時間と場所及び内容が若干変更になる場合がございます。変更時にはメンバーのXよりポストさせて頂きます。また、雨天時は天候の変化により開催ができそうな場合にはギリギリのお知らせになってしまう場合がございます。なるべく早くお知らせする様に努めてまいります。ライブ自体が難しい場合にはビラ配りに変更する場合がございます。\n※駅間の移動は徒歩ではございません。 \n#えあらびゅー #路上ライブ #ストリートライブ\n—-\n〈〈 渋谷〜五反田PRツアー 〉〉 \n2月3日に6回し路上ライブ弾丸ツアー(横浜、川崎、溝口、二子玉川河川敷、原宿、新宿x2)からはや二ヶ月が経ちましたが、またやりますッ🔥 \n今回は”7回し”です‼️\n◆ツアー日:4/14(日) \n◆渋谷1\n▽場所　渋谷DESEOmini\n▽LIVE　10:45～11:05\n▽物販　11:10～12:10\n🧍‍♀️ ももな、きこ、ひなた、にあ、みーな\n▽予約　https://t.livepocket.jp/e/i__7g \n◆渋谷2\n▽場所　渋谷東急プラザ前歩道橋付近\n▽路上LIVE 14:45~15:15\n▽特典会 15:15~15:30\n🧍‍♀️ももな、きこ、ひなた、にあ、みーな \n◆渋谷3\n▽場所　渋谷モヤイ像前付近\n▽路上LIVE 15:45~16:15\n▽特典会 16:15~16:30\n🧍‍♀️きこ、ひなた、にあ、みーな途中まで \n◆恵比寿\n▽場所　恵比寿西口広場付近\n▽路上LIVE 17:00~17:30\n▽特典会 17:30~17:45\n🧍‍♀️きこ、ひなた、にあ \n◆目黒\n▽場所　目黒西口付近\n▽路上LIVE 18:30~19:00\n▽特典会 19:00~19:15\n🧍‍♀️きこ、ひなた、にあ、(途中参加みーな) \n◆五反田1\n▽場所　五反田駅前付近\n▽路上LIVE 19:45~20:15\n▽特典会 20:15~20:30\n🧍‍♀️きこ、ひなた、にあ、みーな \n◆五反田2\n▽場所　五反田G6\n▽LIVE　21:35〜21:55\n▽物販　21:55〜22:55\n🧍‍♀️ももな、きこ、ひなた、にあ、みーな\n▽予約　https://t.livepocket.jp/e/wnluu \n※路上ライブの時間と場所及び内容が若干変更になる場合がございます。変更時にはメンバーのXよりポストさせて頂きます。また、雨天時は天候の変化により開催ができそうな場合にはギリギリのお知らせになってしまう場合がございます。なるべく早くお知らせする様に努めてまいります。ライブ自体が難しい場合にはビラ配りに変更する場合がございます。\n※駅間の移動は徒歩ではございません。
URL:https://hiraeth.tokyo/event/20240414-6/
CATEGORIES:Live
ATTACH;FMTTYPE=image/png:https://hiraeth.tokyo/wp-content/uploads/7回し！！！！！！！.png
END:VEVENT
BEGIN:VEVENT
DTSTART;VALUE=DATE:20240414
DTEND;VALUE=DATE:20240415
DTSTAMP:20260421T205328
CREATED:20240412T141518Z
LAST-MODIFIED:20240414T112419Z
UID:10052-1713052800-1713139199@hiraeth.tokyo
SUMMARY:581えあらびゅー路上ライブ@渋谷3
DESCRIPTION:▽日時　4/14(日)\n▽イベント　581えあらびゅー路上ライブ\n▽路上LIVE 15:45~16:15(予定)\n▽特典会 16:15~16:30(予定)\n▽メンバー きこ、ひなた、にあ、みーな途中まで(予定)\n▽予定地　渋谷モヤイ像付近\n▽定点配信　https://mixch.tv/u/17339228 \n※路上ライブの時間と場所及び内容が若干変更になる場合がございます。変更時にはメンバーのXよりポストさせて頂きます。また、雨天時は天候の変化により開催ができそうな場合にはギリギリのお知らせになってしまう場合がございます。なるべく早くお知らせする様に努めてまいります。ライブ自体が難しい場合にはビラ配りに変更する場合がございます。\n※駅間の移動は徒歩ではございません。 \n#えあらびゅー #路上ライブ #ストリートライブ\n—-\n〈〈 渋谷〜五反田PRツアー 〉〉 \n2月3日に6回し路上ライブ弾丸ツアー(横浜、川崎、溝口、二子玉川河川敷、原宿、新宿x2)からはや二ヶ月が経ちましたが、またやりますッ🔥 \n今回は”7回し”です‼️\n◆ツアー日:4/14(日) \n◆渋谷1\n▽場所　渋谷DESEOmini\n▽LIVE　10:45～11:05\n▽物販　11:10～12:10\n🧍‍♀️ ももな、きこ、ひなた、にあ、みーな\n▽予約　https://t.livepocket.jp/e/i__7g \n◆渋谷2\n▽場所　渋谷東急プラザ前歩道橋付近\n▽路上LIVE 14:45~15:15\n▽特典会 15:15~15:30\n🧍‍♀️ももな、きこ、ひなた、にあ、みーな \n◆渋谷3\n▽場所　渋谷モヤイ像前付近\n▽路上LIVE 15:45~16:15\n▽特典会 16:15~16:30\n🧍‍♀️きこ、ひなた、にあ、みーな途中まで \n◆恵比寿\n▽場所　恵比寿西口広場付近\n▽路上LIVE 17:00~17:30\n▽特典会 17:30~17:45\n🧍‍♀️きこ、ひなた、にあ \n◆目黒\n▽場所　目黒西口付近\n▽路上LIVE 18:30~19:00\n▽特典会 19:00~19:15\n🧍‍♀️きこ、ひなた、にあ、(途中参加みーな) \n◆五反田1\n▽場所　五反田駅前付近\n▽路上LIVE 19:45~20:15\n▽特典会 20:15~20:30\n🧍‍♀️きこ、ひなた、にあ、みーな \n◆五反田2\n▽場所　五反田G6\n▽LIVE　21:35〜21:55\n▽物販　21:55〜22:55\n🧍‍♀️ももな、きこ、ひなた、にあ、みーな\n▽予約　https://t.livepocket.jp/e/wnluu \n※路上ライブの時間と場所及び内容が若干変更になる場合がございます。変更時にはメンバーのXよりポストさせて頂きます。また、雨天時は天候の変化により開催ができそうな場合にはギリギリのお知らせになってしまう場合がございます。なるべく早くお知らせする様に努めてまいります。ライブ自体が難しい場合にはビラ配りに変更する場合がございます。\n※駅間の移動は徒歩ではございません。
URL:https://hiraeth.tokyo/event/20240414-5/
CATEGORIES:Live
ATTACH;FMTTYPE=image/png:https://hiraeth.tokyo/wp-content/uploads/7回し！！！！！！！.png
END:VEVENT
BEGIN:VEVENT
DTSTART;VALUE=DATE:20240414
DTEND;VALUE=DATE:20240415
DTSTAMP:20260421T205328
CREATED:20240412T141100Z
LAST-MODIFIED:20240414T112837Z
UID:10048-1713052800-1713139199@hiraeth.tokyo
SUMMARY:580えあらびゅー路上ライブ@渋谷2
DESCRIPTION:▽日時　4/14(日)\n▽イベント　580えあらびゅー路上ライブ\n▽路上LIVE 14:45~15:15\n▽特典会 15:15~15:30\n▽メンバー ももな、きこ、ひなた、にあ、みーな\n▽予定地　渋谷東急プラザ前歩道橋付近\n▽定点配信　https://mixch.tv/u/17339228 \n※路上ライブの時間と場所及び内容が若干変更になる場合がございます。変更時にはメンバーのXよりポストさせて頂きます。また、雨天時は天候の変化により開催ができそうな場合にはギリギリのお知らせになってしまう場合がございます。なるべく早くお知らせする様に努めてまいります。ライブ自体が難しい場合にはビラ配りに変更する場合がございます。\n※駅間の移動は徒歩ではございません。 \n#えあらびゅー #路上ライブ #ストリートライブ\n—-\n〈〈 渋谷〜五反田PRツアー 〉〉 \n2月3日に6回し路上ライブ弾丸ツアー(横浜、川崎、溝口、二子玉川河川敷、原宿、新宿x2)からはや二ヶ月が経ちましたが、またやりますッ🔥 \n今回は”7回し”です‼️\n◆ツアー日:4/14(日) \n◆渋谷1\n▽場所　渋谷DESEOmini\n▽LIVE　10:45～11:05\n▽物販　11:10～12:10\n🧍‍♀️ ももな、きこ、ひなた、にあ、みーな\n▽予約　https://t.livepocket.jp/e/i__7g \n◆渋谷2\n▽場所　渋谷東急プラザ前歩道橋付近\n▽路上LIVE 14:45~15:15\n▽特典会 15:15~15:30\n🧍‍♀️ももな、きこ、ひなた、にあ、みーな \n◆渋谷3\n▽場所　渋谷モヤイ像前付近\n▽路上LIVE 15:45~16:15\n▽特典会 16:15~16:30\n🧍‍♀️きこ、ひなた、にあ、みーな途中まで \n◆恵比寿\n▽場所　恵比寿西口広場付近\n▽路上LIVE 17:00~17:30\n▽特典会 17:30~17:45\n🧍‍♀️きこ、ひなた、にあ \n◆目黒\n▽場所　目黒西口付近\n▽路上LIVE 18:30~19:00\n▽特典会 19:00~19:15\n🧍‍♀️きこ、ひなた、にあ、(途中参加みーな) \n◆五反田1\n▽場所　五反田駅前付近\n▽路上LIVE 19:45~20:15\n▽特典会 20:15~20:30\n🧍‍♀️きこ、ひなた、にあ、みーな \n◆五反田2\n▽場所　五反田G6\n▽LIVE　21:35〜21:55\n▽物販　21:55〜22:55\n🧍‍♀️ももな、きこ、ひなた、にあ、みーな\n▽予約　https://t.livepocket.jp/e/wnluu \n※路上ライブの時間と場所及び内容が若干変更になる場合がございます。変更時にはメンバーのXよりポストさせて頂きます。また、雨天時は天候の変化により開催ができそうな場合にはギリギリのお知らせになってしまう場合がございます。なるべく早くお知らせする様に努めてまいります。ライブ自体が難しい場合にはビラ配りに変更する場合がございます。\n※駅間の移動は徒歩ではございません。
URL:https://hiraeth.tokyo/event/20240414-4/
CATEGORIES:Live
ATTACH;FMTTYPE=image/png:https://hiraeth.tokyo/wp-content/uploads/7回し！！！！！！！.png
END:VEVENT
BEGIN:VEVENT
DTSTART;VALUE=DATE:20240414
DTEND;VALUE=DATE:20240415
DTSTAMP:20260421T205328
CREATED:20240326T031252Z
LAST-MODIFIED:20240408T122624Z
UID:9888-1713052800-1713139199@hiraeth.tokyo
SUMMARY:579☆☆コズミックリライト-新体制お披露目-@渋谷DESEO mini
DESCRIPTION:▽日にち　4/14(日)\n▽イベント　579☆☆コズミックリライト-新体制お披露目-\n▽予約　https://t.livepocket.jp/e/i__7g\n▽LIVE　10:45～11:05\n▽物販　11:10～12:10\n▽会場　渋谷DESEO mini\n▽料金　前売S5000/前売一般500/各D別\n▽開場　10:00\n▽イベント時間　10:25〜14:30予定\n▽出演　えあらびゅー/Cosmo et Cute/いんたーねっと革命/えくすくらめーしょん/ビビッときたかも/他
URL:https://hiraeth.tokyo/event/20240414-1/
LOCATION:渋谷DESEOmini\, 道玄坂2-13-5 ハーベストビルディング2F\, 渋谷区\, 東京都\, 150-0043\, 日本
CATEGORIES:Live
ATTACH;FMTTYPE=image/png:https://hiraeth.tokyo/wp-content/uploads/32D22D3D-8105-4C0A-AF07-53518A658BE9-1.png
END:VEVENT
BEGIN:VEVENT
DTSTART;VALUE=DATE:20240414
DTEND;VALUE=DATE:20240415
DTSTAMP:20260421T205328
CREATED:20240413T171051Z
LAST-MODIFIED:20240414T112940Z
UID:10062-1713052800-1713139199@hiraeth.tokyo
SUMMARY:584えあらびゅー路上ライブ@五反田1
DESCRIPTION:▽日時　4/14(日)\n▽イベント　584えあらびゅー路上ライブ\n▽路上LIVE 19:45~20:15\n▽特典会 20:15~20:30\n▽メンバー きこ、ひなた、にあ、みーな\n▽予定地　五反田駅前付近\n▽定点配信　https://mixch.tv/u/17339228 \n※路上ライブの時間と場所及び内容が若干変更になる場合がございます。変更時にはメンバーのXよりポストさせて頂きます。また、雨天時は天候の変化により開催ができそうな場合にはギリギリのお知らせになってしまう場合がございます。なるべく早くお知らせする様に努めてまいります。ライブ自体が難しい場合にはビラ配りに変更する場合がございます。\n※駅間の移動は徒歩ではございません。 \n#えあらびゅー #路上ライブ #ストリートライブ\n—-\n〈〈 渋谷〜五反田PRツアー 〉〉 \n2月3日に6回し路上ライブ弾丸ツアー(横浜、川崎、溝口、二子玉川河川敷、原宿、新宿x2)からはや二ヶ月が経ちましたが、またやりますッ🔥 \n今回は”7回し”です‼️\n◆ツアー日:4/14(日) \n◆渋谷1\n▽場所　渋谷DESEOmini\n▽LIVE　10:45～11:05\n▽物販　11:10～12:10\n🧍‍♀️ ももな、きこ、ひなた、にあ、みーな\n▽予約　https://t.livepocket.jp/e/i__7g \n◆渋谷2\n▽場所　渋谷東急プラザ前歩道橋付近\n▽路上LIVE 14:45~15:15\n▽特典会 15:15~15:30\n🧍‍♀️ももな、きこ、ひなた、にあ、みーな \n◆渋谷3\n▽場所　渋谷モヤイ像前付近\n▽路上LIVE 15:45~16:15\n▽特典会 16:15~16:30\n🧍‍♀️きこ、ひなた、にあ、みーな途中まで \n◆恵比寿\n▽場所　恵比寿西口広場付近\n▽路上LIVE 17:00~17:30\n▽特典会 17:30~17:45\n🧍‍♀️きこ、ひなた、にあ \n◆目黒\n▽場所　目黒西口付近\n▽路上LIVE 18:30~19:00\n▽特典会 19:00~19:15\n🧍‍♀️きこ、ひなた、にあ、(途中参加みーな) \n◆五反田1\n▽場所　五反田駅前付近\n▽路上LIVE 19:45~20:15\n▽特典会 20:15~20:30\n🧍‍♀️きこ、ひなた、にあ、みーな \n◆五反田2\n▽場所　五反田G6\n▽LIVE　21:35〜21:55\n▽物販　21:55〜22:55\n🧍‍♀️ももな、きこ、ひなた、にあ、みーな\n▽予約　https://t.livepocket.jp/e/wnluu \n※路上ライブの時間と場所及び内容が若干変更になる場合がございます。変更時にはメンバーのXよりポストさせて頂きます。また、雨天時は天候の変化により開催ができそうな場合にはギリギリのお知らせになってしまう場合がございます。なるべく早くお知らせする様に努めてまいります。ライブ自体が難しい場合にはビラ配りに変更する場合がございます。\n※駅間の移動は徒歩ではございません。
URL:https://hiraeth.tokyo/event/20240414-8/
CATEGORIES:Live
ATTACH;FMTTYPE=image/png:https://hiraeth.tokyo/wp-content/uploads/7回し！！！！！！！.png
END:VEVENT
END:VCALENDAR