BEGIN:VCALENDAR
VERSION:2.0
PRODID:-//【HIRAETH.Tokyo】(ヒラエス.トーキョー) - ECPv6.11.2//NONSGML v1.0//EN
CALSCALE:GREGORIAN
METHOD:PUBLISH
X-WR-CALNAME:【HIRAETH.Tokyo】(ヒラエス.トーキョー)
X-ORIGINAL-URL:https://hiraeth.tokyo
X-WR-CALDESC:【HIRAETH.Tokyo】(ヒラエス.トーキョー) のイベント
REFRESH-INTERVAL;VALUE=DURATION:PT1H
X-Robots-Tag:noindex
X-PUBLISHED-TTL:PT1H
BEGIN:VTIMEZONE
TZID:Asia/Tokyo
BEGIN:STANDARD
TZOFFSETFROM:+0900
TZOFFSETTO:+0900
TZNAME:JST
DTSTART:20240101T000000
END:STANDARD
END:VTIMEZONE
BEGIN:VEVENT
DTSTART;VALUE=DATE:20240424
DTEND;VALUE=DATE:20240425
DTSTAMP:20260421T205129
CREATED:20240422T193110Z
LAST-MODIFIED:20240425T144938Z
UID:10127-1713916800-1714003199@hiraeth.tokyo
SUMMARY:中止えあらびゅー路上ライブ@新宿
DESCRIPTION:▽日時　4/24(水)\n▽イベント　中止えあらびゅー路上ライブ\n▽路上LIVE 19:00~20:00\n▽特典会\n▽メンバー ももな、きこ、ひなた、にあ\n▽予定地　新宿東急歌舞伎町タワー(和牛特区前)\n▽定点配信　https://mixch.tv/u/17339228 \n※路上ライブの時間と場所及び内容が若干変更になる場合がございます。変更時にはメンバーのXよりポストさせて頂きます。また、雨天時は天候の変化により開催ができそうな場合にはギリギリのお知らせになってしまう場合がございます。なるべく早くお知らせする様に努めてまいります。ライブ自体が難しい場合にはビラ配りに変更する場合がございます。\n※駅間の移動は徒歩ではございません。 \n#えあらびゅー #路上ライブ #ストリートライブ\n—- \n※路上ライブの時間と場所及び内容が若干変更になる場合がございます。変更時にはメンバーのXよりポストさせて頂きます。また、雨天時は天候の変化により開催ができそうな場合にはギリギリのお知らせになってしまう場合がございます。なるべく早くお知らせする様に努めてまいります。ライブ自体が難しい場合にはビラ配りに変更する場合がございます。\n※駅間の移動は徒歩ではございません。
URL:https://hiraeth.tokyo/event/20240424-1/
LOCATION:新宿東急歌舞伎町タワー(和牛特区前)\, 歌舞伎町1-29-1\, 新宿区\, 東京都\, 160-0021
CATEGORIES:Live
ATTACH;FMTTYPE=image/jpeg:https://hiraeth.tokyo/wp-content/uploads/IMG_7937.jpeg
END:VEVENT
END:VCALENDAR