BEGIN:VCALENDAR
VERSION:2.0
PRODID:-//【HIRAETH.Tokyo】(ヒラエス.トーキョー) - ECPv6.11.2//NONSGML v1.0//EN
CALSCALE:GREGORIAN
METHOD:PUBLISH
X-WR-CALNAME:【HIRAETH.Tokyo】(ヒラエス.トーキョー)
X-ORIGINAL-URL:https://hiraeth.tokyo
X-WR-CALDESC:【HIRAETH.Tokyo】(ヒラエス.トーキョー) のイベント
REFRESH-INTERVAL;VALUE=DURATION:PT1H
X-Robots-Tag:noindex
X-PUBLISHED-TTL:PT1H
BEGIN:VTIMEZONE
TZID:Asia/Tokyo
BEGIN:STANDARD
TZOFFSETFROM:+0900
TZOFFSETTO:+0900
TZNAME:JST
DTSTART:20240101T000000
END:STANDARD
END:VTIMEZONE
BEGIN:VEVENT
DTSTART;VALUE=DATE:20240427
DTEND;VALUE=DATE:20240428
DTSTAMP:20260421T205129
CREATED:20240328T204057Z
LAST-MODIFIED:20240426T094130Z
UID:9914-1714176000-1714262399@hiraeth.tokyo
SUMMARY:591☆☆"MARQUEE祭mini に来てくれてありがとう無銭祭"えあらびゅーpresents Vol.27@品川J‐SQUARE SHINAGAWA
DESCRIPTION:MARQUEE祭限定オリジナル曲”Hajimari”がついにカラオケに！?\nMARQUEE祭ご来場感謝&HajimariのMV初公開！！ \n▽日にち　4/27(土)\n▽イベント　591☆☆”MARQUEE祭mini に来てくれてありがとう無銭祭”えあらびゅーpresents Vol.27\n▽予約　https://t.livepocket.jp/e/airlview20240427-1\n※受付日時　2024/4/3(水) 12:00 〜 2024/4/27(土) 18:30\n▽LIVE　18:40〜19:00\n▽物販　19:15〜19:55\n▽会場　品川J‐SQUARE SHINAGAWA\n▽料金　前売S0円/前売A500円/当日+500/各D別※Sチケットはマーキー祭ご来場の方のみ購入可能\n▽開場　18:30\n▽イベント時間　\n▽出演　えあらびゅー\n▽タイムテーブル\n18:30オープン\n18:40～18:50 カラオケ(ももなあみなチーム1曲、きこひなたにあチーム1曲)歌う曲はアンケートで決定！\n18:50〜19:00　ライブ\n19:00〜19:05　HajimariのMV初公開※撮影禁止\n19:05～19:55　特典会\n19:55 退出\n▽入場順\n前売Sチケット番号順→前売Aチケット番号順→当日S、A並び順 \n▽Q＆A\nー・－・－・－・ー・－・－・－・ー・－・－・－・\nQ：このイベントは無銭イベントですか？\nA：Sチケットを前売で購入された方が無料になるイベントです\nSチケットは0円、Aチケットは500円、当日購入の場合は＋500円です。※ドリンク代別 \nー・－・－・－・ー・－・－・－・ー・－・－・－・\nQ：Sチケットを無料で購入できる条件はありますか？\nA：4月20日にえあらびゅーが出演するMARQUEE祭miniにご来場頂いたお客様が購入できます。4月27日品川J‐SQUARE SHINAGAWAへお越しの際にMARQUEE祭miniへご来場頂いた事が分かるものをお持ちください（紙チケット、メール、eplusの購入ページなど） \nー・－・－・－・ー・－・－・－・ー・－・－・－・\nQ：MARQUEE祭miniの特典会時などに購入案内がもらえたり、Sチケットがもらえるのでしょうか？\nA：事前に下記ページにてご予約下さい。当日MARQUEE祭にご来場頂いた事が分かるものを確認させていただく場合がございます。\n▽予約　https://t.livepocket.jp/e/airlview20240427-1\n※受付日時 2024/4/3(水) 12:00 〜 2024/4/27(土) 18:30 \nー・－・－・－・ー・－・－・－・ー・－・－・－・\nQ:チケットに番号ついているのか？\nA：ライブポケットが整理番号順のチケットとなっております。\nソシャールディスタンス仕様で100名以上が入場できる会場となっておりますのでご安心ください。 \nー・－・－・－・ー・－・－・－・ー・－・－・－・\nQ：ライポケの番号が入場順でしょうか？\nA：入場順は以下の通りとなっております。\n前売Sチケット番号順→前売Aチケット番号順→当日S、A並び順 \nー・－・－・－・ー・－・－・－・ー・－・－・－・\nQ：MARQUEE行けなくても27日行ってもいいのか？\nA：もちろんご来場ください！MARQUEE祭miniにご来場頂いた方がご予約した場合に無料のSチケットが購入できますが、MARQUEE祭miniにご来場していないお客様が事前に購入できるAチケットや、当日券もご用意しております。 \nー・－・－・－・ー・－・－・－・ー・－・－・－・\nイベントページ \n591☆☆”MARQUEE祭mini に来てくれてありがとう無銭祭”えあらびゅーpresents Vol.27@品川J‐SQUARE SHINAGAWA \n \nー・－・－・－・ー・－・－・－・ー・－・－・－・\n予約ページ\nhttps://t.livepocket.jp/e/airlview20240427-1 \nー・－・－・－・ー・－・－・－・ー・－・－・－・
URL:https://hiraeth.tokyo/event/20240427-1/
LOCATION:品川J‐SQUARE SHINAGAWA\, 港南2-5-12 JOYSOUND品川港南口店2F\, 港区\, 東京都\, 108-0075\, 日本
CATEGORIES:Live
ATTACH;FMTTYPE=image/png:https://hiraeth.tokyo/wp-content/uploads/MARQUEE祭miniに-来てくれてありがとう-無銭祭.png
END:VEVENT
BEGIN:VEVENT
DTSTART;VALUE=DATE:20240427
DTEND;VALUE=DATE:20240428
DTSTAMP:20260421T205129
CREATED:20240423T214856Z
LAST-MODIFIED:20240426T132556Z
UID:10144-1714176000-1714262399@hiraeth.tokyo
SUMMARY:590☆☆Falench.×Charm Poche×えあらびゅー@渋谷TAKE OFF7
DESCRIPTION:▽日にち　4/27(土)\n▽イベント　590☆☆Falench.×Charm Poche×えあらびゅー\n▽予約　https://t.livepocket.jp/e/takeoff0427\n4月25日(木)22:00発売開始\n▽LIVE　11:00～11:30\n▽物販　12:50～14:00\n▽会場　渋谷TAKE OFF7\n▽料金　優先2500/通常1500/当日2000/各D代別\n▽開場　10:45\n▽イベント時間　11:00(予定)\n▽出演　えあらびゅー/Falench./Charm Poche/他\n▽入場順：①優先整理番号順②通常整理番号順③当日券整理順
URL:https://hiraeth.tokyo/event/20240427-2/
LOCATION:渋谷TAKE OFF7\, 宇田川町32-12 アソルティ渋谷B1\, 渋谷区\, 東京都\, 150-0042\, 日本
CATEGORIES:Live
ATTACH;FMTTYPE=image/png:https://hiraeth.tokyo/wp-content/uploads/27-フライヤー.png
END:VEVENT
END:VCALENDAR